Workbook

Sheet Giocatori
B1: OPEN | C1: TEAM | D1: GIRONE | F1: VETERAN | G1: TEAM | H1: GIRONE | J1: U-15 | K1: TEAM | L1: GIRONE
B2: DI VINCENZO | D2: Girone 1 | F2: MASTRANTUONO | H2: GIRONE 1 | J2: TAMBURRI | L2: Girone 1
B3: VANELLI | F3: GIAMBELLUCA | J3: ESPOSTO
F4: NAPPA | J4: PISCOPO
B5: NERI | J5: GIUDICE
B6: PATRUNO G | D6: Girone 2 | F6: ALESSI | H6: GIRONE 2
B7: PETRINI | F7: ARCA
B8: DOGALI | F8: SCATAMACCHIA
B9: INTRA
B10: CANICCHIO | D10: Girone 3 | F10: MATTIANGELI | H10: GIRONE 3 | J10: U-12 | K10: TEAM | L10: GIRONE
B11: OTTONE | F11: MARINUCCI
B12: PUCCI | F12: BRESSI
J13: GIUDICE | K13: 40 | L13: GIRONE 1
B14: GASPARINI | D14: Girone 4 | F14: SANTANICCHIA | H14: GIRONE 4 | J14: DE ANGELIS
B15: IFRIGERIO | F15: DI VITO R.
B16: BUSCH | F16: DI FRANCESCO
B17: TARTARELLI | F17: OGNO
B18: BERTELLI D | D18: Girone 5
B19: CIABATTONI
B20: CASANOVA
B21: DE FRANCESCO A
B22: SCHIAVONE | D22: Girone 6
B23: PANEBIANCO
B24: PISCOPO
B25: TAGLIAFERRI S.
B26: MANGANELLO M | D26: Girone 7
B27: SILVESTRI GIU.
B28: GIANNARELLI
B29: TAGLIEFERRI D.
B30: LICHERI | D30: Girone 8
B31: MANGANELLO A
B32: FUCCI
B33: CICCOLINI
B34: NASTASI | D34: Girone 9
B35: SALVATI
B36: DE FRANCESCO S
B37: RICCIO
B38: RUSSO | D38: Girone 10
B39: APOLLO
B40: DI VITO M.
...

Sheet Open
A1: GIRONE 1
A2: CLASSIFICA | B2: Punti | C2: GF | D2: GS | E2: DR | G2: PARTITE | K2: ARBITRO
A3: =Giocatori!B2 -> DI VINCENZO | B3: =SUM(IF(I3>J3,3,IF(I3=J3,1,0)),IF(I5>J5,3,IF(I5=J5,1,0)),IF(I7>J7,3,IF(I7=J7,1,0))) -> 7 | C3: =I3+I5+I7 -> 9 | D3: =J3+J4 -> 2 | E3: =C3-D3 -> 7 | G3: =A3 -> DI VINCENZO | H3: =A5 -> PATRUNO | I3: 5 | J3: 0 | M3: 1A | N3: VANELLI
A4: =Giocatori!B3 -> VANELLI | B4: =SUM(IF(I4>J4,3,IF(I4=J4,1,0)),IF(I6>J6,3,IF(I6=J6,1,0)),IF(J7>I7,3,IF(J7=I7,1,0))) -> 7 | C4: =I4+I6+J7 -> 10 | D4: =I4+J5 -> 6 | E4: =C4-D4 -> 4 | G4: =A4 -> VANELLI | H4: =A6 -> NERI | I4: 5 | J4: 2 | M4: 1B | N4: DI VINCENZO
A5: PATRUNO | B5: =SUM(IF(J3>I3,3,IF(J3=I3,1,0)),IF(J6>I6,3,IF(J6=I6,1,0)),IF(I8>J8,3,IF(I8=J8,1,0))) -> 0 | C5: =J3+J6+I8 -> 0 | D5: =I3+I5 -> 9 | E5: =C5-D5 -> -9 | G5: =A3 -> DI VINCENZO | H5: =A6 -> NERI | I5: 4 | J5: 1 | M5: 1C | N5: NERI
A6: =Giocatori!B5 -> NERI | B6: =SUM(IF(J4>I4,3,IF(J4=I4,1,0)),IF(J5>I5,3,IF(J5=I5,1,0)),IF(J8>I8,3,IF(J8=I8,1,0))) -> 3 | C6: =J4+J5+J8 -> 8 | D6: =I4+I6 -> 10 | E6: =C6-D6 -> -2 | G6: =A4 -> VANELLI | H6: =A5 -> PATRUNO | I6: 5 | J6: 0 | M6: 1D | N6: PATRUNO F FORFAIT
G7: =A3 -> DI VINCENZO | H7: =A4 -> VANELLI | I7: 0 | J7: 0
G8: =A5 -> PATRUNO | H8: =A6 -> NERI | I8: 0 | J8: 5
A11: GIRONE 2
A12: CLASSIFICA | B12: Punti | C12: GF | D12: GS | E12: DR | G12: PARTITE | K12: ARBITRO
A13: =Giocatori!B6 -> PATRUNO G | B13: =SUM(IF(I13>J13,3,IF(I13=J13,1,0)),IF(I15>J15,3,IF(I15=J15,1,0)),IF(I17>J17,3,IF(I17=J17,1,0))) -> 6 | C13: =I13+I15+I17 -> 9 | D13: =J13+J14 -> 5 | E13: =C13-D13 -> 4 | G13: =A13 -> PATRUNO G | H13: =A15 -> DOGALI | I13: 3 | J13: 2 | M13: 2A | N13: INTRA
A14: =Giocatori!B7 -> PETRINI | B14: =SUM(IF(I14>J14,3,IF(I14=J14,1,0)),IF(I16>J16,3,IF(I16=J16,1,0)),IF(J17>I17,3,IF(J17=I17,1,0))) -> 1 | C14: =I14+I16+J17 -> 2 | D14: =I14+J15 -> 3 | E14: =C14-D14 -> -1 | G14: =A14 -> PETRINI | H14: =A16 -> INTRA | I14: 0 | J14: 3 | M14: 2B | N14: PATRUNO G
A15: =Giocatori!B8 -> DOGALI | B15: =SUM(IF(J13>I13,3,IF(J13=I13,1,0)),IF(J16>I16,3,IF(J16=I16,1,0)),IF(I18>J18,3,IF(I18=J18,1,0))) -> 1 | C15: =J13+J16+I18 -> 4 | D15: =I13+I15 -> 3 | E15: =C15-D15 -> 1 | G15: =A13 -> PATRUNO G | H15: =A16 -> INTRA | I15: 0 | J15: 3 | M15: 2C | N15: DOGALI
A16: =Giocatori!B9 -> INTRA | B16: =SUM(IF(J14>I14,3,IF(J14=I14,1,0)),IF(J15>I15,3,IF(J15=I15,1,0)),IF(J18>I18,3,IF(J18=I18,1,0))) -> 9 | C16: =J14+J15+J18 -> 12 | D16: =I14+I16 -> 1 | E16: =C16-D16 -> 11 | G16: =A14 -> PETRINI | H16: =A15 -> DOGALI | I16: 1 | J16: 1 | M16: 2D | N16: PETRINI
G17: =A13 -> PATRUNO G | H17: =A14 -> PETRINI | I17: 6 | J17: 1
G18: =A15 -> DOGALI | H18: =A16 -> INTRA | I18: 1 | J18: 6
A21: GIRONE 3
A22: CLASSIFICA | B22: Punti | C22: GF | D22: GS | E22: DR | G22: PARTITE | K22: ARBITRO
A23: =Giocatori!B10 -> CANICCHIO | B23: =SUM(IF(I23>J23,3,IF(I23=J23,1,0)),IF(I25>J25,3,IF(I25=J25,1,0)),IF(I27>J27,3,IF(I27=J27,1,0))) -> 6 | C23: =I23+I25+I27 -> 9 | D23: =J23+J24 -> 0 | E23: =C23-D23 -> 9 | G23: =A23 -> CANICCHIO | H23: =A25 -> PUCCI | I23: 2 | J23: 0 | M23: 3A | N23: OTTONE
A24: =Giocatori!B11 -> OTTONE | B24: =SUM(IF(I24>J24,3,IF(I24=J24,1,0)),IF(I26>J26,3,IF(I26=J26,1,0)),IF(J27>I27,3,IF(J27=I27,1,0))) -> 7 | C24: =I24+I26+J27 -> 10 | D24: =I24+J25 -> 5 | E24: =C24-D24 -> 5 | G24: =A24 -> OTTONE | H24: =A26 -> BARBINI | I24: 5 | J24: 0 | M24: 3B | N24: CANICCHIO
A25: =Giocatori!B12 -> PUCCI | B25: =SUM(IF(J23>I23,3,IF(J23=I23,1,0)),IF(J26>I26,3,IF(J26=I26,1,0)),IF(I28>J28,3,IF(I28=J28,1,0))) -> 4 | C25: =J23+J26+I28 -> 7 | D25: =I23+I25 -> 7 | E25: =C25-D25 -> 0 | G25: =A23 -> CANICCHIO | H25: =A26 -> BARBINI | I25: 5 | J25: 0 | M25: 3C | N25: PUCCI
A26: BARBINI | B26: =SUM(IF(J24>I24,3,IF(J24=I24,1,0)),IF(J25>I25,3,IF(J25=I25,1,0)),IF(J28>I28,3,IF(J28=I28,1,0))) -> 0 | C26: =J24+J25+J28 -> 0 | D26: =I24+I26 -> 7 | E26: =C26-D26 -> -7 | G26: =A24 -> OTTONE | H26: =A25 -> PUCCI | I26: 2 | J26: 2 | M26: 3D | N26: BARBINI FORFAIT
G27: =A23 -> CANICCHIO | H27: =A24 -> OTTONE | I27: 2 | J27: 3
G28: =A25 -> PUCCI | H28: =A26 -> BARBINI | I28: 5 | J28: 0
A31: GIRONE 4
A32: CLASSIFICA | B32: Punti | C32: GF | D32: GS | E32: DR | G32: PARTITE | K32: ARBITRO
A33: =Giocatori!B14 -> GASPARINI | B33: =SUM(IF(I33>J33,3,IF(I33=J33,1,0)),IF(I35>J35,3,IF(I35=J35,1,0)),IF(I37>J37,3,IF(I37=J37,1,0))) -> 6 | C33: =I33+I35+I37 -> 10 | D33: =J33+J34 -> 2 | E33: =C33-D33 -> 8 | G33: =A33 -> GASPARINI | H33: =A35 -> BUSCH | I33: 1 | J33: 2 | M33: 4A | N33: BUSCH
A34: =Giocatori!B15 -> IFRIGERIO | B34: =SUM(IF(I34>J34,3,IF(I34=J34,1,0)),IF(I36>J36,3,IF(I36=J36,1,0)),IF(J37>I37,3,IF(J37=I37,1,0))) -> 3 | C34: =I34+I36+J37 -> 9 | D34: =I34+J35 -> 5 | E34: =C34-D34 -> 4 | G34: =A34 -> IFRIGERIO | H34: =A36 -> TARTARELLI | I34: 5 | J34: 0 | M34: 4B | N34: GASPARINI
A35: =Giocatori!B16 -> BUSCH | B35: =SUM(IF(J33>I33,3,IF(J33=I33,1,0)),IF(J36>I36,3,IF(J36=I36,1,0)),IF(I38>J38,3,IF(I38=J38,1,0))) -> 9 | C35: =J33+J36+I38 -> 10 | D35: =I33+I35 -> 6 | E35: =C35-D35 -> 4 | G35: =A33 -> GASPARINI | H35: =A36 -> TARTARELLI | I35: 5 | J35: 0 | M35: 4C | N35: IFRIGERIO
A36: =Giocatori!B17 -> TARTARELLI | B36: =SUM(IF(J34>I34,3,IF(J34=I34,1,0)),IF(J35>I35,3,IF(J35=I35,1,0)),IF(J38>I38,3,IF(J38=I38,1,0))) -> 0 | C36: =J34+J35+J38 -> 0 | D36: =I34+I36 -> 6 | E36: =C36-D36 -> -6 | G36: =A34 -> IFRIGERIO | H36: =A35 -> BUSCH | I36: 1 | J36: 2 | M36: 4D | N36: TARTARELLI
G37: =A33 -> GASPARINI | H37: =A34 -> IFRIGERIO | I37: 4 | J37: 3
G38: =A35 -> BUSCH | H38: =A36 -> TARTARELLI | I38: 6 | J38: 0
A41: GIRONE 5
A42: CLASSIFICA | B42: Punti | C42: GF | D42: GS | E42: DR | G42: PARTITE | K42: ARBITRO
A43: =Giocatori!B18 -> BERTELLI D | B43: =SUM(IF(I43>J43,3,IF(I43=J43,1,0)),IF(I45>J45,3,IF(I45=J45,1,0)),IF(I47>J47,3,IF(I47=J47,1,0))) -> 9 | C43: =I43+I45+I47 -> 19 | D43: =J43+J44 -> 1 | E43: =C43-D43 -> 18 | G43: =A43 -> BERTELLI D | H43: =A45 -> CASANOVA | I43: 6 | J43: 0 | M43: 5A | N43: BERTELLI
A44: =Giocatori!B19 -> CIABATTONI | B44: =SUM(IF(I44>J44,3,IF(I44=J44,1,0)),IF(I46>J46,3,IF(I46=J46,1,0)),IF(J47>I47,3,IF(J47=I47,1,0))) -> 6 | C44: =I44+I46+J47 -> 9 | D44: =I44+J45 -> 4 | E44: =C44-D44 -> 5 | G44: =A44 -> CIABATTONI | H44: =A46 -> DE FRANCESCO A | I44: 3 | J44: 1 | M44: 5B | N44: CIABATTONI
A45: =Giocatori!B20 -> CASANOVA | B45: =SUM(IF(J43>I43,3,IF(J43=I43,1,0)),IF(J46>I46,3,IF(J46=I46,1,0)),IF(I48>J48,3,IF(I48=J48,1,0))) -> 0 | C45: =J43+J46+I48 -> 2 | D45: =I43+I45 -> 13 | E45: =C45-D45 -> -11 | G45: =A43 -> BERTELLI D | H45: =A46 -> DE FRANCESCO A | I45: 7 | J45: 1 | M45: 5C | N45: DE FRANCESCO A
A46: =Giocatori!B21 -> DE FRANCESCO A | B46: =SUM(IF(J44>I44,3,IF(J44=I44,1,0)),IF(J45>I45,3,IF(J45=I45,1,0)),IF(J48>I48,3,IF(J48=I48,1,0))) -> 3 | C46: =J44+J45+J48 -> 6 | D46: =I44+I46 -> 8 | E46: =C46-D46 -> -2 | G46: =A44 -> CIABATTONI | H46: =A45 -> CASANOVA | I46: 5 | J46: 0 | M46: 5D | N46: CASANOVA
G47: =A43 -> BERTELLI D | H47: =A44 -> CIABATTONI | I47: 6 | J47: 1
G48: =A45 -> CASANOVA | H48: =A46 -> DE FRANCESCO A | I48: 2 | J48: 4
...

Sheet OpenF
A1: OPEN - BARRAGE
C2: GIOCATORE 1 | D2: GIOCATORE 2 | G2: ARBITRO | H2: NOTE | J2: VINCENTE | L2: PERDENTE
A3: 5B | B3: 13B | C3: =Open!N44 -> CIABATTONI | D3: =Open!N120 -> TRIVELLI | E3: 2 | F3: 3 | G3: ='Turni Ind'!E185 -> BERTELLI | I3: M1 | J3: TRIVELLI | L3: CIABATTONI
A4: 6B | B4: 14B | C4: =Open!N54 -> SCHIAVONE | D4: =Open!N129 -> GIUDICE | E4: 5 | F4: 1 | G4: ='Turni Ind'!E186 -> PANEBIANCO | I4: M2 | J4: SCHIAVONE | L4: GIUDICE
A5: 7B | B5: 15B | C5: =Open!N64 -> TAGLIAFERRI D | D5: =Open!N138 -> CHERICI | E5: 6 | F5: 2 | G5: ='Turni Ind'!E187 -> MANGANELLO M | I5: M3 | J5: TAGLIAFERRI D | L5: CHERICI
A6: 8B | B6: 16B | C6: =Open!N74 -> MANGANELLO A | D6: =Open!N147 -> MATTIANGELI | E6: 0 | F6: 4 | G6: ='Turni Ind'!E188 -> LICHERI | I6: M4 | J6: MATTIANGELI | L6: MANGANELLO A
A7: 9B | B7: 17B | C7: =Open!N84 -> DE FRANCESCO S | D7: =Open!N156 -> TORANO | E7: 3 | F7: 2 | G7: ='Turni Ind'!E189 -> NASTASI | I7: M5 | J7: DE FRANCESCO | L7: TORANO
A8: 10B | B8: 18B | C8: =Open!N93 -> DI VITO M | D8: =Open!N165 -> VAGNONI | E8: 1 | F8: 2 | G8: ='Turni Ind'!E190 -> APOLLO | I8: M6 | J8: VAGNONI | L8: DI VITO L
A9: 11B | B9: 19B | C9: =Open!N102 -> SILVESTRI GIA | D9: =Open!N174 -> LEPORE | E9: 3 | F9: 3 | G9: ='Turni Ind'!E191 -> CALONICO | H9: TP | I9: M7 | J9: SILVESTRI GIA | L9: LEPORE
A10: 12B | B10: 20B | C10: =Open!N111 -> NICCHI | D10: =Open!N183 -> STELLATO | E10: 1 | F10: 2 | G10: ='Turni Ind'!E192 -> GUZZETTA | I10: M8 | J10: STELLATO | L10: NICCHI
A12: OPEN - SEDICESIMI DI FINALE 1/16
C13: GIOCATORE 1 | D13: GIOCATORE 2 | G13: ARBITRO | H13: NOTE
A14: 1A | B14: M8 | C14: =Open!N3 -> VANELLI | D14: =J10 -> STELLATO | E14: 0 | F14: 3 | G14: ='Turni Ind'!E221 -> CIABATTONI | I14: S1 | J14: STELLATO | L14: VANELLI
A15: 17A | B15: 16A | C15: =Open!N155 -> BELLOTTO | D15: =Open!N146 -> FEDELE | E15: 1 | F15: 0 | G15: ='Turni Ind'!E222 -> GIUDICE | I15: S2 | J15: BELLOTTO | L15: FEDELE
A16: 9A | B16: 3B | C16: =Open!N83 -> NASTASI | D16: =Open!N24 -> CANICCHIO | E16: 4 | F16: 2 | G16: ='Turni Ind'!E223 -> CHERICI | I16: S3 | J16: NASTASI | L16: CANICCHIO
A17: M1 | B17: 8A | C17: =J3 -> TRIVELLI | D17: =Open!N73 -> LICHERI | E17: 0 | F17: 4 | G17: ='Turni Ind'!E224 -> MANGANELLO A | I17: S4 | J17: LICHERI | L17: TRIVELLI
A18: 5A | B18: M4 | C18: =Open!N43 -> BERTELLI | D18: =J6 -> MATTIANGELI | E18: 2 | F18: 1 | G18: ='Turni Ind'!E225 -> TORANO | I18: S5 | J18: BERTELLI | L18: MATTIANGELI
A19: 2B | B19: 12A | C19: =Open!N14 -> PATRUNO G | D19: =Open!N110 -> GUZZETTA | E19: 4 | F19: 1 | G19: ='Turni Ind'!E226 -> DI VITO L | I19: S6 | J19: PATRUNO | L19: GUZZETTA
A20: 13A | B20: 20A | C20: =Open!N119 -> NAPPINI | D20: =Open!N182 -> FLAMINI | E20: 3 | F20: 4 | G20: ='Turni Ind'!E227 -> LEPORE | I20: S7 | J20: FLAMINI | L20: NAPPINI
A21: M5 | B21: 4A | C21: =J7 -> DE FRANCESCO | D21: =Open!N33 -> BUSCH | E21: 4 | F21: 5 | G21: ='Turni Ind'!E228 -> NICCHI | H21: SD | I21: S8 | J21: BUSCH | L21: BE FRANCESO
A22: 3A | B22: M6 | C22: =Open!N23 -> OTTONE | D22: =J8 -> VAGNONI | E22: 2 | F22: 0 | G22: ='Turni Ind'!E229 -> MASTRANTUONO | I22: S9 | J22: OTTONE | L22: VAGNONI
A23: 19A | B23: 14A | C23: =Open!N173 -> BELLONI | D23: =Open!N128 -> NAPOLITANO | E23: 3 | F23: 0 | G23: ='Turni Ind'!E230 -> NAPPA | I23: S10 | J23: BELLONI | L23: NAPOLITANO
A24: 11A | B24: 1B | C24: =Open!N101 -> CALONICO | D24: =Open!N4 -> DI VINCENZO | E24: 1 | F24: 2 | G24: ='Turni Ind'!E231 -> ALESSI | I24: S11 | J24: DI VINCENZO | L24: CALONICO
A25: M3 | B25: 6A | C25: =J5 -> TAGLIAFERRI D | D25: =Open!N53 -> PANEBIANCO | E25: 2 | F25: 3 | G25: ='Turni Ind'!E232 -> SCATAMACCHIA | I25: S12 | J25: PANEBIANCO | L25: TAGLIAFERRI D
A26: 7A | B26: M2 | C26: =Open!N63 -> MANGANELLO M | D26: =J4 -> SCHIAVONE | E26: 1 | F26: 2 | G26: ='Turni Ind'!E233 -> MARINUCCI | I26: S13 | J26: SCHIAVONE | L26: MANGANELLO
A27: 4B | B27: 10A | C27: =Open!N34 -> GASPARINI | D27: =Open!N92 -> APOLLO | E27: 5 | F27: 4 | G27: ='Turni Ind'!E234 -> MATTIANGELI | H27: TP | I27: S14 | J27: GASPARINI | L27: APOLLO
A28: 15A | B28: 18A | C28: =Open!N137 -> TESTA | D28: =Open!N164 -> DI VITO L | E28: 0 | F28: 4 | G28: ='Turni Ind'!E235 -> OGNO | I28: S15 | J28: DI VITO L | L28: TESTA
A29: M7 | B29: 2A | C29: =J9 -> SILVESTRI GIA | D29: =Open!N13 -> INTRA | E29: 5 | F29: 0 | G29: ='Turni Ind'!E236 -> DIV VITO R | I29: S16 | J29: SILVESTRI GIA
A31: OPEN - OTTAVI DI FINALE 1/8
C32: GIOCATORE 1 | D32: GIOCATORE 2 | G32: ARBITRO | H32: NOTE
A33: S1 | B33: S2 | C33: =J14 -> STELLATO | D33: =J15 -> BELLOTTO | E33: 3 | F33: 0 | G33: =L14 -> VANELLI | I33: O1 | J33: STELLATO | L33: BELLOTTO
A34: S3 | B34: S4 | C34: =J16 -> NASTASI | D34: =J17 -> LICHERI | E34: 4 | F34: 1 | G34: =L15 -> FEDELE | I34: O2 | J34: NASTASI | L34: LICHERI
A35: S5 | B35: S6 | C35: =J18 -> BERTELLI | D35: =J19 -> PATRUNO | E35: 1 | F35: 3 | G35: =L16 -> CANICCHIO | I35: O3 | J35: PATRUNO | L35: BERTELLI
A36: S7 | B36: S8 | C36: =J20 -> FLAMINI | D36: =J21 -> BUSCH | E36: 3 | F36: 2 | G36: =L17 -> TRIVELLI | H36: TP | I36: O4 | J36: FLAMINI | L36: BUSCH
A37: S9 | B37: S10 | C37: =J22 -> OTTONE | D37: =J23 -> BELLONI | E37: 1 | F37: 3 | G37: =L18 -> MATTIANGELI | I37: O5 | J37: BELLONI | L37: OTTONE
A38: S11 | B38: S12 | C38: =J24 -> DI VINCENZO | D38: =J25 -> PANEBIANCO | E38: 2 | F38: 1 | G38: =L19 -> GUZZETTA | I38: O6 | J38: DI VINCENZO | L38: PANEBIANCO
A39: S13 | B39: S14 | C39: =J26 -> SCHIAVONE | D39: =J27 -> GASPARINI | E39: 1 | F39: 2 | G39: =L20 -> NAPPINI | I39: O7 | J39: GASPARINI | L39: SCHIAVONE
A40: S15 | B40: S16 | C40: =J28 -> DI VITO L | D40: =J29 -> SILVESTRI GIA | E40: 3 | F40: 0 | G40: =L21 -> BE FRANCESO | I40: O8 | J40: DI VITO L | L40: SILVESTRI GIA
A42: OPEN - QUARTI DI FINALE 1/4
C43: GIOCATORE 1 | D43: GIOCATORE 2 | G43: ARBITRO | H43: NOTE
...

Sheet Veteran
A1: GIRONE 1
A2: CLASSIFICA | B2: Punti | C2: GF | D2: GS | E2: DR | G2: PARTITE | K2: ARBITRO
A3: =Giocatori!F2 -> MASTRANTUONO | B3: =SUM(IF(I3>J3,3,IF(I3=J3,1,0)),IF(I5>J5,3,IF(I5=J5,1,0)),IF(I7>J7,3,IF(I7=J7,1,0))) -> 7 | C3: =I3+I5+I7 -> 11 | D3: =J3+J4 -> 1 | E3: =C3-D3 -> 10 | G3: =A3 -> MASTRANTUONO | H3: =A5 -> NAPPA | I3: 1 | J3: 1 | M3: 1A | N3: MASTRANTUONO
A4: =Giocatori!F3 -> GIAMBELLUCA | B4: =SUM(IF(I4>J4,3,IF(I4=J4,1,0)),IF(I6>J6,3,IF(I6=J6,1,0)),IF(J7>I7,3,IF(J7=I7,1,0))) -> 3 | C4: =I4+I6+J7 -> 8 | D4: =I4+J5 -> 5 | E4: =C4-D4 -> 3 | G4: =A4 -> GIAMBELLUCA | H4: =A6 -> 0 | I4: 5 | J4: 0 | M4: 1B | N4: NAPPA
A5: =Giocatori!F4 -> NAPPA | B5: =SUM(IF(J3>I3,3,IF(J3=I3,1,0)),IF(J6>I6,3,IF(J6=I6,1,0)),IF(I8>J8,3,IF(I8=J8,1,0))) -> 7 | C5: =J3+J6+I8 -> 10 | D5: =I3+I5 -> 6 | E5: =C5-D5 -> 4 | G5: =A3 -> MASTRANTUONO | H5: =A6 -> 0 | I5: 5 | J5: 0 | M5: 1C | N5: GIAMBELLUCA
A6: =Giocatori!F5 -> 0 | B6: =SUM(IF(J4>I4,3,IF(J4=I4,1,0)),IF(J5>I5,3,IF(J5=I5,1,0)),IF(J8>I8,3,IF(J8=I8,1,0))) -> 0 | C6: =J4+J5+J8 -> 0 | D6: =I4+I6 -> 8 | E6: =C6-D6 -> -8 | G6: =A4 -> GIAMBELLUCA | H6: =A5 -> NAPPA | I6: 3 | J6: 4 | M6: 1C
G7: =A3 -> MASTRANTUONO | H7: =A4 -> GIAMBELLUCA | I7: 5 | J7: 0
G8: =A5 -> NAPPA | H8: =A6 -> 0 | I8: 5 | J8: 0
A11: GIRONE 2
A12: CLASSIFICA | B12: Punti | C12: GF | D12: GS | E12: DR | G12: PARTITE | K12: ARBITRO
A13: =Giocatori!F6 -> ALESSI | B13: =SUM(IF(I13>J13,3,IF(I13=J13,1,0)),IF(I15>J15,3,IF(I15=J15,1,0)),IF(I17>J17,3,IF(I17=J17,1,0))) -> 9 | C13: =I13+I15+I17 -> 18 | D13: =J13+J14 -> 1 | E13: =C13-D13 -> 17 | G13: =A13 -> ALESSI | H13: =A15 -> SCATAMACCHIA | I13: 6 | J13: 1 | M13: 2A | N13: ALESSI
A14: =Giocatori!F7 -> ARCA | B14: =SUM(IF(I14>J14,3,IF(I14=J14,1,0)),IF(I16>J16,3,IF(I16=J16,1,0)),IF(J17>I17,3,IF(J17=I17,1,0))) -> 3 | C14: =I14+I16+J17 -> 6 | D14: =I14+J15 -> 5 | E14: =C14-D14 -> 1 | G14: =A14 -> ARCA | H14: =A16 -> 0 | I14: 5 | J14: 0 | M14: 2B | N14: SCATAMACCHIA
A15: =Giocatori!F8 -> SCATAMACCHIA | B15: =SUM(IF(J13>I13,3,IF(J13=I13,1,0)),IF(J16>I16,3,IF(J16=I16,1,0)),IF(I18>J18,3,IF(I18=J18,1,0))) -> 6 | C15: =J13+J16+I18 -> 8 | D15: =I13+I15 -> 11 | E15: =C15-D15 -> -3 | G15: =A13 -> ALESSI | H15: =A16 -> 0 | I15: 5 | J15: 0 | M15: 2C | N15: ARCA
A16: =Giocatori!F9 -> 0 | B16: =SUM(IF(J14>I14,3,IF(J14=I14,1,0)),IF(J15>I15,3,IF(J15=I15,1,0)),IF(J18>I18,3,IF(J18=I18,1,0))) -> 0 | C16: =J14+J15+J18 -> 0 | D16: =I14+I16 -> 6 | E16: =C16-D16 -> -6 | G16: =A14 -> ARCA | H16: =A15 -> SCATAMACCHIA | I16: 1 | J16: 2 | M16: 2D
G17: =A13 -> ALESSI | H17: =A14 -> ARCA | I17: 7 | J17: 0
G18: =A15 -> SCATAMACCHIA | H18: =A16 -> 0 | I18: 5 | J18: 0
A21: GIRONE 3
A22: CLASSIFICA | B22: Punti | C22: GF | D22: GS | E22: DR | G22: PARTITE | K22: ARBITRO
A23: =Giocatori!F10 -> MATTIANGELI | B23: =SUM(IF(I23>J23,3,IF(I23=J23,1,0)),IF(I25>J25,3,IF(I25=J25,1,0)),IF(I27>J27,3,IF(I27=J27,1,0))) -> 4 | C23: =I23+I25+I27 -> 3 | D23: =J23+J24 -> 0 | E23: =C23-D23 -> 3 | G23: =A23 -> MATTIANGELI | H23: =A25 -> BRESSI | I23: 3 | J23: 0 | M23: 3A | N23: MARINUCCI
A24: =Giocatori!F11 -> MARINUCCI | B24: =SUM(IF(I24>J24,3,IF(I24=J24,1,0)),IF(I26>J26,3,IF(I26=J26,1,0)),IF(J27>I27,3,IF(J27=I27,1,0))) -> 5 | C24: =I24+I26+J27 -> 5 | D24: =I24+J25 -> 0 | E24: =C24-D24 -> 5 | G24: =A24 -> MARINUCCI | H24: =A26 -> 0 | M24: 3B | N24: MATTIANGELI
A25: =Giocatori!F12 -> BRESSI | B25: =SUM(IF(J23>I23,3,IF(J23=I23,1,0)),IF(J26>I26,3,IF(J26=I26,1,0)),IF(I28>J28,3,IF(I28=J28,1,0))) -> 2 | C25: =J23+J26+I28 -> 3 | D25: =I23+I25 -> 3 | E25: =C25-D25 -> 0 | G25: =A23 -> MATTIANGELI | H25: =A26 -> 0 | M25: 3C | N25: BRESSI
A26: =Giocatori!F13 -> 0 | B26: =SUM(IF(J24>I24,3,IF(J24=I24,1,0)),IF(J25>I25,3,IF(J25=I25,1,0)),IF(J28>I28,3,IF(J28=I28,1,0))) -> 3 | C26: =J24+J25+J28 -> 0 | D26: =I24+I26 -> 3 | E26: =C26-D26 -> -3 | G26: =A24 -> MARINUCCI | H26: =A25 -> BRESSI | I26: 3 | J26: 3 | M26: 3D
G27: =A23 -> MATTIANGELI | H27: =A24 -> MARINUCCI | I27: 0 | J27: 2 | L27: 4
G28: =A25 -> BRESSI | H28: =A26 -> 0
A31: GIRONE 4
A32: CLASSIFICA | B32: Punti | C32: GF | D32: GS | E32: DR | G32: PARTITE | K32: ARBITRO
A33: =Giocatori!F14 -> SANTANICCHIA | B33: =SUM(IF(I33>J33,3,IF(I33=J33,1,0)),IF(I35>J35,3,IF(I35=J35,1,0)),IF(I37>J37,3,IF(I37=J37,1,0))) -> 4 | C33: =I33+I35+I37 -> 7 | D33: =J33+J34 -> 3 | E33: =C33-D33 -> 4 | G33: =A33 -> SANTANICCHIA | H33: =A35 -> DI FRANCESCO | I33: 6 | J33: 1 | M33: 4A | N33: OGNO
A34: =Giocatori!F15 -> DI VITO R. | B34: =SUM(IF(I34>J34,3,IF(I34=J34,1,0)),IF(I36>J36,3,IF(I36=J36,1,0)),IF(J37>I37,3,IF(J37=I37,1,0))) -> 6 | C34: =I34+I36+J37 -> 6 | D34: =I34+J35 -> 1 | E34: =C34-D34 -> 5 | G34: =A34 -> DI VITO R. | H34: =A36 -> OGNO | I34: 1 | J34: 2 | M34: 4B | N34: DIV VITO R
A35: =Giocatori!F16 -> DI FRANCESCO | B35: =SUM(IF(J33>I33,3,IF(J33=I33,1,0)),IF(J36>I36,3,IF(J36=I36,1,0)),IF(I38>J38,3,IF(I38=J38,1,0))) -> 0 | C35: =J33+J36+I38 -> 3 | D35: =I33+I35 -> 6 | E35: =C35-D35 -> -3 | G35: =A33 -> SANTANICCHIA | H35: =A36 -> OGNO | I35: 0 | J35: 0 | M35: 4C | N35: SANTANICCHIA
A36: =Giocatori!F17 -> OGNO | B36: =SUM(IF(J34>I34,3,IF(J34=I34,1,0)),IF(J35>I35,3,IF(J35=I35,1,0)),IF(J38>I38,3,IF(J38=I38,1,0))) -> 7 | C36: =J34+J35+J38 -> 5 | D36: =I34+I36 -> 4 | E36: =C36-D36 -> 1 | G36: =A34 -> DI VITO R. | H36: =A35 -> DI FRANCESCO | I36: 3 | J36: 0 | M36: 4D | N36: DI FRANCESCO
G37: =A33 -> SANTANICCHIA | H37: =A34 -> DI VITO R. | I37: 1 | J37: 2
G38: =A35 -> DI FRANCESCO | H38: =A36 -> OGNO | I38: 2 | J38: 3
G43: U15
A45: GIRONE UNICO
A46: CLASSIFICA | B46: Punti | C46: GF | D46: GS | E46: DR | G46: PARTITE | K46: ARBITRO
A47: =Giocatori!J2 -> TAMBURRI | B47: =SUM(IF(I47>J47,3,IF(I47=J47,1,0)),IF(I49>J49,3,IF(I49=J49,1,0)),IF(I51>J51,3,IF(I51=J51,1,0))) -> 7 | C47: =I47+I49+I51 -> 13 | D47: =J47+J48 -> 4 | E47: =C47-D47 -> 9 | G47: =A47 -> TAMBURRI | H47: =A49 -> PISCOPO | I47: 6 | J47: 1 | M47: A | N47: TAMBURRI
A48: =Giocatori!J3 -> ESPOSTO | B48: =SUM(IF(I48>J48,3,IF(I48=J48,1,0)),IF(I50>J50,3,IF(I50=J50,1,0)),IF(J51>I51,3,IF(J51=I51,1,0))) -> 0 | C48: =I48+I50+J51 -> 0 | D48: =I48+J49 -> 2 | E48: =C48-D48 -> -2 | G48: =A48 -> ESPOSTO | H48: =A50 -> GIUDICE | I48: 0 | J48: 3 | M48: B | N48: GIUDICE
A49: =Giocatori!J4 -> PISCOPO | B49: =SUM(IF(J47>I47,3,IF(J47=I47,1,0)),IF(J50>I50,3,IF(J50=I50,1,0)),IF(I52>J52,3,IF(I52=J52,1,0))) -> 3 | C49: =J47+J50+I52 -> 6 | D49: =I47+I49 -> 8 | E49: =C49-D49 -> -2 | G49: =A47 -> TAMBURRI | H49: =A50 -> GIUDICE | I49: 2 | J49: 2 | M49: C | N49: PISCOPO
A50: =Giocatori!J5 -> GIUDICE | B50: =SUM(IF(J48>I48,3,IF(J48=I48,1,0)),IF(J49>I49,3,IF(J49=I49,1,0)),IF(J52>I52,3,IF(J52=I52,1,0))) -> 7 | C50: =J48+J49+J52 -> 10 | D50: =I48+I50 -> 0 | E50: =C50-D50 -> 10 | G50: =A48 -> ESPOSTO | H50: =A49 -> PISCOPO | I50: 0 | J50: 3 | M50: D | N50: ESPOSTO
G51: =A47 -> TAMBURRI | H51: =A48 -> ESPOSTO | I51: 5 | J51: 0
...

Sheet Veteran F
A2: VETERAN - QUARTI DI FINALE 1/4
C3: GIOCATORE 1 | D3: GIOCATORE 2 | G3: ARBITRO | H3: NOTE | J3: VINCENTE | L3: PERDENTE
A4: 1A | B4: 3B | C4: =Veteran!N3 -> MASTRANTUONO | D4: =Veteran!N24 -> MATTIANGELI | E4: 1 | F4: 2 | G4: =OpenF!L22 -> VAGNONI | I4: Q1 | J4: MATTIANGELI | L4: MASTRANTUONO
A5: 2B | B5: 4A | C5: =Veteran!N14 -> SCATAMACCHIA | D5: =Veteran!N33 -> OGNO | E5: 0 | F5: 5 | G5: =OpenF!L23 -> NAPOLITANO | I5: Q2 | J5: OGNO | L5: SCATAMACCHIA
A6: 3A | B6: 1B | C6: =Veteran!N23 -> MARINUCCI | D6: =Veteran!N4 -> NAPPA | E6: 2 | F6: 5 | G6: =OpenF!L24 -> CALONICO | I6: Q3 | J6: NAPPA | L6: MARINUCCI
A7: 4B | B7: 2A | C7: =Veteran!N34 -> DIV VITO R | D7: =Veteran!N13 -> ALESSI | E7: 2 | F7: 5 | G7: =OpenF!L25 -> TAGLIAFERRI D | I7: Q4 | J7: ALESSI | L7: DI VITO R.
A9: VETERAN - SEMIFINALI 1/2
C10: GIOCATORE 1 | D10: GIOCATORE 2 | G10: ARBITRO | H10: NOTE
A11: Q1 | B11: Q2 | C11: =J4 -> MATTIANGELI | D11: =J5 -> OGNO | E11: 2 | F11: 1 | G11: =L4 -> MASTRANTUONO | H11: SD | I11: SF1 | J11: MATTIANGELI | L11: OGNO
A12: Q3 | B12: Q4 | C12: =J6 -> NAPPA | D12: =J7 -> ALESSI | E12: 3 | F12: 5 | G12: =L5 -> SCATAMACCHIA | I12: SF2 | J12: ALESSI | L12: NAPPA
A14: VETERAN - FINALE
C15: GIOCATORE 1 | D15: GIOCATORE 2 | G15: ARBITRO | H15: NOTE
A16: SF1 | B16: SF2 | C16: =J11 -> MATTIANGELI | D16: =J12 -> ALESSI | E16: 0 | F16: 3 | G16: =L11 -> OGNO

Sheet Consolazione
A1: CONSOLAZIONE - BARRAGE
C2: GIOCATORE 1 | D2: GIOCATORE 2 | G2: ARBITRO | H2: NOTE | J2: VINCENTE | L2: PERDENTE
A3: 17C | B3: 9D | C3: =Open!N157 -> SALVADORI | D3: =Open!N86 -> RICCIO | E3: 3 | F3: 1 | G3: ='Turni Ind'!E193 -> NAPPINI | I3: M1 | J3: SALVADORI | L3: RICCIO
A4: 18C | B4: 10D | C4: =Open!N166 -> MALVASO | D4: =Open!N95 -> SEPPIA | E4: 5 | F4: 1 | G4: ='Turni Ind'!E194 -> NAPOLITANO | I4: M2 | J4: MALVASO | L4: SEPPIA
A5: 19C | B5: 11D | C5: =Open!N175 -> MONTICELLI | D5: =Open!N104 -> RICCIONI | E5: 10 | F5: 0 | G5: ='Turni Ind'!E195 -> TESTA | I5: M3 | J5: MONTICELLI | L5: RICCIONI
A6: 20C | B6: 12D | C6: =Open!N184 -> LAURETTI | D6: =Open!N113 -> FARANO | E6: 4 | F6: 2 | G6: ='Turni Ind'!E196 -> FEDELE | I6: M4 | J6: LAURETTI | L6: FARANO
A7: 1D | B7: 13D | C7: =Open!N6 -> PATRUNO F FORFAIT | D7: =Open!N122 -> SCHITO | E7: 0 | F7: 5 | G7: ='Turni Ind'!E197 -> BELLOTTO | I7: M5 | J7: SCHITO | L7: FORFAIT
A8: 2D | B8: 14D | C8: =Open!N16 -> PETRINI | D8: =Open!N131 -> LEPRI FORFAIT | E8: 5 | F8: 0 | G8: ='Turni Ind'!E198 -> DI VITO L | I8: M6 | J8: PETRINI | L8: FORFAIT
A9: 3D | B9: 15D | C9: =Open!N26 -> BARBINI FORFAIT | D9: =Open!N140 -> COCCO | E9: 0 | F9: 5 | G9: ='Turni Ind'!E199 -> BELLONI | I9: M7 | J9: COCCO | L9: FORFAIT
A10: 4D | B10: 16D | C10: =Open!N36 -> TARTARELLI | D10: =Open!N149 -> FORTINI | E10: 5 | F10: 0 | G10: ='Turni Ind'!E200 -> FLAMINI | I10: M8 | J10: TARTARELLI | L10: FORTINI
A11: 5D | B11: 17D | C11: =Open!N46 -> CASANOVA | D11: =Open!N158 -> SIGNORI FORFAIT | E11: 5 | F11: 0 | G11: ='Turni Ind'!E201 -> VANELLI | I11: M9 | J11: CASANOVA | L11: FORFAIT
A12: 6D | B12: 18D | C12: =Open!N56 -> TAGLIAFERRI S | D12: =Open!N167 -> VERGONI | E12: 3 | F12: 4 | G12: ='Turni Ind'!E202 -> INTRA | I12: M1O | J12: VERGONI | L12: TAGLIAFERRI S.
A13: 7D | B13: 19D | C13: =Open!N66 -> GIANNARELLI | D13: =Open!N176 -> MEONI | E13: 5 | F13: 0 | G13: ='Turni Ind'!E203 -> OTTONE | I13: M11 | J13: GIANNARELLI | L13: MEONI
A14: 8D | B14: 20D | C14: =Open!N76 -> CICCOLINI | D14: =Open!N185 -> BUONO | E14: 0 | F14: 2 | G14: ='Turni Ind'!E204 -> BUSCH | I14: M12 | J14: BUONO | L14: CICCOLINI
C16: GIOCATORE 1 | D16: GIOCATORE 2 | G16: ARBITRO | H16: NOTE
A17: V1C | B17: M12 | C17: =Veteran!N5 -> GIAMBELLUCA | D17: =J14 -> BUONO | E17: 0 | F17: 1 | G17: ='Turni Ind'!E237 -> RICCIO | I17: S1 | J17: BUONO | L17: GIAMBELLUCA
A18: 16C | B18: 15C | C18: =Open!N148 -> FELETTI | D18: =Open!N139 -> PIZZOLATO | E18: 5 | F18: 0 | G18: ='Turni Ind'!E238 -> SEPPIA | I18: S2 | J18: FELETTI | L18: PIZZOLATO
A19: 5C | B19: M4 | C19: =Open!N45 -> DE FRANCESCO A | D19: =J6 -> LAURETTI | E19: 1 | F19: 4 | G19: ='Turni Ind'!E239 -> RICCIONI | I19: S3 | J19: LAURETTI | L19: DE FRANCESCO
A20: M5 | B20: 4C | C20: =J7 -> SCHITO | D20: =Open!N35 -> IFRIGERIO | E20: 0 | F20: 5 | G20: ='Turni Ind'!E240 -> FARANO | I20: S4 | J20: IFRIGERIO | L20: SCHITO
A21: 1C | B21: M8 | C21: =Open!N5 -> NERI | D21: =J10 -> TARTARELLI | E21: 3 | F21: 0 | G21: ='Turni Ind'!E241 -> FORFAIT | I21: S5 | J21: NERI | L21: TARTARELLI
A22: M1 | B22: 8C | C22: =J3 -> SALVADORI | D22: =Open!N75 -> FUCCI | E22: 0 | F22: 2 | G22: ='Turni Ind'!E242 -> FORFAIT | I22: S6 | J22: FUCCI | L22: SALVADORI
A23: 9C | B23: 10C | C23: SANTANICCHIA | D23: =Open!N94 -> RUSSO | E23: 5 | F23: 1 | G23: ='Turni Ind'!E243 -> FORFAIT | I23: S7 | J23: SANTANICCHIA | L23: RUSSO
A24: M9 | B24: V4D | C24: =J11 -> CASANOVA | D24: =Veteran!N36 -> DI FRANCESCO | E24: 4 | F24: 2 | G24: ='Turni Ind'!E244 -> FORTINI | H24: TP | I24: S8 | J24: CASANOVA | L24: DI FRANCESCO
A25: V2C | B25: M10 | C25: =Veteran!N15 -> ARCA | D25: =J12 -> VERGONI | E25: 0 | F25: 5 | G25: ='Turni Ind'!E245 -> FORFAIT | I25: S9 | J25: VERGONI | L25: ARCA
A26: 12C | B26: 11C | C26: =Open!N112 -> PENNACCHINI | D26: =Open!N103 -> VISANI | E26: 1 | F26: 2 | G26: ='Turni Ind'!E246 -> TAGLIAFERRI S. | I26: S10 | J26: VISANI | L26: PENNACCHINI
A27: 7C | B27: M2 | C27: =Open!N65 -> SILVESTRI GIU | D27: =J4 -> MALVASO | E27: 1 | F27: 0 | G27: ='Turni Ind'!E247 -> MEONI | I27: S11 | J27: SILVESTRI | L27: MALVASO
A28: M7 | B28: 2C | C28: =J9 -> COCCO | D28: =Open!N15 -> DOGALI | E28: 2 | F28: 7 | G28: ='Turni Ind'!E248 -> CICCOLINI | I28: S12 | J28: DOGALI | L28: COCCO
A29: 3C | B29: M6 | C29: =Open!N25 -> PUCCI | D29: =J8 -> PETRINI | E29: 2 | F29: 3 | G29: ='Turni Ind'!E249 -> TAMBURRI | H29: SD | I29: S13 | J29: PETRINI | L29: PUCCI
A30: M3 | B30: 6C | C30: =J5 -> MONTICELLI | D30: =Open!N55 -> PISCOPO | E30: 2 | F30: 1 | G30: ='Turni Ind'!E250 -> ESPOSTO | I30: S14 | J30: MONTICELLI | L30: PISCOPO
A31: 13C | B31: 14C | C31: =Open!N121 -> TRENTA | D31: =Open!N130 -> CAPELLI | E31: 0 | F31: 1 | G31: ='Turni Ind'!E251 -> PISCOPO | I31: S15 | J31: CAPELLI | L31: TRENTA
A32: M11 | B32: V3C | C32: =J13 -> GIANNARELLI | D32: =Veteran!N25 -> BRESSI | E32: 4 | F32: 1 | G32: ='Turni Ind'!E252 -> GIUDICE | I32: S16 | J32: GIANNARELLI | L32: BRESSI
A34: CONSOLAZIONE - OTTAVI DI FINALE 1/8
C35: GIOCATORE 1 | D35: GIOCATORE 2 | G35: ARBITRO | H35: NOTE
A36: S1 | B36: S2 | C36: =J17 -> BUONO | D36: =J18 -> FELETTI | E36: 1 | F36: 5 | G36: =L17 -> GIAMBELLUCA | I36: O1 | J36: FELETTI | L36: BUONO
A37: S3 | B37: S4 | C37: =J19 -> LAURETTI | D37: =J20 -> IFRIGERIO | E37: 1 | F37: 2 | G37: =L18 -> PIZZOLATO | I37: O2 | J37: IFRIGERIO | L37: LAURETTI
A38: S5 | B38: S6 | C38: =J21 -> NERI | D38: =J22 -> FUCCI | E38: 0 | F38: 1 | G38: =L19 -> DE FRANCESCO | I38: O3 | J38: FUCCI | L38: NERI
A39: S7 | B39: S8 | C39: =J23 -> SANTANICCHIA | D39: =J24 -> CASANOVA | E39: 9 | F39: 0 | G39: =L20 -> SCHITO | I39: O4 | J39: SANTANICCHIA | L39: CASANOVA
A40: S9 | B40: S10 | C40: =J25 -> VERGONI | D40: =J26 -> VISANI | E40: 1 | F40: 2 | G40: =L21 -> TARTARELLI | I40: O5 | J40: VISANI | L40: VERGONI
A41: S11 | B41: S12 | C41: =J27 -> SILVESTRI | D41: =J28 -> DOGALI | E41: 0 | F41: 5 | G41: =L22 -> SALVADORI | I41: O6 | J41: SILVESTRI | L41: DOGALI
A42: S13 | B42: S14 | C42: =J29 -> PETRINI | D42: =J30 -> MONTICELLI | E42: 2 | F42: 0 | G42: =L23 -> RUSSO | I42: O7 | J42: PETRINI | L42: MONTICELLI
...

Sheet Turni Ind
A1: SUPER 9 CASTIGLIONE DEL LAGO
A2: TORNEO INDIVIDUALE DEL 07/10/2012
A3: TURNO 1 - ORE 09:00
A4: CAMPO | B4: CATEGORIA | C4: GIOCATORE A | D4: GIOCATORE B | E4: ARBITRO
A5: 1 | B5: OPEN
A6: 2 | B6: OPEN | C6: =Open!G4 -> VANELLI | D6: =Open!H4 -> NERI | E6: =Giocatori!B79 -> STELLATO
A7: 3 | B7: OPEN | C7: =Open!G13 -> PATRUNO G | D7: =Open!H13 -> DOGALI | E7: =Giocatori!B80 -> BUONO
A8: 4 | B8: OPEN | C8: =Open!G14 -> PETRINI | D8: =Open!H14 -> INTRA | E8: =Giocatori!B81 -> LAURETTI
A9: 5 | B9: OPEN | C9: =Open!G23 -> CANICCHIO | D9: =Open!H23 -> PUCCI | E9: =Giocatori!B74 -> MONTICELLI G.
A10: 6 | B10: OPEN
A11: 7 | B11: OPEN | C11: =Open!G33 -> GASPARINI | D11: =Open!H33 -> BUSCH | E11: =Giocatori!B76 -> LEPORE
A12: 8 | B12: OPEN | C12: =Open!G34 -> IFRIGERIO | D12: =Open!H34 -> TARTARELLI | E12: =Giocatori!B77 -> MEONI
A13: 9 | B13: OPEN | C13: =Open!G43 -> BERTELLI D | D13: =Open!H43 -> CASANOVA | E13: =Giocatori!B70 -> DI VITO L.
A14: 10 | B14: OPEN | C14: =Open!G44 -> CIABATTONI | D14: =Open!H44 -> DE FRANCESCO A | E14: =Giocatori!B71 -> VAGNONI
A15: 11 | B15: OPEN | C15: =Open!G53 -> SCHIAVONE | D15: =Open!H53 -> PISCOPO | E15: =Giocatori!B72 -> VERGONI
A16: 12 | B16: OPEN | C16: =Open!G54 -> PANEBIANCO | D16: =Open!H54 -> TAGLIAFERRI S. | E16: =Giocatori!B73 -> MALVASO
A17: 13 | B17: OPEN | C17: =Open!G63 -> MANGANELLO M | D17: =Open!H63 -> GIANNARELLI | E17: =Giocatori!B66 -> TORANO
A18: 14 | B18: OPEN | C18: =Open!G64 -> SILVESTRI GIU. | D18: =Open!H64 -> TAGLIEFERRI D. | E18: =Giocatori!B67 -> BELLOTTO
A19: 15 | B19: OPEN | C19: =Open!G73 -> LICHERI | D19: =Open!H73 -> FUCCI | E19: =Giocatori!B68 -> SALVADORI
A20: 16 | B20: OPEN | C20: =Open!G74 -> MANGANELLO A | D20: =Open!H74 -> CICCOLINI | E20: =Giocatori!B69 -> SIGNORI
A21: 17 | B21: OPEN | C21: =Open!G83 -> NASTASI | D21: =Open!H83 -> DE FRANCESCO S | E21: =Giocatori!B62 -> FEDELE
A22: 18 | B22: OPEN | C22: =Open!G84 -> SALVATI | D22: =Open!H84 -> RICCIO | E22: =Giocatori!B63 -> FELETTI
A23: 19 | B23: OPEN | C23: =Open!G92 -> RUSSO | D23: =Open!H92 -> DI VITO M. | E23: =Giocatori!B64 -> MATTIANGELF F.
A24: 20 | B24: OPEN | C24: =Open!G93 -> APOLLO | D24: =Open!H93 -> SEPPIA | E24: =Giocatori!B65 -> FORTINI
A25: 21 | B25: OPEN | C25: =Open!G101 -> CALONICO | D25: =Open!H101 -> VISANI | E25: =Giocatori!B58 -> TESTA
A26: 22 | B26: OPEN | C26: =Open!G102 -> SILVESTRI GIA. | D26: =Open!H102 -> RICCIONI | E26: =Giocatori!B59 -> PIZZOLATO
A27: 23 | B27: OPEN | C27: =Open!G110 -> GUZZETTA | D27: =Open!H110 -> FARANO | E27: =Giocatori!B60 -> COCCO
A28: 24 | B28: OPEN | C28: =Open!G111 -> NICCHI | D28: =Open!H111 -> PANNACCHINI | E28: =Giocatori!B61 -> CHERICI
A29: 25 | B29: OPEN | C29: NAPPINI | D29: =Open!H119 -> TRIVELLI | E29: NAPOLITANO C
A30: 26 | B30: OPEN | C30: =Open!G120 -> SCHITO | D30: =Open!H120 -> TRENTA | E30: CAPELLI
A31: 27 | B31: VETERAN | C31: =Veteran!G33 -> SANTANICCHIA | D31: =Veteran!H33 -> DI FRANCESCO | E31: =Giocatori!F2 -> MASTRANTUONO
A32: 28 | B32: VETERAN | C32: =Veteran!G34 -> DI VITO R. | D32: =Veteran!H34 -> OGNO | E32: =Giocatori!F3 -> GIAMBELLUCA
A33: 29 | B33: VETERAN | C33: =Veteran!G23 -> MATTIANGELI | D33: =Veteran!H23 -> BRESSI | E33: =Giocatori!F4 -> NAPPA
A34: 30 | B34: VETERAN | C34: =Veteran!G13 -> ALESSI | D34: =Veteran!H13 -> SCATAMACCHIA | E34: =Giocatori!F7 -> ARCA
A35: 31 | B35: U15 | C35: =Veteran!G47 -> TAMBURRI | D35: =Veteran!H47 -> PISCOPO | E35: FLAMINI
A36: 32
A37: SUPER 9 CASTIGLIONE DEL LAGO
A38: TORNEO INDIVIDUALE DEL 07/12/2012
A39: TURNO 2 - ORE 09:50
A40: CAMPO | B40: CATEGORIA | C40: GIOCATORE A | D40: GIOCATORE B | E40: ARBITRO
...

Sheet Foglio1
