Workbook

Sheet 20
A1: GIRONE | B1: 1
A3: Giocatore | C3: P | D3: PG | E3: PV | F3: PN | G3: PP | H3: GF | I3: GS | J3: DR | L3: Classifica
A4: F.lli Bari | C4: =E4*3+F4*1 -> 0 | D4: =SUM(E4:G4) -> 3 | E4: =(IF(C10>D10,1,0))+(IF(C12>D12,1,0))+(IF(C14>D14,1,0)) -> 0 | F4: =(IF(ISBLANK(C10),0,IF(C10=D10,1,0)))+(IF(ISBLANK(C12),0,IF(C12=D12,1,0))+(IF(ISBLANK(C14),0,IF(C14=D14,1,0)))) -> 0 | G4: =(IF(C10<D10,1,0))+(IF(C12<D12,1,0))+IF(C14<D14,1,0) -> 3 | H4: =C10+C12+C14 -> 2 | I4: =D10+D12+D14 -> 9 | J4: =H4-I4 -> -7 | L4: 1A | M4: ferrara
A5: Torino 2009 | B5: =#REF! -> #REF! | C5: =E5*3+F5*1 -> 4 | D5: =SUM(E5:G5) -> 3 | E5: =(IF(C11>D11,1,0))+(IF(D12>C12,1,0))+(IF(C15>D15,1,0)) -> 1 | F5: =(IF(ISBLANK(C11),0,IF(C11=D11,1,0)))+(IF(ISBLANK(C12),0,IF(C12=D12,1,0))+(IF(ISBLANK(C15),0,IF(C15=D15,1,0)))) -> 1 | G5: =(IF(C11<D11,1,0))+(IF(D12<C12,1,0))+(IF(C15<D15,1,0)) -> 1 | H5: =C11+D12+C15 -> 5 | I5: =D11+C12+D15 -> 5 | J5: =H5-I5 -> 0 | L5: 1B | M5: carpi
A6: Subbitogol Ferrara | B6: =#REF! -> #REF! | C6: =E6*3+F6*1 -> 7 | D6: =SUM(E6:G6) -> 3 | E6: =(IF(D10>C10,1,0))+(IF(C13>D13,1,0))+(IF(D15>C15,1,0)) -> 2 | F6: =(IF(ISBLANK(C10),0,IF(C10=D10,1,0)))+(IF(ISBLANK(C13),0,IF(C13=D13,1,0))+(IF(ISBLANK(C15),0,IF(C15=D15,1,0)))) -> 1 | G6: =(IF(D10<C10,1,0))+(IF(C13<D13,1,0))+(IF(D15<C15,1,0)) -> 0 | H6: =D10+C13+D15 -> 6 | I6: =C10+D13+C15 -> 3 | J6: =H6-I6 -> 3 | L6: 1C | M6: torino 2009
A7: Subbuteisti Carpi | B7: =#REF! -> #REF! | C7: =E7*3+F7*1 -> 5 | D7: =SUM(E7:G7) -> 3 | E7: =(IF(D11>C11,1,0))+(IF(D13>C13,1,0))+(IF(D14>C14,1,0)) -> 1 | F7: =(IF(ISBLANK(C11),0,IF(C11=D11,1,0)))+(IF(ISBLANK(C14),0,IF(C14=D14,1,0))+(IF(ISBLANK(C13),0,IF(C13=D13,1,0)))) -> 2 | G7: =(IF(D11<C11,1,0))+(IF(D13<C13,1,0))+(IF(D14<C14,1)) -> 0 | H7: =D11+D13+D14 -> 7 | I7: =C11+C13+C14 -> 3 | J7: =H7-I7 -> 4 | L7: 1D | M7: f.lli bari
A10: =A4 -> F.lli Bari | B10: =A6 -> Subbitogol Ferrara | C10: 1 | D10: 3
A11: =A5 -> Torino 2009 | B11: =A7 -> Subbuteisti Carpi | C11: 2 | D11: 2
A12: =A4 -> F.lli Bari | B12: =A5 -> Torino 2009 | C12: 1 | D12: 2
A13: =A6 -> Subbitogol Ferrara | B13: =A7 -> Subbuteisti Carpi | C13: 1 | D13: 1
A14: =A4 -> F.lli Bari | B14: =A7 -> Subbuteisti Carpi | C14: 0 | D14: 4
A15: =A5 -> Torino 2009 | B15: =A6 -> Subbitogol Ferrara | C15: 1 | D15: 2
A18: GIRONE | B18: =B1+1 -> 2
A20: Giocatore | B20: Club | C20: P | D20: PG | E20: PV | F20: PN | G20: PP | H20: GF | I20: GS | J20: DR | L20: Classifica
A21: Stella Artois | B21: =#REF! -> #REF! | C21: =E21*3+F21*1 -> 9 | D21: =SUM(E21:G21) -> 3 | E21: =(IF(C27>D27,1,0))+(IF(C29>D29,1,0))+(IF(C31>D31,1,0)) -> 3 | F21: =(IF(ISBLANK(C27),0,IF(C27=D27,1,0)))+(IF(ISBLANK(C29),0,IF(C29=D29,1,0))+(IF(ISBLANK(C31),0,IF(C31=D31,1,0)))) -> 0 | G21: =(IF(C27<D27,1,0))+(IF(C29<D29,1,0))+IF(C31<D31,1,0) -> 0 | H21: =C27+C29+C31 -> 9 | I21: =D27+D29+D31 -> 1 | J21: =H21-I21 -> 8 | L21: 2A | M21: stella artois
A22: Subbuteisti Modena | B22: =#REF! -> #REF! | C22: =E22*3+F22*1 -> 4 | D22: =SUM(E22:G22) -> 3 | E22: =(IF(C28>D28,1,0))+(IF(D29>C29,1,0))+(IF(C32>D32,1,0)) -> 1 | F22: =(IF(ISBLANK(C28),0,IF(C28=D28,1,0)))+(IF(ISBLANK(C29),0,IF(C29=D29,1,0))+(IF(ISBLANK(C32),0,IF(C32=D32,1,0)))) -> 1 | G22: =(IF(C28<D28,1,0))+(IF(D29<C29,1,0))+(IF(C32<D32,1,0)) -> 1 | H22: =C28+D29+C32 -> 5 | I22: =D28+C29+D32 -> 4 | J22: =H22-I22 -> 1 | L22: 2B | M22: modena
A23: Hawks Treviso | B23: =#REF! -> #REF! | C23: =E23*3+F23*1 -> 4 | D23: =SUM(E23:G23) -> 3 | E23: =(IF(D27>C27,1,0))+(IF(C30>D30,1,0))+(IF(D32>C32,1,0)) -> 1 | F23: =(IF(ISBLANK(C27),0,IF(C27=D27,1,0)))+(IF(ISBLANK(C30),0,IF(C30=D30,1,0))+(IF(ISBLANK(C32),0,IF(C32=D32,1,0)))) -> 1 | G23: =(IF(D27<C27,1,0))+(IF(C30<D30,1,0))+(IF(D32<C32,1,0)) -> 1 | H23: =D27+C30+D32 -> 4 | I23: =C27+D30+C32 -> 4 | J23: =H23-I23 -> 0 | L23: 2C | M23: treviso
A24: S.C. Labronico | B24: =#REF! -> #REF! | C24: =E24*3+F24*1 -> 0 | D24: =SUM(E24:G24) -> 3 | E24: =(IF(D28>C28,1,0))+(IF(D30>C30,1,0))+(IF(D31>C31,1,0)) -> 0 | F24: =(IF(ISBLANK(C28),0,IF(C28=D28,1,0)))+(IF(ISBLANK(C31),0,IF(C31=D31,1,0))+(IF(ISBLANK(C30),0,IF(C30=D30,1,0)))) -> 0 | G24: =(IF(D28<C28,1,0))+(IF(D30<C30,1,0))+(IF(D31<C31,1)) -> 3 | H24: =D28+D30+D31 -> 1 | I24: =C28+C30+C31 -> 10 | J24: =H24-I24 -> -9 | L24: 2D | M24: labronica
A27: =A21 -> Stella Artois | B27: =A23 -> Hawks Treviso | C27: 3 | D27: 0
A28: =A22 -> Subbuteisti Modena | B28: =A24 -> S.C. Labronico | C28: 3 | D28: 1
A29: =A21 -> Stella Artois | B29: =A22 -> Subbuteisti Modena | C29: 2 | D29: 1
A30: =A23 -> Hawks Treviso | B30: =A24 -> S.C. Labronico | C30: 3 | D30: 0
A31: =A21 -> Stella Artois | B31: =A24 -> S.C. Labronico | C31: 4 | D31: 0
A32: =A22 -> Subbuteisti Modena | B32: =A23 -> Hawks Treviso | C32: 1 | D32: 1
A35: GIRONE | B35: =B18+1 -> 3
A37: Giocatore | B37: Club | C37: P | D37: PG | E37: PV | F37: PN | G37: PP | H37: GF | I37: GS | J37: DR | L37: Classifica
A38: Leonessa Brescia | B38: =#REF! -> #REF! | C38: =E38*3+F38*1 -> 7 | D38: =SUM(E38:G38) -> 3 | E38: =(IF(C44>D44,1,0))+(IF(C46>D46,1,0))+(IF(C48>D48,1,0)) -> 2 | F38: =(IF(ISBLANK(C44),0,IF(C44=D44,1,0)))+(IF(ISBLANK(C46),0,IF(C46=D46,1,0))+(IF(ISBLANK(C48),0,IF(C48=D48,1,0)))) -> 1 | G38: =(IF(C44<D44,1,0))+(IF(C46<D46,1,0))+IF(C48<D48,1,0) -> 0 | H38: =C44+C46+C48 -> 9 | I38: =D44+D46+D48 -> 3 | J38: =H38-I38 -> 6 | L38: 3A | M38: brescia
A39: Versilia 2000 | B39: =#REF! -> #REF! | C39: =E39*3+F39*1 -> 7 | D39: =SUM(E39:G39) -> 3 | E39: =(IF(C45>D45,1,0))+(IF(D46>C46,1,0))+(IF(C49>D49,1,0)) -> 2 | F39: =(IF(ISBLANK(C45),0,IF(C45=D45,1,0)))+(IF(ISBLANK(C46),0,IF(C46=D46,1,0))+(IF(ISBLANK(C49),0,IF(C49=D49,1,0)))) -> 1 | G39: =(IF(C45<D45,1,0))+(IF(D46<C46,1,0))+(IF(C49<D49,1,0)) -> 0 | H39: =C45+D46+C49 -> 6 | I39: =D45+C46+D49 -> 2 | J39: =H39-I39 -> 4 | L39: 3B | M39: versilia
A40: Livorno T.S. | B40: =#REF! -> #REF! | C40: =E40*3+F40*1 -> 3 | D40: =SUM(E40:G40) -> 3 | E40: =(IF(D44>C44,1,0))+(IF(C47>D47,1,0))+(IF(D49>C49,1,0)) -> 1 | F40: =(IF(ISBLANK(C44),0,IF(C44=D44,1,0)))+(IF(ISBLANK(C47),0,IF(C47=D47,1,0))+(IF(ISBLANK(C49),0,IF(C49=D49,1,0)))) -> 0 | G40: =(IF(D44<C44,1,0))+(IF(C47<D47,1,0))+(IF(D49<C49,1,0)) -> 2 | H40: =D44+C47+D49 -> 3 | I40: =C44+D47+C49 -> 5 | J40: =H40-I40 -> -2 | L40: 3C | M40: livorno
A41: Seagulls Viareggio | B41: =#REF! -> #REF! | C41: =E41*3+F41*1 -> 0 | D41: =SUM(E41:G41) -> 3 | E41: =(IF(D45>C45,1,0))+(IF(D47>C47,1,0))+(IF(D48>C48,1,0)) -> 0 | F41: =(IF(ISBLANK(C45),0,IF(C45=D45,1,0)))+(IF(ISBLANK(C48),0,IF(C48=D48,1,0))+(IF(ISBLANK(C47),0,IF(C47=D47,1,0)))) -> 0 | G41: =(IF(D45<C45,1,0))+(IF(D47<C47,1,0))+(IF(D48<C48,1)) -> 3 | H41: =D45+D47+D48 -> 1 | I41: =C45+C47+C48 -> 9 | J41: =H41-I41 -> -8 | L41: 3D | M41: viareggio
A44: =A38 -> Leonessa Brescia | B44: =A40 -> Livorno T.S. | C44: 3 | D44: 1
A45: =A39 -> Versilia 2000 | B45: =A41 -> Seagulls Viareggio | C45: 3 | D45: 0
A46: =A38 -> Leonessa Brescia | B46: =A39 -> Versilia 2000 | C46: 2 | D46: 2
A47: =A40 -> Livorno T.S. | B47: =A41 -> Seagulls Viareggio | C47: 2 | D47: 1
A48: =A38 -> Leonessa Brescia | B48: =A41 -> Seagulls Viareggio | C48: 4 | D48: 0
A49: =A39 -> Versilia 2000 | B49: =A40 -> Livorno T.S. | C49: 1 | D49: 0
A52: GIRONE | B52: =B35+1 -> 4
A54: Giocatore | B54: Club | C54: P | D54: PG | E54: PV | F54: PN | G54: PP | H54: GF | I54: GS | J54: DR | L54: Classifica
A55: Serenissima Mestre | B55: =#REF! -> #REF! | C55: =E55*3+F55*1 -> 9 | D55: =SUM(E55:G55) -> 3 | E55: =(IF(C61>D61,1,0))+(IF(C63>D63,1,0))+(IF(C65>D65,1,0)) -> 3 | F55: =(IF(ISBLANK(C61),0,IF(C61=D61,1,0)))+(IF(ISBLANK(C63),0,IF(C63=D63,1,0))+(IF(ISBLANK(C65),0,IF(C65=D65,1,0)))) -> 0 | G55: =(IF(C61<D61,1,0))+(IF(C63<D63,1,0))+IF(C65<D65,1,0) -> 0 | H55: =C61+C63+C65 -> 10 | I55: =D61+D63+D65 -> 1 | J55: =H55-I55 -> 9 | L55: 4A | M55: mestre
A56: Stradivari Cremona | B56: =#REF! -> #REF! | C56: =E56*3+F56*1 -> 6 | D56: =SUM(E56:G56) -> 3 | E56: =(IF(C62>D62,1,0))+(IF(D63>C63,1,0))+(IF(C66>D66,1,0)) -> 2 | F56: =(IF(ISBLANK(C62),0,IF(C62=D62,1,0)))+(IF(ISBLANK(C63),0,IF(C63=D63,1,0))+(IF(ISBLANK(C66),0,IF(C66=D66,1,0)))) -> 0 | G56: =(IF(C62<D62,1,0))+(IF(D63<C63,1,0))+(IF(C66<D66,1,0)) -> 1 | H56: =C62+D63+C66 -> 5 | I56: =D62+C63+D66 -> 5 | J56: =H56-I56 -> 0 | L56: 4B | M56: cremona
...

Sheet TURNI
A1: TURNO 1 - 10.30
A2: 1-4 | B2: ='20'!A27 -> Stella Artois | C2: ='20'!B27 -> Hawks Treviso | D2: ='20'!C27 -> 3 | E2: ='20'!D27 -> 0 | F2: ='20'!A55 -> Serenissima Mestre
A3: 1
A4: 2
A5: 3
A6: 4
A9: 5-8 | B9: ='20'!A10 -> F.lli Bari | C9: ='20'!B10 -> Subbitogol Ferrara | D9: ='20'!C10 -> 1 | E9: ='20'!D10 -> 3 | F9: ='20'!A56 -> Stradivari Cremona
A10: 5
A11: 6
A12: 7
A13: 8
A16: 9-12 | B16: ='20'!A44 -> Leonessa Brescia | C16: ='20'!B44 -> Livorno T.S. | D16: ='20'!C44 -> 3 | E16: ='20'!D44 -> 1 | F16: ='20'!A57 -> Trento Subbuteo
A17: 9 | F17: ='20'!A64 -> Trento Subbuteo
A18: 10 | F18: ='20'!A65 -> Serenissima Mestre
A19: 11 | F19: ='20'!A66 -> Stradivari Cremona
A20: 12 | F20: ='20'!A67 -> 0
F21: ='20'!A68 -> 0
F22: ='20'!A69 -> GIRONE
A23: 13-16 | B23: ='20'!A45 -> Versilia 2000 | C23: ='20'!B45 -> Seagulls Viareggio | D23: ='20'!C45 -> 3 | E23: ='20'!D45 -> 0 | F23: carpi
A24: 13
A25: 14
A26: 15
A27: 16
A30: 17-20 | B30: ='20'!A28 -> Subbuteisti Modena | C30: ='20'!B28 -> S.C. Labronico | D30: ='20'!C28 -> 3 | E30: ='20'!D28 -> 1 | F30: fiorenza
A31: 17
A32: 18
A33: 19
A34: 20
A38: TURNO 2 - 11.15
A39: 1-4 | B39: ='20'!A61 -> Serenissima Mestre | C39: ='20'!B61 -> Trento Subbuteo | D39: ='20'!C61 -> 3 | E39: ='20'!D61 -> 0 | F39: ='20'!A21 -> Stella Artois
A40: 1
A41: 2
A42: 3
A43: 4
A46: 5-8 | B46: ='20'!A62 -> Stradivari Cremona | C46: ='20'!B62 -> TFC Fiorenza | D46: ='20'!C62 -> 2 | E46: ='20'!D62 -> 1 | F46: ='20'!A22 -> Subbuteisti Modena
A47: 5 | F47: ='20'!A29 -> Stella Artois
A48: 6 | F48: ='20'!A30 -> Hawks Treviso
A49: 7 | F49: ='20'!A31 -> Stella Artois
A50: 8 | F50: ='20'!A32 -> Subbuteisti Modena
F51: ='20'!A33 -> 0
...
