Workbook

Sheet 20
A1: GIRONE | B1: 1
A3: Giocatore | C3: P | D3: PG | E3: PV | F3: PN | G3: PP | H3: GF | I3: GS | J3: DR | L3: Classifica
A4: F.lli Bari | C4: =E4*3+F4*1 -> 0 | D4: =SUM(E4:G4) -> 3 | E4: =(IF(C10>D10,1,0))+(IF(C12>D12,1,0))+(IF(C14>D14,1,0)) -> 0 | F4: =(IF(ISBLANK(C10),0,IF(C10=D10,1,0)))+(IF(ISBLANK(C12),0,IF(C12=D12,1,0))+(IF(ISBLANK(C14),0,IF(C14=D14,1,0)))) -> 0 | G4: =(IF(C10<D10,1,0))+(IF(C12<D12,1,0))+IF(C14<D14,1,0) -> 3 | H4: =C10+C12+C14 -> 2 | I4: =D10+D12+D14 -> 9 | J4: =H4-I4 -> -7 | L4: 1A | M4: ferrara
A5: Torino 2009 | B5: =#REF! -> #REF! | C5: =E5*3+F5*1 -> 4 | D5: =SUM(E5:G5) -> 3 | E5: =(IF(C11>D11,1,0))+(IF(D12>C12,1,0))+(IF(C15>D15,1,0)) -> 1 | F5: =(IF(ISBLANK(C11),0,IF(C11=D11,1,0)))+(IF(ISBLANK(C12),0,IF(C12=D12,1,0))+(IF(ISBLANK(C15),0,IF(C15=D15,1,0)))) -> 1 | G5: =(IF(C11<D11,1,0))+(IF(D12<C12,1,0))+(IF(C15<D15,1,0)) -> 1 | H5: =C11+D12+C15 -> 5 | I5: =D11+C12+D15 -> 5 | J5: =H5-I5 -> 0 | L5: 1B | M5: carpi
A6: Subbitogol Ferrara | B6: =#REF! -> #REF! | C6: =E6*3+F6*1 -> 7 | D6: =SUM(E6:G6) -> 3 | E6: =(IF(D10>C10,1,0))+(IF(C13>D13,1,0))+(IF(D15>C15,1,0)) -> 2 | F6: =(IF(ISBLANK(C10),0,IF(C10=D10,1,0)))+(IF(ISBLANK(C13),0,IF(C13=D13,1,0))+(IF(ISBLANK(C15),0,IF(C15=D15,1,0)))) -> 1 | G6: =(IF(D10<C10,1,0))+(IF(C13<D13,1,0))+(IF(D15<C15,1,0)) -> 0 | H6: =D10+C13+D15 -> 6 | I6: =C10+D13+C15 -> 3 | J6: =H6-I6 -> 3 | L6: 1C | M6: torino 2009
A7: Subbuteisti Carpi | B7: =#REF! -> #REF! | C7: =E7*3+F7*1 -> 5 | D7: =SUM(E7:G7) -> 3 | E7: =(IF(D11>C11,1,0))+(IF(D13>C13,1,0))+(IF(D14>C14,1,0)) -> 1 | F7: =(IF(ISBLANK(C11),0,IF(C11=D11,1,0)))+(IF(ISBLANK(C14),0,IF(C14=D14,1,0))+(IF(ISBLANK(C13),0,IF(C13=D13,1,0)))) -> 2 | G7: =(IF(D11<C11,1,0))+(IF(D13<C13,1,0))+(IF(D14<C14,1)) -> 0 | H7: =D11+D13+D14 -> 7 | I7: =C11+C13+C14 -> 3 | J7: =H7-I7 -> 4 | L7: 1D | M7: f.lli bari
A10: =A4 -> F.lli Bari | B10: =A6 -> Subbitogol Ferrara | C10: 1 | D10: 3
A11: =A5 -> Torino 2009 | B11: =A7 -> Subbuteisti Carpi | C11: 2 | D11: 2
A12: =A4 -> F.lli Bari | B12: =A5 -> Torino 2009 | C12: 1 | D12: 2
A13: =A6 -> Subbitogol Ferrara | B13: =A7 -> Subbuteisti Carpi | C13: 1 | D13: 1
A14: =A4 -> F.lli Bari | B14: =A7 -> Subbuteisti Carpi | C14: 0 | D14: 4
A15: =A5 -> Torino 2009 | B15: =A6 -> Subbitogol Ferrara | C15: 1 | D15: 2
A18: GIRONE | B18: =B1+1 -> 2
A20: Giocatore | B20: Club | C20: P | D20: PG | E20: PV | F20: PN | G20: PP | H20: GF | I20: GS | J20: DR | L20: Classifica
A21: Stella Artois | B21: =#REF! -> #REF! | C21: =E21*3+F21*1 -> 9 | D21: =SUM(E21:G21) -> 3 | E21: =(IF(C27>D27,1,0))+(IF(C29>D29,1,0))+(IF(C31>D31,1,0)) -> 3 | F21: =(IF(ISBLANK(C27),0,IF(C27=D27,1,0)))+(IF(ISBLANK(C29),0,IF(C29=D29,1,0))+(IF(ISBLANK(C31),0,IF(C31=D31,1,0)))) -> 0 | G21: =(IF(C27<D27,1,0))+(IF(C29<D29,1,0))+IF(C31<D31,1,0) -> 0 | H21: =C27+C29+C31 -> 9 | I21: =D27+D29+D31 -> 1 | J21: =H21-I21 -> 8 | L21: 2A | M21: stella artois
A22: Subbuteisti Modena | B22: =#REF! -> #REF! | C22: =E22*3+F22*1 -> 4 | D22: =SUM(E22:G22) -> 3 | E22: =(IF(C28>D28,1,0))+(IF(D29>C29,1,0))+(IF(C32>D32,1,0)) -> 1 | F22: =(IF(ISBLANK(C28),0,IF(C28=D28,1,0)))+(IF(ISBLANK(C29),0,IF(C29=D29,1,0))+(IF(ISBLANK(C32),0,IF(C32=D32,1,0)))) -> 1 | G22: =(IF(C28<D28,1,0))+(IF(D29<C29,1,0))+(IF(C32<D32,1,0)) -> 1 | H22: =C28+D29+C32 -> 5 | I22: =D28+C29+D32 -> 4 | J22: =H22-I22 -> 1 | L22: 2B | M22: modena
A23: Hawks Treviso | B23: =#REF! -> #REF! | C23: =E23*3+F23*1 -> 4 | D23: =SUM(E23:G23) -> 3 | E23: =(IF(D27>C27,1,0))+(IF(C30>D30,1,0))+(IF(D32>C32,1,0)) -> 1 | F23: =(IF(ISBLANK(C27),0,IF(C27=D27,1,0)))+(IF(ISBLANK(C30),0,IF(C30=D30,1,0))+(IF(ISBLANK(C32),0,IF(C32=D32,1,0)))) -> 1 | G23: =(IF(D27<C27,1,0))+(IF(C30<D30,1,0))+(IF(D32<C32,1,0)) -> 1 | H23: =D27+C30+D32 -> 4 | I23: =C27+D30+C32 -> 4 | J23: =H23-I23 -> 0 | L23: 2C | M23: treviso
A24: S.C. Labronico | B24: =#REF! -> #REF! | C24: =E24*3+F24*1 -> 0 | D24: =SUM(E24:G24) -> 3 | E24: =(IF(D28>C28,1,0))+(IF(D30>C30,1,0))+(IF(D31>C31,1,0)) -> 0 | F24: =(IF(ISBLANK(C28),0,IF(C28=D28,1,0)))+(IF(ISBLANK(C31),0,IF(C31=D31,1,0))+(IF(ISBLANK(C30),0,IF(C30=D30,1,0)))) -> 0 | G24: =(IF(D28<C28,1,0))+(IF(D30<C30,1,0))+(IF(D31<C31,1)) -> 3 | H24: =D28+D30+D31 -> 1 | I24: =C28+C30+C31 -> 10 | J24: =H24-I24 -> -9 | L24: 2D | M24: labronica
A27: =A21 -> Stella Artois | B27: =A23 -> Hawks Treviso | C27: 3 | D27: 0
A28: =A22 -> Subbuteisti Modena | B28: =A24 -> S.C. Labronico | C28: 3 | D28: 1
A29: =A21 -> Stella Artois | B29: =A22 -> Subbuteisti Modena | C29: 2 | D29: 1
A30: =A23 -> Hawks Treviso | B30: =A24 -> S.C. Labronico | C30: 3 | D30: 0
A31: =A21 -> Stella Artois | B31: =A24 -> S.C. Labronico | C31: 4 | D31: 0
A32: =A22 -> Subbuteisti Modena | B32: =A23 -> Hawks Treviso | C32: 1 | D32: 1
A35: GIRONE | B35: =B18+1 -> 3
A37: Giocatore | B37: Club | C37: P | D37: PG | E37: PV | F37: PN | G37: PP | H37: GF | I37: GS | J37: DR | L37: Classifica
A38: Leonessa Brescia | B38: =#REF! -> #REF! | C38: =E38*3+F38*1 -> 7 | D38: =SUM(E38:G38) -> 3 | E38: =(IF(C44>D44,1,0))+(IF(C46>D46,1,0))+(IF(C48>D48,1,0)) -> 2 | F38: =(IF(ISBLANK(C44),0,IF(C44=D44,1,0)))+(IF(ISBLANK(C46),0,IF(C46=D46,1,0))+(IF(ISBLANK(C48),0,IF(C48=D48,1,0)))) -> 1 | G38: =(IF(C44<D44,1,0))+(IF(C46<D46,1,0))+IF(C48<D48,1,0) -> 0 | H38: =C44+C46+C48 -> 9 | I38: =D44+D46+D48 -> 3 | J38: =H38-I38 -> 6 | L38: 3A | M38: brescia
A39: Versilia 2000 | B39: =#REF! -> #REF! | C39: =E39*3+F39*1 -> 7 | D39: =SUM(E39:G39) -> 3 | E39: =(IF(C45>D45,1,0))+(IF(D46>C46,1,0))+(IF(C49>D49,1,0)) -> 2 | F39: =(IF(ISBLANK(C45),0,IF(C45=D45,1,0)))+(IF(ISBLANK(C46),0,IF(C46=D46,1,0))+(IF(ISBLANK(C49),0,IF(C49=D49,1,0)))) -> 1 | G39: =(IF(C45<D45,1,0))+(IF(D46<C46,1,0))+(IF(C49<D49,1,0)) -> 0 | H39: =C45+D46+C49 -> 6 | I39: =D45+C46+D49 -> 2 | J39: =H39-I39 -> 4 | L39: 3B | M39: versilia
A40: Livorno T.S. | B40: =#REF! -> #REF! | C40: =E40*3+F40*1 -> 3 | D40: =SUM(E40:G40) -> 3 | E40: =(IF(D44>C44,1,0))+(IF(C47>D47,1,0))+(IF(D49>C49,1,0)) -> 1 | F40: =(IF(ISBLANK(C44),0,IF(C44=D44,1,0)))+(IF(ISBLANK(C47),0,IF(C47=D47,1,0))+(IF(ISBLANK(C49),0,IF(C49=D49,1,0)))) -> 0 | G40: =(IF(D44<C44,1,0))+(IF(C47<D47,1,0))+(IF(D49<C49,1,0)) -> 2 | H40: =D44+C47+D49 -> 3 | I40: =C44+D47+C49 -> 5 | J40: =H40-I40 -> -2 | L40: 3C | M40: livorno
A41: Seagulls Viareggio | B41: =#REF! -> #REF! | C41: =E41*3+F41*1 -> 0 | D41: =SUM(E41:G41) -> 3 | E41: =(IF(D45>C45,1,0))+(IF(D47>C47,1,0))+(IF(D48>C48,1,0)) -> 0 | F41: =(IF(ISBLANK(C45),0,IF(C45=D45,1,0)))+(IF(ISBLANK(C48),0,IF(C48=D48,1,0))+(IF(ISBLANK(C47),0,IF(C47=D47,1,0)))) -> 0 | G41: =(IF(D45<C45,1,0))+(IF(D47<C47,1,0))+(IF(D48<C48,1)) -> 3 | H41: =D45+D47+D48 -> 1 | I41: =C45+C47+C48 -> 9 | J41: =H41-I41 -> -8 | L41: 3D | M41: viareggio
A44: =A38 -> Leonessa Brescia | B44: =A40 -> Livorno T.S. | C44: 3 | D44: 1
A45: =A39 -> Versilia 2000 | B45: =A41 -> Seagulls Viareggio | C45: 3 | D45: 0
A46: =A38 -> Leonessa Brescia | B46: =A39 -> Versilia 2000 | C46: 2 | D46: 2
A47: =A40 -> Livorno T.S. | B47: =A41 -> Seagulls Viareggio | C47: 2 | D47: 1
A48: =A38 -> Leonessa Brescia | B48: =A41 -> Seagulls Viareggio | C48: 4 | D48: 0
A49: =A39 -> Versilia 2000 | B49: =A40 -> Livorno T.S. | C49: 1 | D49: 0
A52: GIRONE | B52: =B35+1 -> 4
A54: Giocatore | B54: Club | C54: P | D54: PG | E54: PV | F54: PN | G54: PP | H54: GF | I54: GS | J54: DR | L54: Classifica
A55: Serenissima Mestre | B55: =#REF! -> #REF! | C55: =E55*3+F55*1 -> 9 | D55: =SUM(E55:G55) -> 3 | E55: =(IF(C61>D61,1,0))+(IF(C63>D63,1,0))+(IF(C65>D65,1,0)) -> 3 | F55: =(IF(ISBLANK(C61),0,IF(C61=D61,1,0)))+(IF(ISBLANK(C63),0,IF(C63=D63,1,0))+(IF(ISBLANK(C65),0,IF(C65=D65,1,0)))) -> 0 | G55: =(IF(C61<D61,1,0))+(IF(C63<D63,1,0))+IF(C65<D65,1,0) -> 0 | H55: =C61+C63+C65 -> 10 | I55: =D61+D63+D65 -> 1 | J55: =H55-I55 -> 9 | L55: 4A | M55: mestre
A56: Stradivari Cremona | B56: =#REF! -> #REF! | C56: =E56*3+F56*1 -> 6 | D56: =SUM(E56:G56) -> 3 | E56: =(IF(C62>D62,1,0))+(IF(D63>C63,1,0))+(IF(C66>D66,1,0)) -> 2 | F56: =(IF(ISBLANK(C62),0,IF(C62=D62,1,0)))+(IF(ISBLANK(C63),0,IF(C63=D63,1,0))+(IF(ISBLANK(C66),0,IF(C66=D66,1,0)))) -> 0 | G56: =(IF(C62<D62,1,0))+(IF(D63<C63,1,0))+(IF(C66<D66,1,0)) -> 1 | H56: =C62+D63+C66 -> 5 | I56: =D62+C63+D66 -> 5 | J56: =H56-I56 -> 0 | L56: 4B | M56: cremona
A57: Trento Subbuteo | B57: =#REF! -> #REF! | C57: =E57*3+F57*1 -> 0 | D57: =SUM(E57:G57) -> 3 | E57: =(IF(D61>C61,1,0))+(IF(C64>D64,1,0))+(IF(D66>C66,1,0)) -> 0 | F57: =(IF(ISBLANK(C61),0,IF(C61=D61,1,0)))+(IF(ISBLANK(C64),0,IF(C64=D64,1,0))+(IF(ISBLANK(C66),0,IF(C66=D66,1,0)))) -> 0 | G57: =(IF(D61<C61,1,0))+(IF(C64<D64,1,0))+(IF(D66<C66,1,0)) -> 3 | H57: =D61+C64+D66 -> 1 | I57: =C61+D64+C66 -> 7 | J57: =H57-I57 -> -6 | L57: 4C | M57: fiorenza
A58: TFC Fiorenza | B58: =#REF! -> #REF! | C58: =E58*3+F58*1 -> 3 | D58: =SUM(E58:G58) -> 3 | E58: =(IF(D62>C62,1,0))+(IF(D64>C64,1,0))+(IF(D65>C65,1,0)) -> 1 | F58: =(IF(ISBLANK(C62),0,IF(C62=D62,1,0)))+(IF(ISBLANK(C65),0,IF(C65=D65,1,0))+(IF(ISBLANK(C64),0,IF(C64=D64,1,0)))) -> 0 | G58: =(IF(D62<C62,1,0))+(IF(D64<C64,1,0))+(IF(D65<C65,1)) -> 2 | H58: =D62+D64+D65 -> 3 | I58: =C62+C64+C65 -> 6 | J58: =H58-I58 -> -3 | L58: 4D | M58: trento
A61: =A55 -> Serenissima Mestre | B61: =A57 -> Trento Subbuteo | C61: 3 | D61: 0
A62: =A56 -> Stradivari Cremona | B62: =A58 -> TFC Fiorenza | C62: 2 | D62: 1
A63: =A55 -> Serenissima Mestre | B63: =A56 -> Stradivari Cremona | C63: 3 | D63: 1
A64: =A57 -> Trento Subbuteo | B64: =A58 -> TFC Fiorenza | C64: 0 | D64: 2
A65: =A55 -> Serenissima Mestre | B65: =A58 -> TFC Fiorenza | C65: 4 | D65: 0
A66: =A56 -> Stradivari Cremona | B66: =A57 -> Trento Subbuteo | C66: 2 | D66: 1
A69: GIRONE | B69: =B52+1 -> 5
A71: Giocatore | B71: Club | C71: P | D71: PG | E71: PV | F71: PN | G71: PP | H71: GF | I71: GS | J71: DR | L71: Classifica
A72: Biella | B72: =#REF! -> #REF! | C72: =E72*3+F72*1 -> 6 | D72: =SUM(E72:G72) -> 3 | E72: =(IF(C78>D78,1,0))+(IF(C80>D80,1,0))+(IF(C82>D82,1,0)) -> 2 | F72: =(IF(ISBLANK(C78),0,IF(C78=D78,1,0)))+(IF(ISBLANK(C80),0,IF(C80=D80,1,0))+(IF(ISBLANK(C82),0,IF(C82=D82,1,0)))) -> 0 | G72: =(IF(C78<D78,1,0))+(IF(C80<D80,1,0))+IF(C82<D82,1,0) -> 1 | H72: =C78+C80+C82 -> 7 | I72: =D78+D80+D82 -> 3 | J72: =H72-I72 -> 4 | L72: 5A | M72: biella
A73: Firenze CS | B73: =#REF! -> #REF! | C73: =E73*3+F73*1 -> 4 | D73: =SUM(E73:G73) -> 3 | E73: =(IF(C79>D79,1,0))+(IF(D80>C80,1,0))+(IF(C83>D83,1,0)) -> 1 | F73: =(IF(ISBLANK(C79),0,IF(C79=D79,1,0)))+(IF(ISBLANK(C80),0,IF(C80=D80,1,0))+(IF(ISBLANK(C83),0,IF(C83=D83,1,0)))) -> 1 | G73: =(IF(C79<D79,1,0))+(IF(D80<C80,1,0))+(IF(C83<D83,1,0)) -> 1 | H73: =C79+D80+C83 -> 5 | I73: =D79+C80+D83 -> 5 | J73: =H73-I73 -> 0 | L73: 5B | M73: gorizia
A74: DLF Gorizia | B74: =#REF! -> #REF! | C74: =E74*3+F74*1 -> 6 | D74: =SUM(E74:G74) -> 3 | E74: =(IF(D78>C78,1,0))+(IF(C81>D81,1,0))+(IF(D83>C83,1,0)) -> 2 | F74: =(IF(ISBLANK(C78),0,IF(C78=D78,1,0)))+(IF(ISBLANK(C81),0,IF(C81=D81,1,0))+(IF(ISBLANK(C83),0,IF(C83=D83,1,0)))) -> 0 | G74: =(IF(D78<C78,1,0))+(IF(C81<D81,1,0))+(IF(D83<C83,1,0)) -> 1 | H74: =D78+C81+D83 -> 6 | I74: =C78+D81+C83 -> 5 | J74: =H74-I74 -> 1 | L74: 5C | M74: firenze
A75: Versilia 2000 "B" | B75: =#REF! -> #REF! | C75: =E75*3+F75*1 -> 1 | D75: =SUM(E75:G75) -> 3 | E75: =(IF(D79>C79,1,0))+(IF(D81>C81,1,0))+(IF(D82>C82,1,0)) -> 0 | F75: =(IF(ISBLANK(C79),0,IF(C79=D79,1,0)))+(IF(ISBLANK(C82),0,IF(C82=D82,1,0))+(IF(ISBLANK(C81),0,IF(C81=D81,1,0)))) -> 1 | G75: =(IF(D79<C79,1,0))+(IF(D81<C81,1,0))+(IF(D82<C82,1)) -> 2 | H75: =D79+D81+D82 -> 3 | I75: =C79+C81+C82 -> 8 | J75: =H75-I75 -> -5 | L75: 5D | M75: versilia b
A78: =A72 -> Biella | B78: =A74 -> DLF Gorizia | C78: 3 | D78: 1
A79: =A73 -> Firenze CS | B79: =A75 -> Versilia 2000 "B" | C79: 2 | D79: 2
A80: =A72 -> Biella | B80: =A73 -> Firenze CS | C80: 1 | D80: 2
A81: =A74 -> DLF Gorizia | B81: =A75 -> Versilia 2000 "B" | C81: 3 | D81: 1
A82: =A72 -> Biella | B82: =A75 -> Versilia 2000 "B" | C82: 3 | D82: 0
A83: =A73 -> Firenze CS | B83: =A74 -> DLF Gorizia | C83: 1 | D83: 2
A89: Campo | B89: Giocatore | C89: Giocatore | F89: Ris | G89: Ris | H89: Arbitro | K89: Abb
A90: 1 | B90: =VLOOKUP(N90,$L$2:$M$85,2,0) -> modena | C90: =VLOOKUP(O90,$L$2:$M$85,2,0) -> versilia | F90: 1 | G90: 0 | H90: mestre | K90: M1 | N90: 2B | O90: 3B
A91: 2 | B91: =VLOOKUP(N91,$L$2:$M$85,2,0) -> cremona | C91: =VLOOKUP(O91,$L$2:$M$85,2,0) -> gorizia | F91: 2 | G91: 2 | H91: biella | K91: M2 | N91: 4B | O91: 5B
A92: QUARTI DI FINALE "OPEN"
A93: Campo | B93: Giocatore | C93: Giocatore | F93: Ris | G93: Ris | H93: Arbitro | K93: Abb
A94: 1 | B94: =VLOOKUP(N94,$L$2:$M$85,2,0) -> ferrara | C94: =IF(F90>G90,B90,C90) -> modena | F94: 0 | G94: 2 | H94: cremona | K94: p | N94: 1A | O94: M1
A95: 2 | B95: =VLOOKUP(N95,$L$2:$M$85,2,0) -> biella | C95: =VLOOKUP(O95,$L$2:$M$85,2,0) -> mestre | F95: 0 | G95: 3 | H95: versilia | K95: q | N95: 5A | O95: 4A
A96: 3 | B96: =VLOOKUP(N96,$L$2:$M$85,2,0) -> brescia | C96: =VLOOKUP(O96,$L$2:$M$85,2,0) -> carpi | F96: 3 | G96: 0 | H96: viareggio | K96: r | N96: 3A | O96: 1B
A97: 4 | B97: gorizia | C97: =VLOOKUP(O97,$L$2:$M$85,2,0) -> stella artois | F97: 0 | G97: 3 | H97: trento | K97: s | N97: M2 | O97: 2A
A98: SEMIFINALE "OPEN"
A99: Campo | B99: Giocatore | C99: Giocatore | F99: Ris | G99: Ris | H99: Arbitro | K99: Abb
A100: 1 | B100: =IF(F94>G94,B94,C94) -> modena | C100: =IF(F95>G95,B95,C95) -> mestre | F100: 1 | G100: 2 | H100: ferrara | K100: A
A101: 2 | B101: =IF(F96>G96,B96,C96) -> brescia | C101: =IF(F97>G97,B97,C97) -> stella artois | F101: 2 | G101: 1 | H101: carpi | K101: B
A102: FINALE "OPEN"
A103: Campo | B103: Giocatore | C103: Giocatore | F103: Ris | G103: Ris | H103: Arbitro
A104: 1 | B104: =IF(F100>G100,B100,C100) -> mestre | C104: =IF(F101>G101,B101,C101) -> brescia | F104: 1 | G104: 2 | H104: stella
A107: BARRAGE "CONSOLAZIONE"
A108: Campo | B108: Giocatore | C108: Giocatore | F108: Ris | G108: Ris | H108: Arbitro | K108: Abb
A109: 1 | B109: =VLOOKUP(N109,$L$2:$M$85,2,0) -> labronica | C109: =VLOOKUP(O109,$L$2:$M$85,2,0) -> viareggio | F109: 2 | G109: 1 | H109: firenze | K109: N1 | N109: 2D | O109: 3D
A110: 2 | B110: =VLOOKUP(N110,$L$2:$M$85,2,0) -> trento | C110: =VLOOKUP(O110,$L$2:$M$85,2,0) -> versilia b | F110: 2 | G110: 2s.d. | H110: treviso | K110: N2 | N110: 4D | O110: 5D
A111: QUARTI DI FINALE "CONSOLAZIONE"
A112: Campo | B112: Giocatore | C112: Giocatore | F112: Ris | G112: Ris | H112: Arbitro | K112: Abb
A113: 5 | B113: =VLOOKUP(N113,$L$2:$M$85,2,0) -> torino 2009 | C113: =IF(F109>G109,B109,C109) -> labronica | F113: 2 | G113: 1 | H113: gorizia | K113: pc | N113: 1C | O113: N1
A114: 6 | B114: =VLOOKUP(N114,$L$2:$M$85,2,0) -> firenze | C114: =VLOOKUP(O114,$L$2:$M$85,2,0) -> fiorenza | F114: 2s,d, | G114: 2 | H114: livorno | K114: qc | N114: 5C | O114: 4C
A115: 7 | B115: =VLOOKUP(N115,$L$2:$M$85,2,0) -> livorno | C115: =VLOOKUP(O115,$L$2:$M$85,2,0) -> f.lli bari | F115: 4 | G115: 0 | H115: =IF(#REF!<#REF!,#REF!,#REF!) -> #REF! | K115: rc | N115: 3C | O115: 1D
A116: 8 | B116: versiliab | C116: =VLOOKUP(O116,$L$2:$M$85,2,0) -> treviso | F116: 0 | G116: 4 | H116: biella | K116: sc | N116: N2 | O116: 2C
A117: SEMIFINALE "CONSOLAZIONE"
A118: Campo | B118: Giocatore | C118: Giocatore | F118: Ris | G118: Ris | H118: Arbitro | K118: Abb
A119: 3 | B119: =IF(F113>G113,B113,C113) -> torino 2009 | C119: firenze | F119: 1 | G119: 2 | H119: labronica | K119: AC
A120: 4 | B120: =IF(F115>G115,B115,C115) -> livorno | C120: =IF(F116>G116,B116,C116) -> treviso | F120: 2dif.reti | G120: 2 | H120: fiorenza | K120: BC
A121: FINALE "CONSOLAZIONE"
A122: Campo | B122: Giocatore | C122: Giocatore | F122: Ris | G122: Ris | H122: Arbitro
A123: 2 | B123: =IF(F119>G119,B119,C119) -> firenze | C123: =IF(F120>G120,B120,C120) -> livorno | F123: 1 | G123: 2 | H123: treviso

Sheet TURNI
A1: TURNO 1 - 10.30
A2: 1-4 | B2: ='20'!A27 -> Stella Artois | C2: ='20'!B27 -> Hawks Treviso | D2: ='20'!C27 -> 3 | E2: ='20'!D27 -> 0 | F2: ='20'!A55 -> Serenissima Mestre
A3: 1
A4: 2
A5: 3
A6: 4
A9: 5-8 | B9: ='20'!A10 -> F.lli Bari | C9: ='20'!B10 -> Subbitogol Ferrara | D9: ='20'!C10 -> 1 | E9: ='20'!D10 -> 3 | F9: ='20'!A56 -> Stradivari Cremona
A10: 5
A11: 6
A12: 7
A13: 8
A16: 9-12 | B16: ='20'!A44 -> Leonessa Brescia | C16: ='20'!B44 -> Livorno T.S. | D16: ='20'!C44 -> 3 | E16: ='20'!D44 -> 1 | F16: ='20'!A57 -> Trento Subbuteo
A17: 9 | F17: ='20'!A64 -> Trento Subbuteo
A18: 10 | F18: ='20'!A65 -> Serenissima Mestre
A19: 11 | F19: ='20'!A66 -> Stradivari Cremona
A20: 12 | F20: ='20'!A67 -> 0
F21: ='20'!A68 -> 0
F22: ='20'!A69 -> GIRONE
A23: 13-16 | B23: ='20'!A45 -> Versilia 2000 | C23: ='20'!B45 -> Seagulls Viareggio | D23: ='20'!C45 -> 3 | E23: ='20'!D45 -> 0 | F23: carpi
A24: 13
A25: 14
A26: 15
A27: 16
A30: 17-20 | B30: ='20'!A28 -> Subbuteisti Modena | C30: ='20'!B28 -> S.C. Labronico | D30: ='20'!C28 -> 3 | E30: ='20'!D28 -> 1 | F30: fiorenza
A31: 17
A32: 18
A33: 19
A34: 20
A38: TURNO 2 - 11.15
A39: 1-4 | B39: ='20'!A61 -> Serenissima Mestre | C39: ='20'!B61 -> Trento Subbuteo | D39: ='20'!C61 -> 3 | E39: ='20'!D61 -> 0 | F39: ='20'!A21 -> Stella Artois
A40: 1
A41: 2
A42: 3
A43: 4
A46: 5-8 | B46: ='20'!A62 -> Stradivari Cremona | C46: ='20'!B62 -> TFC Fiorenza | D46: ='20'!C62 -> 2 | E46: ='20'!D62 -> 1 | F46: ='20'!A22 -> Subbuteisti Modena
A47: 5 | F47: ='20'!A29 -> Stella Artois
A48: 6 | F48: ='20'!A30 -> Hawks Treviso
A49: 7 | F49: ='20'!A31 -> Stella Artois
A50: 8 | F50: ='20'!A32 -> Subbuteisti Modena
F51: ='20'!A33 -> 0
F52: ='20'!A34 -> 0
A53: 9-12 | B53: ='20'!A78 -> Biella | C53: ='20'!B78 -> DLF Gorizia | D53: ='20'!C78 -> 3 | E53: ='20'!D78 -> 1 | F53: ='20'!A23 -> Hawks Treviso
A54: 9 | F54: ='20'!A36 -> 0
A55: 10 | F55: ='20'!A37 -> Giocatore
A56: 11 | F56: ='20'!A38 -> Leonessa Brescia
A57: 12 | F57: ='20'!A39 -> Versilia 2000
F58: ='20'!A40 -> Livorno T.S.
F59: ='20'!A41 -> Seagulls Viareggio
A60: 13-16 | B60: ='20'!A79 -> Firenze CS | C60: ='20'!B79 -> Versilia 2000 "B" | D60: ='20'!C79 -> 2 | E60: ='20'!D79 -> 2 | F60: ='20'!A4 -> F.lli Bari
A61: 13
A62: 14
A63: 15
A64: 16
A67: 17-20 | B67: ='20'!A11 -> Torino 2009 | C67: ='20'!B11 -> Subbuteisti Carpi | D67: ='20'!C11 -> 2 | E67: ='20'!D11 -> 2 | F67: ='20'!A24 -> S.C. Labronico
A68: 17
A69: 18
A70: 19
A71: 20
A75: TURNO 3 - 12.00
A76: 1-4 | B76: ='20'!A12 -> F.lli Bari | C76: ='20'!B12 -> Torino 2009 | D76: ='20'!C12 -> 1 | E76: ='20'!D12 -> 2 | F76: ='20'!A72 -> Biella
A77: 1
A78: 2
A79: 3
A80: 4
A83: 5-8 | B83: ='20'!A30 -> Hawks Treviso | C83: ='20'!B30 -> S.C. Labronico | D83: ='20'!C30 -> 3 | E83: ='20'!D30 -> 0 | F83: ='20'!A73 -> Firenze CS
A84: 5 | F84: ='20'!A80 -> Biella
A85: 6 | F85: ='20'!A81 -> DLF Gorizia
A86: 7 | F86: ='20'!A82 -> Biella
A87: 8 | F87: ='20'!A83 -> Firenze CS
F88: ='20'!A84 -> 0
F89: ='20'!A85 -> 0
A90: 9-12 | B90: ='20'!A46 -> Leonessa Brescia | C90: ='20'!B46 -> Versilia 2000 | D90: ='20'!C46 -> 2 | E90: ='20'!D46 -> 2 | F90: subbuteisti Carpi
A91: 9 | F91: ='20'!A87 -> 0
A92: 10 | F92: ='20'!A88 -> 0
A93: 11 | F93: ='20'!A89 -> Campo
A94: 12 | F94: ='20'!A90 -> 1
F95: ='20'!A91 -> 2
F96: ='20'!A92 -> QUARTI DI FINALE "OPEN"
A97: 13-16 | B97: ='20'!A47 -> Livorno T.S. | C97: ='20'!B47 -> Seagulls Viareggio | D97: ='20'!C47 -> 2 | E97: ='20'!D47 -> 1 | F97: ='20'!A75 -> Versilia 2000 "B"
A98: 13
A99: 14
A100: 15
A101: 16
A104: 17-20 | B104: ='20'!A29 -> Stella Artois | C104: ='20'!B29 -> Subbuteisti Modena | D104: ='20'!C29 -> 2 | E104: ='20'!D29 -> 1 | F104: dlf Gorizia
A105: 17
A106: 18
A107: 19
A108: 20
A112: TURNO 4 - 12.45
A113: 1-4 | B113: ='20'!A63 -> Serenissima Mestre | C113: ='20'!B63 -> Stradivari Cremona | D113: ='20'!C63 -> 3 | E113: ='20'!D63 -> 1 | F113: ='20'!A38 -> Leonessa Brescia
A114: 1
A115: 2
A116: 3
A117: 4
A120: 5-8 | B120: ='20'!A64 -> Trento Subbuteo | C120: ='20'!B64 -> TFC Fiorenza | D120: ='20'!C64 -> 0 | E120: ='20'!D64 -> 2 | F120: ='20'!A39 -> Versilia 2000
A121: 5 | F121: ='20'!A46 -> Leonessa Brescia
A122: 6 | F122: ='20'!A47 -> Livorno T.S.
A123: 7 | F123: ='20'!A48 -> Leonessa Brescia
A124: 8 | F124: ='20'!A49 -> Versilia 2000
F125: ='20'!A50 -> 0
...
