Workbook

Sheet Iscritti
D1: F.I.S.C.T. Lombardia
D2: Federazione Italiana Sport Calcio da Tavolo
D3: XXXIX TORNEO DI NATALE
D4: Elenco iscritti - Milano, 10 e 11 dicembre 2016
A6: SQUADRE
A8: # | B8: squadra/team | E8: nazione/country | G8: città/city | I8: rank | J8: seed
A9: 1 | B9: F.lli Bari Reggio Emilia | E9: Italia | G9: Reggio Emilia | I9: 1 | K9: ITAC040
A10: 2 | B10: Tiburones FM | E10: Spagna | G10: Malaga | I10: 2 | K10: ESPC011
A11: 3 | B11: Fiamme Azzurre | E11: Italia | G11: Roma | I11: 4 | K11: ITAC027
A12: 4 | B12: Wiener Neustadt | E12: Austria | G12: Wiener Neustadt | I12: 5 | K12: AUTC003
A13: 5 | B13: Rochefort TS | E13: Belgio | G13: Rochefort | I13: 7 | K13: BELC008
A14: 6 | B14: TFC Mattersburg | E14: Austria | G14: Mattersburg | I14: 8 | K14: AUTC001
A15: 7 | B15: Valletta | E15: Malta | G15: La Valletta | I15: 12 | K15: MLTC001
A16: 8 | B16: Bologna Tigers | E16: Italia | G16: Bologna | I16: 20 | K16: ITAC003
A17: 9 | B17: Issy-les-Moulineaux | E17: Francia | G17: Issy-les-Moulineaux | I17: 21 | K17: FRAC008
A18: 10 | B18: Master Sanremo | E18: Italia | G18: Sanremo (IM) | I18: 31 | K18: ITAC041
A19: 11 | B19: Stella Artois | E19: Italia | G19: Milano | I19: 35 | K19: ITAC033
A20: 12 | B20: Ascoli | E20: Italia | G20: Ascoli | I20: 36 | K20: ITAC052
... A36: 28 | B36: Torino 2009 | E36: Italia | G36: Torino | I36: 224 | K36: ITAC038
A37: 29 | B37: Atletico Pisa | E37: Italia | G37: Pisa | I37: _
A38: 30 | B38: CT Aosta | E38: Italia | G38: Aosta | I38: _
A39: 31 | B39: Master Sanremo 2 | E39: Italia | G39: Sanremo (IM) | I39: _ | K39: ITAC041
A40: 32 | B40: Subbuteisti Carpi | E40: Italia | G40: Carpi (MO) | I40: _
A42: OPEN
A44: # | B44: nome/name | E44: nazione/country | G44: club | I44: rank | J44: seed
A45: 1 | B45: Juan Noguera | E45: Spagna | G45: Fiamme Azzurre | I45: 1 | K45: ESP0040
A46: 2 | B46: Luca Colangelo | E46: Italia | G46: Fiamme Azzurre | I46: 3 | K46: ITA0225
A47: 3 | B47: Christian Haas | E47: Austria | G47: Wiener Neustadt | I47: 5 | K47: AUT0025
A48: 4 | B48: Saverio Bari | E48: Italia | G48: F.lli Bari Reggio Emilia | I48: 6 | K48: ITA0066 | L48: 25526
A49: 5 | B49: Massimiliano Nastasi | E49: Italia | G49: Valletta | I49: 7 | K49: ITA0603 | L49: 26662
A50: 6 | B50: Wolfgang Leitner | E50: Austria | G50: Mattersburg | I50: 10 | K50: AUT0010
A51: 7 | B51: Justin Leroy | E51: Belgio | G51: Rochefort TS | I51: 11 | K51: BEL0114
A52: 8 | B52: Emanuele Licheri | E52: Italia | G52: F.lli Bari Reggio Emilia | I52: 19 | K52: ITA0480 | L52: 27041
A53: 9 | B53: Mongi Rouis | E53: Francia | G53: Black Devils | I53: 24 | K53: FRA0044
A54: 10 | B54: Bjorn Kegenbein | E54: Germania | G54: Mattersburg | I54: 29 | K54: GER0021
A55: 11 | B55: Jean-Marie Amberny | E55: Francia | G55: Ascoli | I55: 32 | K55: FRA0018 | L55: 27005
A56: 12 | B56: Sergio Ramos | E56: Portogallo | G56: Bologna Tigers | I56: 33 | K56: POR0022 | L56: 28659
A57: 13 | B57: Luca Zambello | E57: Italia | G57: F.lli Bari Reggio Emilia | I57: 35 | K57: ITA0908 | L57: 34804
A58: 14 | B58: Axel Donval | E58: Francia | G58: Stembert | I58: 39 | K58: FRA0019
A59: 15 | B59: Luca Battista | E59: Italia | G59: Napoli Fighters | I59: 63 | K59: ITA0077 | L59: 35194
...

Sheet Teams
B1: F.I.S.C.T. Lombardia
B2: Federazione Italiana Sport Calcio da Tavolo
B3: XXXIX TORNEO DI NATALE
B4: TORNEO A SQUADRE - Milano, 10 dicembre 2016
A6: GIRONE 1
A7: Squadra / Team | C7: Pts | D7: G | E7: V | F7: N | G7: P | H7: PV | I7: PP | J7: DP | K7: GF | L7: GS | M7: DG | Q7: Rank
A8: =Iscritti!B9 -> F.lli Bari Reggio Emilia | C8: =3*E8+F8 -> 9 | D8: =SUM(E8:G8) -> 3 | E8: =SUM(F13+F15+F17) -> 3 | F8: =SUM(G13+G15+G17) -> 0 | G8: =SUM(H13+H15+H17) -> 0 | H8: =SUM(D13,D15,D17) -> 10 | I8: =SUM(E13,E15,E17) -> 0 | J8: =H8-I8 -> 10 | K8: =D26+D40+D54 -> 52 | L8: =E26+E40+E54 -> 11 | M8: =K8-L8 -> 41 | N8: =(C8*10000)+(J8*1000)+(H8*100)+(M8*10)+K8 -> 101462 | O8: =+A8 -> F.lli Bari Reggio Emilia | P8: =LARGE(N8:N11,1) -> 101462 | Q8: =IF(SUM(C8:C11)=0,"",VLOOKUP(P8,N8:O11,2,FALSE)) -> F.lli Bari Reggio Emilia
A9: =Iscritti!B24 -> Rain 1970 | C9: =3*E9+F9 -> 3 | D9: =SUM(E9:G9) -> 3 | E9: =SUM(F14+H15+F18) -> 1 | F9: =SUM(G14+G15+G18) -> 0 | G9: =SUM(H14+F15+H18) -> 2 | H9: =SUM(D14,E15,D18) -> 3 | I9: =SUM(E14,D15,E18) -> 7 | J9: =H9-I9 -> -4 | K9: =D33+E40+D61 -> 18 | L9: =E33+D40+E61 -> 39 | M9: =K9-L9 -> -21 | N9: =(C9*10000)+(J9*1000)+(H9*100)+(M9*10)+K9 -> 26108 | O9: =+A9 -> Rain 1970 | P9: =LARGE(N8:N11,2) -> 63804 | Q9: =IF(SUM(C8:C11)=0,"",VLOOKUP(P9,N8:O11,2,FALSE)) -> Leonessa
A10: =Iscritti!B30 -> Leonessa | C10: =3*E10+F10 -> 6 | D10: =SUM(E10:G10) -> 3 | E10: =SUM(H13+F16+H18) -> 2 | F10: =SUM(G13+G16+G18) -> 0 | G10: =SUM(F13+H16+F18) -> 1 | H10: =SUM(E13,D16,E18) -> 7 | I10: =SUM(D13,E16,D18) -> 4 | J10: =H10-I10 -> 3 | K10: =E26+D47+E61 -> 24 | L10: =D26+E47+D61 -> 16 | M10: =K10-L10 -> 8 | N10: =(C10*10000)+(J10*1000)+(H10*100)+(M10*10)+K10 -> 63804 | O10: =+A10 -> Leonessa | P10: =LARGE(N8:N11,3) -> 26108 | Q10: =IF(SUM(C8:C11)=0,"",VLOOKUP(P10,N8:O11,2,FALSE)) -> Rain 1970
A11: =Iscritti!B37 -> Atletico Pisa | C11: =3*E11+F11 -> 0 | D11: =SUM(E11:G11) -> 3 | E11: =SUM(H14+H16+H17) -> 0 | F11: =SUM(G14+G16+G17) -> 0 | G11: =SUM(F14+F16+F17) -> 3 | H11: =SUM(E14,E16,E17) -> 0 | I11: =SUM(D14,D16,D17) -> 9 | J11: =H11-I11 -> -9 | K11: =E33+E47+E54 -> 7 | L11: =D33+D47+D54 -> 35 | M11: =K11-L11 -> -28 | N11: =(C11*10000)+(J11*1000)+(H11*100)+(M11*10)+K11 -> -9273 | O11: =+A11 -> Atletico Pisa | P11: =LARGE(N8:N11,4) -> -9273 | Q11: =IF(SUM(C8:C11)=0,"",VLOOKUP(P11,N8:O11,2,FALSE)) -> Atletico Pisa
A12: Incontro / Match | D12: Ris./Score | Q12: Arbitro/Referee
A13: =A8 -> F.lli Bari Reggio Emilia | B13: =A10 -> Leonessa | D13: =IF(Turnisabato!E25="","",Turnisabato!E25) -> 3 | E13: =IF(Turnisabato!F25="","",Turnisabato!F25) -> 0 | F13: =IF(D13>E13,1,0) -> 1 | G13: =IF(D13="",0,IF(D13=E13,1,0)) -> 0 | H13: =IF(D13<E13,1,0) -> 0 | Q13: =A350 -> Valletta
A14: =A9 -> Rain 1970 | B14: =A11 -> Atletico Pisa | D14: =IF(Turnisabato!E26="","",Turnisabato!E26) -> 2 | E14: =IF(Turnisabato!F26="","",Turnisabato!F26) -> 0 | F14: =IF(D14>E14,1,0) -> 1 | G14: =IF(D14="",0,IF(D14=E14,1,0)) -> 0 | H14: =IF(D14<E14,1,0) -> 0 | Q14: =A351 -> Foggia
A15: =A8 -> F.lli Bari Reggio Emilia | B15: =A9 -> Rain 1970 | D15: =IF(Turnisabato!E53="","",Turnisabato!E53) -> 4 | E15: =IF(Turnisabato!F53="","",Turnisabato!F53) -> 0 | F15: =IF(D15>E15,1,0) -> 1 | G15: =IF(D15="",0,IF(D15=E15,1,0)) -> 0 | H15: =IF(D15<E15,1,0) -> 0 | Q15: =A236 -> Rochefort TS
A16: =A10 -> Leonessa | B16: =A11 -> Atletico Pisa | D16: =IF(Turnisabato!E54="","",Turnisabato!E54) -> 4 | E16: =IF(Turnisabato!F54="","",Turnisabato!F54) -> 0 | F16: =IF(D16>E16,1,0) -> 1 | G16: =IF(D16="",0,IF(D16=E16,1,0)) -> 0 | H16: =IF(D16<E16,1,0) -> 0 | Q16: =A237 -> Ascoli
A17: =A8 -> F.lli Bari Reggio Emilia | B17: =A11 -> Atletico Pisa | D17: =IF(Turnisabato!E81="","",Turnisabato!E81) -> 3 | E17: =IF(Turnisabato!F81="","",Turnisabato!F81) -> 0 | F17: =IF(D17>E17,1,0) -> 1 | G17: =IF(D17="",0,IF(D17=E17,1,0)) -> 0 | H17: =IF(D17<E17,1,0) -> 0 | Q17: =A407 -> Bologna Tigers
A18: =A9 -> Rain 1970 | B18: =A10 -> Leonessa | D18: =IF(Turnisabato!E82="","",Turnisabato!E82) -> 1 | E18: =IF(Turnisabato!F82="","",Turnisabato!F82) -> 3 | F18: =IF(D18>E18,1,0) -> 0 | G18: =IF(D18="",0,IF(D18=E18,1,0)) -> 0 | H18: =IF(D18<E18,1,0) -> 1 | Q18: =A408 -> Issy-les-Moulineaux
A20: Incontro / Match | D20: Ris./Score | Q20: Arbitro/Referee
A21: =A13 -> F.lli Bari Reggio Emilia | B21: =B13 -> Leonessa | D21: =SUM(F22:F25) -> 3 | E21: =SUM(G22:G25) -> 0 | Q21: =Q13 -> Valletta
A22: E. Licheri | B22: D. Furini | D22: 3 | E22: 1 | F22: =IF(D22>E22,1,0) -> 1 | G22: =IF(E22>D22,1,0) -> 0
A23: G. Monica | B23: D. Visentin | D23: 1 | E23: 1 | F23: =IF(D23>E23,1,0) -> 0 | G23: =IF(E23>D23,1,0) -> 0
A24: L. Zambello | B24: F. Torano | D24: 3 | E24: 2 | F24: =IF(D24>E24,1,0) -> 1 | G24: =IF(E24>D24,1,0) -> 0
A25: M. Cremona | B25: P. Torano | D25: 3 | E25: 1 | F25: =IF(D25>E25,1,0) -> 1 | G25: =IF(E25>D25,1,0) -> 0
D26: =SUM(D22+D23+D24+D25) -> 10 | E26: =SUM(E22+E23+E24+E25) -> 5 | F26: =IF(D26<>E26,IF(D26>E26,1,0),IF(H26>I26,1,0)) -> 1 | G26: =IF(D26<>E26,IF(E26>D26,1,0),IF(I26>H26,1,0)) -> 0
A28: =A14 -> Rain 1970 | B28: =B14 -> Atletico Pisa | D28: =SUM(F29:F32) -> 2 | E28: =SUM(G29:G32) -> 0 | Q28: =Q14 -> Foggia
A29: M. Jung | B29: A. Toni | D29: 2 | E29: 2 | F29: =IF(D29>E29,1,0) -> 0 | G29: =IF(E29>D29,1,0) -> 0 | Q29: S. Ferrante
A30: T. Vulpes | B30: V. Cianchella | D30: 2 | E30: 0 | F30: =IF(D30>E30,1,0) -> 1 | G30: =IF(E30>D30,1,0) -> 0 | Q30: G. Savastio
A31: H. Ruf | B31: M. Farnesi | D31: 2 | E31: 2 | F31: =IF(D31>E31,1,0) -> 0 | G31: =IF(E31>D31,1,0) -> 0 | Q31: G. Battaglia
A32: A. Jung | B32: bye | D32: 3 | E32: 0 | F32: =IF(D32>E32,1,0) -> 1 | G32: =IF(E32>D32,1,0) -> 0
D33: =SUM(D29+D30+D31+D32) -> 9 | E33: =SUM(E29+E30+E31+E32) -> 4 | F33: =IF(D33<>E33,IF(D33>E33,1,0),IF(H33>I33,1,0)) -> 1 | G33: =IF(D33<>E33,IF(E33>D33,1,0),IF(I33>H33,1,0)) -> 0
A35: =A15 -> F.lli Bari Reggio Emilia | B35: =B15 -> Rain 1970 | D35: =SUM(F36:F39) -> 4 | E35: =SUM(G36:G39) -> 0 | Q35: =Q15 -> Rochefort TS
A36: G. Monica | B36: H. Ruf | D36: 5 | E36: 2 | F36: =IF(D36>E36,1,0) -> 1 | G36: =IF(E36>D36,1,0) -> 0
A37: M. Cremona | B37: A. Jung | D37: 9 | E37: 0 | F37: =IF(D37>E37,1,0) -> 1 | G37: =IF(E37>D37,1,0) -> 0
A38: P. Licheri | B38: T. Vulpes | D38: 6 | E38: 1 | F38: =IF(D38>E38,1,0) -> 1 | G38: =IF(E38>D38,1,0) -> 0
A39: L. Zambello | B39: M. Jung | D39: 7 | E39: 1 | F39: =IF(D39>E39,1,0) -> 1 | G39: =IF(E39>D39,1,0) -> 0
D40: =SUM(D36+D37+D38+D39) -> 27 | E40: =SUM(E36+E37+E38+E39) -> 4 | F40: =IF(D40<>E40,IF(D40>E40,1,0),IF(H40>I40,1,0)) -> 1 | G40: =IF(D40<>E40,IF(E40>D40,1,0),IF(I40>H40,1,0)) -> 0
A42: =A16 -> Leonessa | B42: =B16 -> Atletico Pisa | D42: =SUM(F43:F46) -> 4 | E42: =SUM(G43:G46) -> 0 | Q42: =Q16 -> Ascoli
A43: D. Visentin | B43: M. Farnesi | D43: 3 | E43: 0 | F43: =IF(D43>E43,1,0) -> 1 | G43: =IF(E43>D43,1,0) -> 0 | Q43: L. Ciabattoni
A44: P. Torano | B44: A. Toni | D44: 3 | E44: 1 | F44: =IF(D44>E44,1,0) -> 1 | G44: =IF(E44>D44,1,0) -> 0 | Q44: A. Vagnoni
A45: F. Torano | B45: V. Cianchella | D45: 2 | E45: 0 | F45: =IF(D45>E45,1,0) -> 1 | G45: =IF(E45>D45,1,0) -> 0 | Q45: J.M. Amberny
...

Sheet Open
B1: F.I.S.C.T. Lombardia
B2: Federazione Italiana Sport Calcio da Tavolo
B3: XXXIX TORNEO DI NATALE
B4: Categoria OPEN - Milano, 11 dicembre 2016
A6: GIRONE / GROUP 1
A7: Giocatore / Player | C7: Pts | D7: G | E7: V | F7: N | G7: P | H7: GF | I7: GS | J7: DG
A8: =Iscritti!B45 -> Juan Noguera | C8: =3*E8+F8 -> 9 | D8: =SUM(E8:G8) -> 3 | E8: =SUM(F13+F15+F17) -> 3 | F8: =SUM(G13+G15+G17) -> 0 | G8: =SUM(H13+H15+H17) -> 0 | H8: =SUM(D13,D15,D17) -> 15 | I8: =SUM(E13,E15,E17) -> 7 | J8: =H8-I8 -> 8 | K8: =(C8*10000)+(J8*100)+H8 -> 90815 | L8: =+A8 -> Juan Noguera | M8: =LARGE(K8:K13,1) -> 90815 | N8: =IF(SUM(C8:C11)=0,"",VLOOKUP(M8,K8:L11,2,FALSE)) -> Juan Noguera
A9: =Iscritti!B82 -> Vito De Benedictis | C9: =3*E9+F9 -> 6 | D9: =SUM(E9:G9) -> 3 | E9: =SUM(F14+H15+F18) -> 2 | F9: =SUM(G14+G15+G18) -> 0 | G9: =SUM(H14+F15+H18) -> 1 | H9: =SUM(D14,E15,D18) -> 5 | I9: =SUM(E14,D15,E18) -> 3 | J9: =H9-I9 -> 2 | K9: =(C9*10000)+(J9*100)+H9 -> 60205 | L9: =+A9 -> Vito De Benedictis | M9: =LARGE(K8:K13,2) -> 60205 | N9: =IF(SUM(C8:C11)=0,"",VLOOKUP(M9,K8:L11,2,FALSE)) -> Vito De Benedictis
A10: =Iscritti!B83 -> Daniele Di Cè | C10: =3*E10+F10 -> 3 | D10: =SUM(E10:G10) -> 3 | E10: =SUM(H13+F16+H18) -> 1 | F10: =SUM(G13+G16+G18) -> 0 | G10: =SUM(F13+H16+F18) -> 2 | H10: =SUM(E13,D16,E18) -> 5 | I10: =SUM(D13,E16,D18) -> 10 | J10: =H10-I10 -> -5 | K10: =(C10*10000)+(J10*100)+H10 -> 29505 | L10: =+A10 -> Daniele Di Cè | M10: =LARGE(K8:K13,3) -> 29505 | N10: =IF(SUM(C8:C11)=0,"",VLOOKUP(M10,K8:L11,2,FALSE)) -> Daniele Di Cè
A11: =Iscritti!B120 -> Luca Pessini | C11: =3*E11+F11 -> 0 | D11: =SUM(E11:G11) -> 3 | E11: =SUM(H14+H16+H17) -> 0 | F11: =SUM(G14+G16+G17) -> 0 | G11: =SUM(F14+F16+F17) -> 3 | H11: =SUM(E14,E16,E17) -> 4 | I11: =SUM(D14,D16,D17) -> 9 | J11: =H11-I11 -> -5 | K11: =(C11*10000)+(J11*100)+H11 -> -496 | L11: =+A11 -> Luca Pessini | M11: =LARGE(K8:K13,4) -> -496 | N11: =IF(SUM(C8:C11)=0,"",VLOOKUP(M11,K8:L11,2,FALSE)) -> Luca Pessini
A12: Incontro / Match | D12: Ris./Score | N12: Arbitro / Referee
A13: =A8 -> Juan Noguera | B13: =A10 -> Daniele Di Cè | D13: =IF(Turnidomenica!E53="","",Turnidomenica!E53) -> 7 | E13: =IF(Turnidomenica!F53="","",Turnidomenica!F53) -> 3 | F13: =IF(D13>E13,1,0) -> 1 | G13: =IF(D13="",0,IF(D13=E13,1,0)) -> 0 | H13: =IF(D13<E13,1,0) -> 0 | N13: =A206 -> Paolo Zambello
A14: =A9 -> Vito De Benedictis | B14: =A11 -> Luca Pessini | D14: =IF(Turnidomenica!E54="","",Turnidomenica!E54) -> 2 | E14: =IF(Turnidomenica!F54="","",Turnidomenica!F54) -> 0 | F14: =IF(D14>E14,1,0) -> 1 | G14: =IF(D14="",0,IF(D14=E14,1,0)) -> 0 | H14: =IF(D14<E14,1,0) -> 0 | N14: =A207 -> Marco Bonciani
A15: =A8 -> Juan Noguera | B15: =A9 -> Vito De Benedictis | D15: =IF(Turnidomenica!E137="","",Turnidomenica!E137) -> 3 | E15: =IF(Turnidomenica!F137="","",Turnidomenica!F137) -> 1 | F15: =IF(D15>E15,1,0) -> 1 | G15: =IF(D15="",0,IF(D15=E15,1,0)) -> 0 | H15: =IF(D15<E15,1,0) -> 0 | N15: =A134 -> Bjorn Kegenbein
A16: =A10 -> Daniele Di Cè | B16: =A11 -> Luca Pessini | D16: =IF(Turnidomenica!E138="","",Turnidomenica!E138) -> 2 | E16: =IF(Turnidomenica!F138="","",Turnidomenica!F138) -> 1 | F16: =IF(D16>E16,1,0) -> 1 | G16: =IF(D16="",0,IF(D16=E16,1,0)) -> 0 | H16: =IF(D16<E16,1,0) -> 0 | N16: =A135 -> Gàbor Baross
A17: =A8 -> Juan Noguera | B17: =A11 -> Luca Pessini | D17: =IF(Turnidomenica!E221="","",Turnidomenica!E221) -> 5 | E17: =IF(Turnidomenica!F221="","",Turnidomenica!F221) -> 3 | F17: =IF(D17>E17,1,0) -> 1 | G17: =IF(D17="",0,IF(D17=E17,1,0)) -> 0 | H17: =IF(D17<E17,1,0) -> 0 | N17: =A260 -> Michael Stolzenberg
A18: =A9 -> Vito De Benedictis | B18: =A10 -> Daniele Di Cè | D18: =IF(Turnidomenica!E222="","",Turnidomenica!E222) -> 2 | E18: =IF(Turnidomenica!F222="","",Turnidomenica!F222) -> 0 | F18: =IF(D18>E18,1,0) -> 1 | G18: =IF(D18="",0,IF(D18=E18,1,0)) -> 0 | H18: =IF(D18<E18,1,0) -> 0 | N18: =A261 -> Gerardo Patruno
A20: GIRONE / GROUP 2
A21: Giocatore / Player | C21: Pts | D21: G | E21: V | F21: N | G21: P | H21: GF | I21: GS | J21: DG
A22: =Iscritti!B46 -> Luca Colangelo | C22: =3*E22+F22 -> 9 | D22: =SUM(E22:G22) -> 3 | E22: =SUM(F27+F29+F31) -> 3 | F22: =SUM(G27+G29+G31) -> 0 | G22: =SUM(H27+H29+H31) -> 0 | H22: =SUM(D27,D29,D31) -> 18 | I22: =SUM(E27,E29,E31) -> 4 | J22: =H22-I22 -> 14 | K22: =(C22*10000)+(J22*100)+H22 -> 91418 | L22: =+A22 -> Luca Colangelo | M22: =LARGE(K22:K27,1) -> 91418 | N22: =IF(SUM(C22:C25)=0,"",VLOOKUP(M22,K22:L25,2,FALSE)) -> Luca Colangelo
A23: =Iscritti!B80 -> Raphael Pommier | C23: =3*E23+F23 -> 4 | D23: =SUM(E23:G23) -> 3 | E23: =SUM(F28+H29+F32) -> 1 | F23: =SUM(G28+G29+G32) -> 1 | G23: =SUM(H28+F29+H32) -> 1 | H23: =SUM(D28,E29,D32) -> 9 | I23: =SUM(E28,D29,E32) -> 9 | J23: =H23-I23 -> 0 | K23: =(C23*10000)+(J23*100)+H23 -> 40009 | L23: =+A23 -> Raphael Pommier | M23: =LARGE(K22:K27,2) -> 40209 | N23: =IF(SUM(C22:C25)=0,"",VLOOKUP(M23,K22:L25,2,FALSE)) -> Mauro Petrini
A24: =Iscritti!B84 -> Mauro Petrini | C24: =3*E24+F24 -> 4 | D24: =SUM(E24:G24) -> 3 | E24: =SUM(H27+F30+H32) -> 1 | F24: =SUM(G27+G30+G32) -> 1 | G24: =SUM(F27+H30+F32) -> 1 | H24: =SUM(E27,D30,E32) -> 9 | I24: =SUM(D27,E30,D32) -> 7 | J24: =H24-I24 -> 2 | K24: =(C24*10000)+(J24*100)+H24 -> 40209 | L24: =+A24 -> Mauro Petrini | M24: =LARGE(K22:K27,3) -> 40009 | N24: =IF(SUM(C22:C25)=0,"",VLOOKUP(M24,K22:L25,2,FALSE)) -> Raphael Pommier
A25: =Iscritti!B119 -> Paolo Bernardini | C25: =3*E25+F25 -> 0 | D25: =SUM(E25:G25) -> 3 | E25: =SUM(H28+H30+H31) -> 0 | F25: =SUM(G28+G30+G31) -> 0 | G25: =SUM(F28+F30+F31) -> 3 | H25: =SUM(E28,E30,E31) -> 0 | I25: =SUM(D28,D30,D31) -> 16 | J25: =H25-I25 -> -16 | K25: =(C25*10000)+(J25*100)+H25 -> -1600 | L25: =+A25 -> Paolo Bernardini | M25: =LARGE(K22:K27,4) -> -1600 | N25: =IF(SUM(C22:C25)=0,"",VLOOKUP(M25,K22:L25,2,FALSE)) -> Paolo Bernardini
A26: Incontro / Match | D26: Ris./Score | N26: Arbitro / Referee
A27: =A22 -> Luca Colangelo | B27: =A24 -> Mauro Petrini | D27: =IF(Turnidomenica!E55="","",Turnidomenica!E55) -> 6 | E27: =IF(Turnidomenica!F55="","",Turnidomenica!F55) -> 0 | F27: =IF(D27>E27,1,0) -> 1 | G27: =IF(D27="",0,IF(D27=E27,1,0)) -> 0 | H27: =IF(D27<E27,1,0) -> 0 | N27: =A218 -> Massimo Cremona
A28: =A23 -> Raphael Pommier | B28: =A25 -> Paolo Bernardini | D28: =IF(Turnidomenica!E56="","",Turnidomenica!E56) -> 4 | E28: =IF(Turnidomenica!F56="","",Turnidomenica!F56) -> 0 | F28: =IF(D28>E28,1,0) -> 1 | G28: =IF(D28="",0,IF(D28=E28,1,0)) -> 0 | H28: =IF(D28<E28,1,0) -> 0 | N28: =A219 -> Florian Giaux
A29: =A22 -> Luca Colangelo | B29: =A23 -> Raphael Pommier | D29: =IF(Turnidomenica!E139="","",Turnidomenica!E139) -> 8 | E29: =IF(Turnidomenica!F139="","",Turnidomenica!F139) -> 4 | F29: =IF(D29>E29,1,0) -> 1 | G29: =IF(D29="",0,IF(D29=E29,1,0)) -> 0 | H29: =IF(D29<E29,1,0) -> 0 | N29: =A136 -> William Dotto
A30: =A24 -> Mauro Petrini | B30: =A25 -> Paolo Bernardini | D30: =IF(Turnidomenica!E140="","",Turnidomenica!E140) -> 8 | E30: =IF(Turnidomenica!F140="","",Turnidomenica!F140) -> 0 | F30: =IF(D30>E30,1,0) -> 1 | G30: =IF(D30="",0,IF(D30=E30,1,0)) -> 0 | H30: =IF(D30<E30,1,0) -> 0 | N30: =A137 -> Francesco Gori
A31: =A22 -> Luca Colangelo | B31: =A25 -> Paolo Bernardini | D31: =IF(Turnidomenica!E223="","",Turnidomenica!E223) -> 4 | E31: =IF(Turnidomenica!F223="","",Turnidomenica!F223) -> 0 | F31: =IF(D31>E31,1,0) -> 1 | G31: =IF(D31="",0,IF(D31=E31,1,0)) -> 0 | H31: =IF(D31<E31,1,0) -> 0 | N31: =A262 -> Pier Luigi Signoretti
A32: =A23 -> Raphael Pommier | B32: =A24 -> Mauro Petrini | D32: =IF(Turnidomenica!E224="","",Turnidomenica!E224) -> 1 | E32: =IF(Turnidomenica!F224="","",Turnidomenica!F224) -> 1 | F32: =IF(D32>E32,1,0) -> 0 | G32: =IF(D32="",0,IF(D32=E32,1,0)) -> 1 | H32: =IF(D32<E32,1,0) -> 0 | N32: =A263 -> Marco Midoro
A34: GIRONE / GROUP 3
A35: Giocatore / Player | C35: Pts | D35: G | E35: V | F35: N | G35: P | H35: GF | I35: GS | J35: DG
A36: =Iscritti!B47 -> Christian Haas | C36: =3*E36+F36 -> 9 | D36: =SUM(E36:G36) -> 3 | E36: =SUM(F41+F43+F45) -> 3 | F36: =SUM(G41+G43+G45) -> 0 | G36: =SUM(H41+H43+H45) -> 0 | H36: =SUM(D41,D43,D45) -> 14 | I36: =SUM(E41,E43,E45) -> 1 | J36: =H36-I36 -> 13 | K36: =(C36*10000)+(J36*100)+H36 -> 91314 | L36: =+A36 -> Christian Haas | M36: =LARGE(K36:K41,1) -> 91314 | N36: =IF(SUM(C36:C39)=0,"",VLOOKUP(M36,K36:L39,2,FALSE)) -> Christian Haas
A37: =Iscritti!B69 -> Luca Martinelli | C37: =3*E37+F37 -> 3 | D37: =SUM(E37:G37) -> 3 | E37: =SUM(F42+H43+F46) -> 1 | F37: =SUM(G42+G43+G46) -> 0 | G37: =SUM(H42+F43+H46) -> 2 | H37: =SUM(D42,E43,D46) -> 6 | I37: =SUM(E42,D43,E46) -> 11 | J37: =H37-I37 -> -5 | K37: =(C37*10000)+(J37*100)+H37 -> 29506 | L37: =+A37 -> Luca Martinelli | M37: =LARGE(K36:K41,2) -> 60708 | N37: =IF(SUM(C36:C39)=0,"",VLOOKUP(M37,K36:L39,2,FALSE)) -> Augusto Vagnoni
A38: =Iscritti!B85 -> Augusto Vagnoni | C38: =3*E38+F38 -> 6 | D38: =SUM(E38:G38) -> 3 | E38: =SUM(H41+F44+H46) -> 2 | F38: =SUM(G41+G44+G46) -> 0 | G38: =SUM(F41+H44+F46) -> 1 | H38: =SUM(E41,D44,E46) -> 8 | I38: =SUM(D41,E44,D46) -> 1 | J38: =H38-I38 -> 7 | K38: =(C38*10000)+(J38*100)+H38 -> 60708 | L38: =+A38 -> Augusto Vagnoni | M38: =LARGE(K36:K41,3) -> 29506 | N38: =IF(SUM(C36:C39)=0,"",VLOOKUP(M38,K36:L39,2,FALSE)) -> Luca Martinelli
A39: =Iscritti!B116 -> Tom Horn | C39: =3*E39+F39 -> 0 | D39: =SUM(E39:G39) -> 3 | E39: =SUM(H42+H44+H45) -> 0 | F39: =SUM(G42+G44+G45) -> 0 | G39: =SUM(F42+F44+F45) -> 3 | H39: =SUM(E42,E44,E45) -> 0 | I39: =SUM(D42,D44,D45) -> 15 | J39: =H39-I39 -> -15 | K39: =(C39*10000)+(J39*100)+H39 -> -1500 | L39: =+A39 -> Tom Horn | M39: =LARGE(K36:K41,4) -> -1500 | N39: =IF(SUM(C36:C39)=0,"",VLOOKUP(M39,K36:L39,2,FALSE)) -> Tom Horn
A40: Incontro / Match | D40: Ris./Score | N40: Arbitro / Referee
A41: =A36 -> Christian Haas | B41: =A38 -> Augusto Vagnoni | D41: =IF(Turnidomenica!E57="","",Turnidomenica!E57) -> 1 | E41: =IF(Turnidomenica!F57="","",Turnidomenica!F57) -> 0 | F41: =IF(D41>E41,1,0) -> 1 | G41: =IF(D41="",0,IF(D41=E41,1,0)) -> 0 | H41: =IF(D41<E41,1,0) -> 0 | N41: =A220 -> Giovanni Francavilla
A42: =A37 -> Luca Martinelli | B42: =A39 -> Tom Horn | D42: =IF(Turnidomenica!E58="","",Turnidomenica!E58) -> 5 | E42: =IF(Turnidomenica!F58="","",Turnidomenica!F58) -> 0 | F42: =IF(D42>E42,1,0) -> 1 | G42: =IF(D42="",0,IF(D42=E42,1,0)) -> 0 | H42: =IF(D42<E42,1,0) -> 0 | N42: =A221 -> Daniele Lopresto
A43: =A36 -> Christian Haas | B43: =A37 -> Luca Martinelli | D43: =IF(Turnidomenica!E141="","",Turnidomenica!E141) -> 8 | E43: =IF(Turnidomenica!F141="","",Turnidomenica!F141) -> 1 | F43: =IF(D43>E43,1,0) -> 1 | G43: =IF(D43="",0,IF(D43=E43,1,0)) -> 0 | H43: =IF(D43<E43,1,0) -> 0 | N43: =A148 -> Jean-Marie Amberny
...

Sheet Veterani
B1: F.I.S.C.T. Lombardia
B2: Federazione Italiana Sport Calcio da Tavolo
B3: XXXIX TORNEO DI NATALE
B4: Categoria VETERANI - Milano, 11 dicembre 2016
A6: GIRONE / GROUP 1
A7: Giocatore / Player | C7: Pts | D7: G | E7: V | F7: N | G7: P | H7: GF | I7: GS | J7: DG
A8: =Iscritti!B125 -> Antonio Montaño | C8: =3*E8+F8 -> 7 | D8: =SUM(E8:G8) -> 3 | E8: =SUM(F13+F15+F17) -> 2 | F8: =SUM(G13+G15+G17) -> 1 | G8: =SUM(H13+H15+H17) -> 0 | H8: =SUM(D13,D15,D17) -> 11 | I8: =SUM(E13,E15,E17) -> 0 | J8: =H8-I8 -> 11 | K8: =(C8*10000)+(J8*100)+H8 -> 71111 | L8: =+A8 -> Antonio Montaño | M8: =LARGE(K8:K13,1) -> 71111 | N8: =IF(SUM(C8:C11)=0,"",VLOOKUP(M8,K8:L11,2,FALSE)) -> Antonio Montaño
A9: =Iscritti!B146 -> Karl-Heinz Haider | C9: =3*E9+F9 -> 6 | D9: =SUM(E9:G9) -> 3 | E9: =SUM(F14+H15+F18) -> 2 | F9: =SUM(G14+G15+G18) -> 0 | G9: =SUM(H14+F15+H18) -> 1 | H9: =SUM(D14,E15,D18) -> 4 | I9: =SUM(E14,D15,E18) -> 6 | J9: =H9-I9 -> -2 | K9: =(C9*10000)+(J9*100)+H9 -> 59804 | L9: =+A9 -> Karl-Heinz Haider | M9: =LARGE(K8:K13,2) -> 59804 | N9: =IF(SUM(C8:C11)=0,"",VLOOKUP(M9,K8:L11,2,FALSE)) -> Karl-Heinz Haider
A10: =Iscritti!B147 -> Fabio Stellato | C10: =3*E10+F10 -> 4 | D10: =SUM(E10:G10) -> 3 | E10: =SUM(H13+F16+H18) -> 1 | F10: =SUM(G13+G16+G18) -> 1 | G10: =SUM(F13+H16+F18) -> 1 | H10: =SUM(E13,D16,E18) -> 3 | I10: =SUM(D13,E16,D18) -> 3 | J10: =H10-I10 -> 0 | K10: =(C10*10000)+(J10*100)+H10 -> 40003 | L10: =+A10 -> Fabio Stellato | M10: =LARGE(K8:K13,3) -> 40003 | N10: =IF(SUM(C8:C11)=0,"",VLOOKUP(M10,K8:L11,2,FALSE)) -> Fabio Stellato
A11: =Iscritti!B168 -> Marco Trevisan | C11: =3*E11+F11 -> 0 | D11: =SUM(E11:G11) -> 3 | E11: =SUM(H14+H16+H17) -> 0 | F11: =SUM(G14+G16+G17) -> 0 | G11: =SUM(F14+F16+F17) -> 3 | H11: =SUM(E14,E16,E17) -> 2 | I11: =SUM(D14,D16,D17) -> 11 | J11: =H11-I11 -> -9 | K11: =(C11*10000)+(J11*100)+H11 -> -898 | L11: =+A11 -> Marco Trevisan | M11: =LARGE(K8:K13,4) -> -898 | N11: =IF(SUM(C8:C11)=0,"",VLOOKUP(M11,K8:L11,2,FALSE)) -> Marco Trevisan
A12: Incontro / Match | D12: Ris./Score | N12: Arbitro / Referee
A13: =A8 -> Antonio Montaño | B13: =A10 -> Fabio Stellato | D13: =IF(Turnidomenica!E71="","",Turnidomenica!E71) -> 0 | E13: =IF(Turnidomenica!F71="","",Turnidomenica!F71) -> 0 | F13: =IF(D13>E13,1,0) -> 0 | G13: =IF(D13="",0,IF(D13=E13,1,0)) -> 1 | H13: =IF(D13<E13,1,0) -> 0 | N13: =A120 -> Manfred Pawlica
A14: =A9 -> Karl-Heinz Haider | B14: =A11 -> Marco Trevisan | D14: =IF(Turnidomenica!E72="","",Turnidomenica!E72) -> 2 | E14: =IF(Turnidomenica!F72="","",Turnidomenica!F72) -> 1 | F14: =IF(D14>E14,1,0) -> 1 | G14: =IF(D14="",0,IF(D14=E14,1,0)) -> 0 | H14: =IF(D14<E14,1,0) -> 0 | N14: =A121 -> Massimiliano Croatti
A15: =A8 -> Antonio Montaño | B15: =A9 -> Karl-Heinz Haider | D15: =IF(Turnidomenica!E155="","",Turnidomenica!E73) -> 4 | E15: =IF(Turnidomenica!F155="","",Turnidomenica!F73) -> 0 | F15: =IF(D15>E15,1,0) -> 1 | G15: =IF(D15="",0,IF(D15=E15,1,0)) -> 0 | H15: =IF(D15<E15,1,0) -> 0 | N15: =Open!A204 -> Luca Battista
A16: =A10 -> Fabio Stellato | B16: =A11 -> Marco Trevisan | D16: =IF(Turnidomenica!E156="","",Turnidomenica!E74) -> 2 | E16: =IF(Turnidomenica!F156="","",Turnidomenica!F74) -> 1 | F16: =IF(D16>E16,1,0) -> 1 | G16: =IF(D16="",0,IF(D16=E16,1,0)) -> 0 | H16: =IF(D16<E16,1,0) -> 0 | N16: =Open!A205 -> Raul Benita
A17: =A8 -> Antonio Montaño | B17: =A11 -> Marco Trevisan | D17: =IF(Turnidomenica!E239="","",Turnidomenica!E239) -> 7 | E17: =IF(Turnidomenica!F239="","",Turnidomenica!F239) -> 0 | F17: =IF(D17>E17,1,0) -> 1 | G17: =IF(D17="",0,IF(D17=E17,1,0)) -> 0 | H17: =IF(D17<E17,1,0) -> 0 | N17: =A134 -> Claudio Dogali
A18: =A9 -> Karl-Heinz Haider | B18: =A10 -> Fabio Stellato | D18: =IF(Turnidomenica!E240="","",Turnidomenica!E240) -> 2 | E18: =IF(Turnidomenica!F240="","",Turnidomenica!F240) -> 1 | F18: =IF(D18>E18,1,0) -> 1 | G18: =IF(D18="",0,IF(D18=E18,1,0)) -> 0 | H18: =IF(D18<E18,1,0) -> 0 | N18: =A135 -> Mario Camilleri
A20: GIRONE / GROUP 2
A21: Giocatore / Player | C21: Pts | D21: G | E21: V | F21: N | G21: P | H21: GF | I21: GS | J21: DG
A22: =Iscritti!B126 -> Gianfranco Calonico | C22: =3*E22+F22 -> 9 | D22: =SUM(E22:G22) -> 3 | E22: =SUM(F27+F29+F31) -> 3 | F22: =SUM(G27+G29+G31) -> 0 | G22: =SUM(H27+H29+H31) -> 0 | H22: =SUM(D27,D29,D31) -> 12 | I22: =SUM(E27,E29,E31) -> 3 | J22: =H22-I22 -> 9 | K22: =(C22*10000)+(J22*100)+H22 -> 90912 | L22: =+A22 -> Gianfranco Calonico | M22: =LARGE(K22:K27,1) -> 90912 | N22: =IF(SUM(C22:C25)=0,"",VLOOKUP(M22,K22:L25,2,FALSE)) -> Gianfranco Calonico
A23: =Iscritti!B145 -> Titi Giaux | C23: =3*E23+F23 -> 3 | D23: =SUM(E23:G23) -> 3 | E23: =SUM(F28+H29+F32) -> 1 | F23: =SUM(G28+G29+G32) -> 0 | G23: =SUM(H28+F29+H32) -> 2 | H23: =SUM(D28,E29,D32) -> 7 | I23: =SUM(E28,D29,E32) -> 10 | J23: =H23-I23 -> -3 | K23: =(C23*10000)+(J23*100)+H23 -> 29707 | L23: =+A23 -> Titi Giaux | M23: =LARGE(K22:K27,2) -> 60310 | N23: =IF(SUM(C22:C25)=0,"",VLOOKUP(M23,K22:L25,2,FALSE)) -> Massimiliano Schiavone
A24: =Iscritti!B148 -> Massimiliano Schiavone | C24: =3*E24+F24 -> 6 | D24: =SUM(E24:G24) -> 3 | E24: =SUM(H27+F30+H32) -> 2 | F24: =SUM(G27+G30+G32) -> 0 | G24: =SUM(F27+H30+F32) -> 1 | H24: =SUM(E27,D30,E32) -> 10 | I24: =SUM(D27,E30,D32) -> 7 | J24: =H24-I24 -> 3 | K24: =(C24*10000)+(J24*100)+H24 -> 60310 | L24: =+A24 -> Massimiliano Schiavone | M24: =LARGE(K22:K27,3) -> 29707 | N24: =IF(SUM(C22:C25)=0,"",VLOOKUP(M24,K22:L25,2,FALSE)) -> Titi Giaux
A25: =Iscritti!B167 -> Giorgio Manfioletti | C25: =3*E25+F25 -> 0 | D25: =SUM(E25:G25) -> 3 | E25: =SUM(H28+H30+H31) -> 0 | F25: =SUM(G28+G30+G31) -> 0 | G25: =SUM(F28+F30+F31) -> 3 | H25: =SUM(E28,E30,E31) -> 2 | I25: =SUM(D28,D30,D31) -> 11 | J25: =H25-I25 -> -9 | K25: =(C25*10000)+(J25*100)+H25 -> -898 | L25: =+A25 -> Giorgio Manfioletti | M25: =LARGE(K22:K27,4) -> -898 | N25: =IF(SUM(C22:C25)=0,"",VLOOKUP(M25,K22:L25,2,FALSE)) -> Giorgio Manfioletti
A26: Incontro / Match | D26: Ris./Score | N26: Arbitro / Referee
A27: =A22 -> Gianfranco Calonico | B27: =A24 -> Massimiliano Schiavone | D27: =IF(Turnidomenica!E73="","",Turnidomenica!E73) -> 4 | E27: =IF(Turnidomenica!F73="","",Turnidomenica!F73) -> 0 | F27: =IF(D27>E27,1,0) -> 1 | G27: =IF(D27="",0,IF(D27=E27,1,0)) -> 0 | H27: =IF(D27<E27,1,0) -> 0 | N27: =A122 -> Hans Ruf
A28: =A23 -> Titi Giaux | B28: =A25 -> Giorgio Manfioletti | D28: =IF(Turnidomenica!E74="","",Turnidomenica!E74) -> 2 | E28: =IF(Turnidomenica!F74="","",Turnidomenica!F74) -> 1 | F28: =IF(D28>E28,1,0) -> 1 | G28: =IF(D28="",0,IF(D28=E28,1,0)) -> 0 | H28: =IF(D28<E28,1,0) -> 0 | N28: =A123 -> Pietro Bonfante
A29: =A22 -> Gianfranco Calonico | B29: =A23 -> Titi Giaux | D29: =IF(Turnidomenica!E157="","",Turnidomenica!E157) -> 4 | E29: =IF(Turnidomenica!F157="","",Turnidomenica!F157) -> 3 | F29: =IF(D29>E29,1,0) -> 1 | G29: =IF(D29="",0,IF(D29=E29,1,0)) -> 0 | H29: =IF(D29<E29,1,0) -> 0 | N29: =Open!A190 -> Axel Donval
A30: =A24 -> Massimiliano Schiavone | B30: =A25 -> Giorgio Manfioletti | D30: =IF(Turnidomenica!E158="","",Turnidomenica!E158) -> 5 | E30: =IF(Turnidomenica!F158="","",Turnidomenica!F158) -> 1 | F30: =IF(D30>E30,1,0) -> 1 | G30: =IF(D30="",0,IF(D30=E30,1,0)) -> 0 | H30: =IF(D30<E30,1,0) -> 0 | N30: =Open!A191 -> Cesare Natoli
A31: =A22 -> Gianfranco Calonico | B31: =A25 -> Giorgio Manfioletti | D31: =IF(Turnidomenica!E241="","",Turnidomenica!E241) -> 4 | E31: =IF(Turnidomenica!F241="","",Turnidomenica!F241) -> 0 | F31: =IF(D31>E31,1,0) -> 1 | G31: =IF(D31="",0,IF(D31=E31,1,0)) -> 0 | H31: =IF(D31<E31,1,0) -> 0 | N31: =A136 -> Andres Jung Senior
A32: =A23 -> Titi Giaux | B32: =A24 -> Massimiliano Schiavone | D32: =IF(Turnidomenica!E242="","",Turnidomenica!E242) -> 2 | E32: =IF(Turnidomenica!F242="","",Turnidomenica!F242) -> 5 | F32: =IF(D32>E32,1,0) -> 0 | G32: =IF(D32="",0,IF(D32=E32,1,0)) -> 0 | H32: =IF(D32<E32,1,0) -> 1 | N32: =A137 -> Luca Bisio
A34: GIRONE / GROUP 3
A35: Giocatore / Player | C35: Pts | D35: G | E35: V | F35: N | G35: P | H35: GF | I35: GS | J35: DG
A36: =Iscritti!B127 -> Daniel Scheen | C36: =3*E36+F36 -> 9 | D36: =SUM(E36:G36) -> 3 | E36: =SUM(F41+F43+F45) -> 3 | F36: =SUM(G41+G43+G45) -> 0 | G36: =SUM(H41+H43+H45) -> 0 | H36: =SUM(D41,D43,D45) -> 14 | I36: =SUM(E41,E43,E45) -> 3 | J36: =H36-I36 -> 11 | K36: =(C36*10000)+(J36*100)+H36 -> 91114 | L36: =+A36 -> Daniel Scheen | M36: =LARGE(K36:K41,1) -> 91114 | N36: =IF(SUM(C36:C39)=0,"",VLOOKUP(M36,K36:L39,2,FALSE)) -> Daniel Scheen
A37: =Iscritti!B144 -> Gianfranco Mastrantuono | C37: =3*E37+F37 -> 6 | D37: =SUM(E37:G37) -> 3 | E37: =SUM(F42+H43+F46) -> 2 | F37: =SUM(G42+G43+G46) -> 0 | G37: =SUM(H42+F43+H46) -> 1 | H37: =SUM(D42,E43,D46) -> 8 | I37: =SUM(E42,D43,E46) -> 3 | J37: =H37-I37 -> 5 | K37: =(C37*10000)+(J37*100)+H37 -> 60508 | L37: =+A37 -> Gianfranco Mastrantuono | M37: =LARGE(K36:K41,2) -> 60508 | N37: =IF(SUM(C36:C39)=0,"",VLOOKUP(M37,K36:L39,2,FALSE)) -> Gianfranco Mastrantuono
A38: =Iscritti!B149 -> Thomas Vulpes | C38: =3*E38+F38 -> 1 | D38: =SUM(E38:G38) -> 3 | E38: =SUM(H41+F44+H46) -> 0 | F38: =SUM(G41+G44+G46) -> 1 | G38: =SUM(F41+H44+F46) -> 2 | H38: =SUM(E41,D44,E46) -> 3 | I38: =SUM(D41,E44,D46) -> 14 | J38: =H38-I38 -> -11 | K38: =(C38*10000)+(J38*100)+H38 -> 8903 | L38: =+A38 -> Thomas Vulpes | M38: =LARGE(K36:K41,3) -> 9502 | N38: =IF(SUM(C36:C39)=0,"",VLOOKUP(M38,K36:L39,2,FALSE)) -> Massimo Conti
A39: =Iscritti!B166 -> Massimo Conti | C39: =3*E39+F39 -> 1 | D39: =SUM(E39:G39) -> 3 | E39: =SUM(H42+H44+H45) -> 0 | F39: =SUM(G42+G44+G45) -> 1 | G39: =SUM(F42+F44+F45) -> 2 | H39: =SUM(E42,E44,E45) -> 2 | I39: =SUM(D42,D44,D45) -> 7 | J39: =H39-I39 -> -5 | K39: =(C39*10000)+(J39*100)+H39 -> 9502 | L39: =+A39 -> Massimo Conti | M39: =LARGE(K36:K41,4) -> 8903 | N39: =IF(SUM(C36:C39)=0,"",VLOOKUP(M39,K36:L39,2,FALSE)) -> Thomas Vulpes
A40: Incontro / Match | D40: Risultato | N40: Arbitro / Referee
A41: =A36 -> Daniel Scheen | B41: =A38 -> Thomas Vulpes | D41: =IF(Turnidomenica!E75="","",Turnidomenica!E75) -> 8 | E41: =IF(Turnidomenica!F75="","",Turnidomenica!F75) -> 1 | F41: =IF(D41>E41,1,0) -> 1 | G41: =IF(D41="",0,IF(D41=E41,1,0)) -> 0 | H41: =IF(D41<E41,1,0) -> 0 | N41: =A134 -> Claudio Dogali
A42: =A37 -> Gianfranco Mastrantuono | B42: =A39 -> Massimo Conti | D42: =IF(Turnidomenica!E76="","",Turnidomenica!E76) -> 2 | E42: =IF(Turnidomenica!F76="","",Turnidomenica!F76) -> 0 | F42: =IF(D42>E42,1,0) -> 1 | G42: =IF(D42="",0,IF(D42=E42,1,0)) -> 0 | H42: =IF(D42<E42,1,0) -> 0 | N42: =A135 -> Mario Camilleri
A43: =A36 -> Daniel Scheen | B43: =A37 -> Gianfranco Mastrantuono | D43: =IF(Turnidomenica!E159="","",Turnidomenica!E159) -> 2 | E43: =IF(Turnidomenica!F159="","",Turnidomenica!F159) -> 1 | F43: =IF(D43>E43,1,0) -> 1 | G43: =IF(D43="",0,IF(D43=E43,1,0)) -> 0 | H43: =IF(D43<E43,1,0) -> 0 | N43: =A93 -> Mario Corradi
...

Sheet Under19
B1: F.I.S.C.T. Lombardia
B2: Federazione Italiana Sport Calcio da Tavolo
B3: XXXIX TORNEO DI NATALE
B4: Categoria UNDER 19 - Milano, 11 dicembre 2016
A6: GIRONE / GROUP 1
A7: Giocatore / Player | C7: Pts | D7: G | E7: V | F7: N | G7: P | H7: GF | I7: GS | J7: DG
A8: =Iscritti!B173 -> Corentin Wauthy | C8: =E8*3+F8 -> 3 | D8: =SUM(E8:G8) -> 4 | E8: =IF(D14>E14,1,0)+IF(D16>E16,1,0)+IF(D18>E18,1,0)+IF(D22>E22,1,0) -> 1 | F8: =IF(D14="",0,IF(D14=E14,1,0))+IF(D16="",0,IF(D16=E16,1,0))+IF(D18="",0,IF(D18=E18,1,0))+IF(D22="",0,IF(D22=E22,1,0)) -> 0 | G8: =IF(D14<E14,1,0)+IF(D16<E16,1,0)+IF(D18<E18,1,0)+IF(D22<E22,1,0) -> 3 | H8: =SUM(D14,D16,D18,D22) -> 6 | I8: =SUM(E14,E16,E18,E22) -> 17 | J8: =H8-I8 -> -11 | K8: =(C8*10000)+(J8*100)+H8 -> 28906 | L8: =+A8 -> Corentin Wauthy | M8: =LARGE(K8:K15,1) -> 121929 | N8: =IF(SUM(C8:C12)=0,"",VLOOKUP(M8,K8:L12,2,FALSE)) -> Filippo Cubeta
A9: =Iscritti!B175 -> Leonardo Giudice | C9: =E9*3+F9 -> 9 | D9: =SUM(E9:G9) -> 4 | E9: =IF(D15>E15,1,0)+IF(D17>E17,1,0)+IF(E18>D18,1,0)+IF(D20>E20,1,0) -> 3 | F9: =IF(D15="",0,IF(D15=E15,1,0))+IF(D17="",0,IF(D17=E17,1,0))+IF(E18="",0,IF(E18=D18,1,0))+IF(D20="",0,IF(D20=E20,1,0)) -> 0 | G9: =IF(D15<E15,1,0)+IF(D17<E17,1,0)+IF(E18<D18,1,0)+IF(D20<E20,1,0) -> 1 | H9: =SUM(D15,D17,E18,D20) -> 19 | I9: =SUM(E15,E17,D18,E20) -> 7 | J9: =H9-I9 -> 12 | K9: =(C9*10000)+(J9*100)+H9 -> 91219 | L9: =+A9 -> Leonardo Giudice | M9: =LARGE(K8:K15,2) -> 91219 | N9: =IF(SUM(C8:C12)=0,"",VLOOKUP(M9,K8:L12,2,FALSE)) -> Leonardo Giudice
A10: =Iscritti!B178 -> Filippo Cubeta | C10: =E10*3+F10 -> 12 | D10: =SUM(E10:G10) -> 4 | E10: =IF(E16>D16,1,0)+IF(D19>E19,1,0)+IF(E20>D20,1,0)+IF(D23>E23,1,0) -> 4 | F10: =IF(E16="",0,IF(E16=D16,1,0))+IF(D19="",0,IF(D19=E19,1,0))+IF(E20="",0,IF(E20=D20,1,0))+IF(D23="",0,IF(D23=E23,1,0)) -> 0 | G10: =IF(E16<D16,1,0)+IF(D19<E19,1,0)+IF(E20<D20,1,0)+IF(D23<E23,1,0) -> 0 | H10: =SUM(E16,D19,E20,D23) -> 29 | I10: =SUM(D16,E19,D20,E23) -> 10 | J10: =H10-I10 -> 19 | K10: =(C10*10000)+(J10*100)+H10 -> 121929 | L10: =+A10 -> Filippo Cubeta | M10: =LARGE(K8:K15,3) -> 60415 | N10: =IF(SUM(C8:C12)=0,"",VLOOKUP(M10,K8:L12,2,FALSE)) -> Alessandro Natoli
A11: =Iscritti!B180 -> Alessandro Natoli | C11: =E11*3+F11 -> 6 | D11: =SUM(E11:G11) -> 4 | E11: =IF(E14>D14,1,0)+IF(E17>D17,1,0)+IF(D21>E21,1,0)+IF(E23>D23,1,0) -> 2 | F11: =IF(E14="",0,IF(E14=D14,1,0))+IF(E17="",0,IF(E17=D17,1,0))+IF(D21="",0,IF(D21=E21,1,0))+IF(E23="",0,IF(E23=D23,1,0)) -> 0 | G11: =IF(E14<D14,1,0)+IF(E17<D17,1,0)+IF(D21<E21,1,0)+IF(E23<D23,1,0) -> 2 | H11: =SUM(E14,E17,D21,E23) -> 15 | I11: =SUM(D14,D17,E21,D23) -> 11 | J11: =H11-I11 -> 4 | K11: =(C11*10000)+(J11*100)+H11 -> 60415 | L11: =+A11 -> Alessandro Natoli | M11: =LARGE(K8:K15,4) -> 28906 | N11: =IF(SUM(C8:C12)=0,"",VLOOKUP(M11,K8:L12,2,FALSE)) -> Corentin Wauthy
A12: =Iscritti!B182 -> Nico Pretzel | C12: =E12*3+F12 -> 0 | D12: =SUM(E12:G12) -> 4 | E12: =IF(E15>D15,1,0)+IF(E19>D19,1,0)+IF(E21>D21,1,0)+IF(E22>D22,1,0) -> 0 | F12: =IF(E15="",0,IF(E15=D15,1,0))+IF(E19="",0,IF(E19=D19,1,0))+IF(E21="",0,IF(E21=D21,1,0))+IF(E22="",0,IF(E22=D22,1,0)) -> 0 | G12: =IF(E15<D15,1,0)+IF(E19<D19,1,0)+IF(E21<D21,1,0)+IF(E22<D22,1,0) -> 4 | H12: =SUM(E15,E19,E21,E22) -> 0 | I12: =SUM(D15,D19,D21,D22) -> 24 | J12: =H12-I12 -> -24 | K12: =(C12*10000)+(J12*100)+H12 -> -2400 | L12: =+A12 -> Nico Pretzel | M12: =LARGE(K8:K15,5) -> -2400 | N12: =IF(SUM(C8:C12)=0,"",VLOOKUP(M12,K8:L12,2,FALSE)) -> Nico Pretzel
A13: Incontri | D13: Risultato | N13: Arbitro
A14: =A8 -> Corentin Wauthy | B14: =A11 -> Alessandro Natoli | D14: =IF(Turnidomenica!E41="","",Turnidomenica!E41) -> 0 | E14: =IF(Turnidomenica!F41="","",Turnidomenica!F41) -> 5 | F14: =IF(D14>E14,1,0) -> 0 | G14: =IF(D14=E14,1,0) -> 0 | H14: =IF(D14<E14,1,0) -> 1 | N14: =Under15!A8 -> Riccardo Natoli
A15: =A9 -> Leonardo Giudice | B15: =A12 -> Nico Pretzel | D15: =IF(Turnidomenica!E42="","",Turnidomenica!E42) -> 6 | E15: =IF(Turnidomenica!F42="","",Turnidomenica!F42) -> 0 | F15: =IF(D15>E15,1,0) -> 1 | G15: =IF(D15=E15,1,0) -> 0 | H15: =IF(D15<E15,1,0) -> 0 | N15: =Under15!A9 -> Riccardo Marangoni
A16: =A8 -> Corentin Wauthy | B16: =A10 -> Filippo Cubeta | D16: =IF(Turnidomenica!E83="","",Turnidomenica!E83) -> 4 | E16: =IF(Turnidomenica!F83="","",Turnidomenica!F83) -> 7 | F16: =IF(D16>E16,1,0) -> 0 | G16: =IF(D16=E16,1,0) -> 0 | H16: =IF(D16<E16,1,0) -> 1 | N16: =A30 -> Moritz Jung
A17: =A9 -> Leonardo Giudice | B17: =A11 -> Alessandro Natoli | D17: =IF(Turnidomenica!E84="","",Turnidomenica!E84) -> 4 | E17: =IF(Turnidomenica!F84="","",Turnidomenica!F84) -> 2 | F17: =IF(D17>E17,1,0) -> 1 | G17: =IF(D17=E17,1,0) -> 0 | H17: =IF(D17<E17,1,0) -> 0 | N17: =A31 -> Rocco Morganelli
A18: =A8 -> Corentin Wauthy | B18: =A9 -> Leonardo Giudice | D18: =IF(Turnidomenica!E125="","",Turnidomenica!E125) -> 0 | E18: =IF(Turnidomenica!F125="","",Turnidomenica!F125) -> 5 | F18: =IF(D18>E18,1,0) -> 0 | G18: =IF(D18=E18,1,0) -> 0 | H18: =IF(D18<E18,1,0) -> 1 | N18: =Ladies!A8 -> Paola Forlani
A19: =A10 -> Filippo Cubeta | B19: =A12 -> Nico Pretzel | D19: =IF(Turnidomenica!E126="","",Turnidomenica!E126) -> 10 | E19: =IF(Turnidomenica!F126="","",Turnidomenica!F126) -> 0 | F19: =IF(D19>E19,1,0) -> 1 | G19: =IF(D19=E19,1,0) -> 0 | H19: =IF(D19<E19,1,0) -> 0 | N19: =Ladies!A9 -> Giulia Brillantino
A20: =A9 -> Leonardo Giudice | B20: =A10 -> Filippo Cubeta | D20: =IF(Turnidomenica!E209="","",Turnidomenica!E209) -> 4 | E20: =IF(Turnidomenica!F209="","",Turnidomenica!F209) -> 5 | F20: =IF(D20>E20,1,0) -> 0 | G20: =IF(D20=E20,1,0) -> 0 | H20: =IF(D20<E20,1,0) -> 1 | N20: =Under15!A10 -> Lorenzo Lazzaretti
A21: =A11 -> Alessandro Natoli | B21: =A12 -> Nico Pretzel | D21: =IF(Turnidomenica!E210="","",Turnidomenica!E210) -> 6 | E21: =IF(Turnidomenica!F210="","",Turnidomenica!F210) -> 0 | F21: =IF(D21>E21,1,0) -> 1 | G21: =IF(D21=E21,1,0) -> 0 | H21: =IF(D21<E21,1,0) -> 0 | N21: =Under15!A11 -> Gabriele Cavalli
A22: =A8 -> Corentin Wauthy | B22: =A12 -> Nico Pretzel | D22: =IF(Turnidomenica!E251="","",Turnidomenica!E251) -> 2 | E22: =IF(Turnidomenica!F251="","",Turnidomenica!F251) -> 0 | F22: =IF(D22>E22,1,0) -> 1 | G22: =IF(D22=E22,1,0) -> 0 | H22: =IF(D22<E22,1,0) -> 0 | N22: =A27 -> Thèo Modeste
A23: =A10 -> Filippo Cubeta | B23: =A11 -> Alessandro Natoli | D23: =IF(Turnidomenica!E252="","",Turnidomenica!E252) -> 7 | E23: =IF(Turnidomenica!F252="","",Turnidomenica!F252) -> 2 | F23: =IF(D23>E23,1,0) -> 1 | G23: =IF(D23=E23,1,0) -> 0 | H23: =IF(D23<E23,1,0) -> 0 | N23: =A28 -> Jurgen Balzan
A25: GIRONE / GROUP 2
A26: Giocatore / Player | C26: Pts | D26: G | E26: V | F26: N | G26: P | H26: GF | I26: GS | J26: DG
A27: =Iscritti!B174 -> Thèo Modeste | C27: =E27*3+F27 -> 9 | D27: =SUM(E27:G27) -> 4 | E27: =IF(D33>E33,1,0)+IF(D35>E35,1,0)+IF(D37>E37,1,0)+IF(D41>E41,1,0) -> 3 | F27: =IF(D33="",0,IF(D33=E33,1,0))+IF(D35="",0,IF(D35=E35,1,0))+IF(D37="",0,IF(D37=E37,1,0))+IF(D41="",0,IF(D41=E41,1,0)) -> 0 | G27: =IF(D33<E33,1,0)+IF(D35<E35,1,0)+IF(D37<E37,1,0)+IF(D41<E41,1,0) -> 1 | H27: =SUM(D33,D35,D37,D41) -> 12 | I27: =SUM(E33,E35,E37,E41) -> 6 | J27: =H27-I27 -> 6 | K27: =(C27*10000)+(J27*100)+H27 -> 90612 | L27: =+A27 -> Thèo Modeste | M27: =LARGE(K27:K34,1) -> 121116 | N27: =IF(SUM(C27:C31)=0,"",VLOOKUP(M27,K27:L31,2,FALSE)) -> Alessandro Amatelli
A28: =Iscritti!B176 -> Jurgen Balzan | C28: =E28*3+F28 -> 3 | D28: =SUM(E28:G28) -> 4 | E28: =IF(D34>E34,1,0)+IF(D36>E36,1,0)+IF(E37>D37,1,0)+IF(D39>E39,1,0) -> 1 | F28: =IF(D34="",0,IF(D34=E34,1,0))+IF(D36="",0,IF(D36=E36,1,0))+IF(E37="",0,IF(E37=D37,1,0))+IF(D39="",0,IF(D39=E39,1,0)) -> 0 | G28: =IF(D34<E34,1,0)+IF(D36<E36,1,0)+IF(E37<D37,1,0)+IF(D39<E39,1,0) -> 3 | H28: =SUM(D34,D36,E37,D39) -> 7 | I28: =SUM(E34,E36,D37,E39) -> 14 | J28: =H28-I28 -> -7 | K28: =(C28*10000)+(J28*100)+H28 -> 29307 | L28: =+A28 -> Jurgen Balzan | M28: =LARGE(K27:K34,2) -> 90612 | N28: =IF(SUM(C27:C31)=0,"",VLOOKUP(M28,K27:L31,2,FALSE)) -> Thèo Modeste
A29: =Iscritti!B177 -> Alessandro Amatelli | C29: =E29*3+F29 -> 12 | D29: =SUM(E29:G29) -> 4 | E29: =IF(E35>D35,1,0)+IF(D38>E38,1,0)+IF(E39>D39,1,0)+IF(D42>E42,1,0) -> 4 | F29: =IF(E35="",0,IF(E35=D35,1,0))+IF(D38="",0,IF(D38=E38,1,0))+IF(E39="",0,IF(E39=D39,1,0))+IF(D42="",0,IF(D42=E42,1,0)) -> 0 | G29: =IF(E35<D35,1,0)+IF(D38<E38,1,0)+IF(E39<D39,1,0)+IF(D42<E42,1,0) -> 0 | H29: =SUM(E35,D38,E39,D42) -> 16 | I29: =SUM(D35,E38,D39,E42) -> 5 | J29: =H29-I29 -> 11 | K29: =(C29*10000)+(J29*100)+H29 -> 121116 | L29: =+A29 -> Alessandro Amatelli | M29: =LARGE(K27:K34,3) -> 29606 | N29: =IF(SUM(C27:C31)=0,"",VLOOKUP(M29,K27:L31,2,FALSE)) -> Moritz Jung
A30: =Iscritti!B179 -> Moritz Jung | C30: =E30*3+F30 -> 3 | D30: =SUM(E30:G30) -> 4 | E30: =IF(E33>D33,1,0)+IF(E36>D36,1,0)+IF(D40>E40,1,0)+IF(E42>D42,1,0) -> 1 | F30: =IF(E33="",0,IF(E33=D33,1,0))+IF(E36="",0,IF(E36=D36,1,0))+IF(D40="",0,IF(D40=E40,1,0))+IF(E42="",0,IF(E42=D42,1,0)) -> 0 | G30: =IF(E33<D33,1,0)+IF(E36<D36,1,0)+IF(D40<E40,1,0)+IF(E42<D42,1,0) -> 3 | H30: =SUM(E33,E36,D40,E42) -> 6 | I30: =SUM(D33,D36,E40,D42) -> 10 | J30: =H30-I30 -> -4 | K30: =(C30*10000)+(J30*100)+H30 -> 29606 | L30: =+A30 -> Moritz Jung | M30: =LARGE(K27:K34,4) -> 29404 | N30: =IF(SUM(C27:C31)=0,"",VLOOKUP(M30,K27:L31,2,FALSE)) -> Rocco Morganelli
A31: =Iscritti!B181 -> Rocco Morganelli | C31: =E31*3+F31 -> 3 | D31: =SUM(E31:G31) -> 4 | E31: =IF(E34>D34,1,0)+IF(E38>D38,1,0)+IF(E40>D40,1,0)+IF(E41>D41,1,0) -> 1 | F31: =IF(E34="",0,IF(E34=D34,1,0))+IF(E38="",0,IF(E38=D38,1,0))+IF(E40="",0,IF(E40=D40,1,0))+IF(E41="",0,IF(E41=D41,1,0)) -> 0 | G31: =IF(E34<D34,1,0)+IF(E38<D38,1,0)+IF(E40<D40,1,0)+IF(E41<D41,1,0) -> 3 | H31: =SUM(E34,E38,E40,E41) -> 4 | I31: =SUM(D34,D38,D40,D41) -> 10 | J31: =H31-I31 -> -6 | K31: =(C31*10000)+(J31*100)+H31 -> 29404 | L31: =+A31 -> Rocco Morganelli | M31: =LARGE(K27:K34,5) -> 29307 | N31: =IF(SUM(C27:C31)=0,"",VLOOKUP(M31,K27:L31,2,FALSE)) -> Jurgen Balzan
A32: Incontri | D32: Risultato | N32: Arbitro
A33: =A27 -> Thèo Modeste | B33: =A30 -> Moritz Jung | D33: =IF(Turnidomenica!E43="","",Turnidomenica!E43) -> 3 | E33: =IF(Turnidomenica!F43="","",Turnidomenica!F43) -> 1 | F33: =IF(D33>E33,1,0) -> 1 | G33: =IF(D33=E33,1,0) -> 0 | H33: =IF(D33<E33,1,0) -> 0 | N33: =Under15!A10 -> Lorenzo Lazzaretti
A34: =A28 -> Jurgen Balzan | B34: =A31 -> Rocco Morganelli | D34: =IF(Turnidomenica!E44="","",Turnidomenica!E44) -> 1 | E34: =IF(Turnidomenica!F44="","",Turnidomenica!F44) -> 2 | F34: =IF(D34>E34,1,0) -> 0 | G34: =IF(D34=E34,1,0) -> 0 | H34: =IF(D34<E34,1,0) -> 1 | N34: =Under15!A11 -> Gabriele Cavalli
A35: =A27 -> Thèo Modeste | B35: =A29 -> Alessandro Amatelli | D35: =IF(Turnidomenica!E127="","",Turnidomenica!E127) -> 0 | E35: =IF(Turnidomenica!F127="","",Turnidomenica!F127) -> 3 | F35: =IF(D35>E35,1,0) -> 0 | G35: =IF(D35=E35,1,0) -> 0 | H35: =IF(D35<E35,1,0) -> 1 | N35: =Ladies!A11 -> Daria Prazynski
A36: =A28 -> Jurgen Balzan | B36: =A30 -> Moritz Jung | D36: =IF(Turnidomenica!E128="","",Turnidomenica!E128) -> 2 | E36: =IF(Turnidomenica!F128="","",Turnidomenica!F128) -> 1 | F36: =IF(D36>E36,1,0) -> 1 | G36: =IF(D36=E36,1,0) -> 0 | H36: =IF(D36<E36,1,0) -> 0 | N36: =Ladies!A12 -> Stefka Radkova
A37: =A27 -> Thèo Modeste | B37: =A28 -> Jurgen Balzan | D37: =IF(Turnidomenica!E167="","",Turnidomenica!E167) -> 4 | E37: =IF(Turnidomenica!F167="","",Turnidomenica!F167) -> 1 | F37: =IF(D37>E37,1,0) -> 1 | G37: =IF(D37=E37,1,0) -> 0 | H37: =IF(D37<E37,1,0) -> 0 | N37: =A8 -> Corentin Wauthy
A38: =A29 -> Alessandro Amatelli | B38: =A31 -> Rocco Morganelli | D38: =IF(Turnidomenica!E168="","",Turnidomenica!E168) -> 2 | E38: =IF(Turnidomenica!F168="","",Turnidomenica!F168) -> 0 | F38: =IF(D38>E38,1,0) -> 1 | G38: =IF(D38=E38,1,0) -> 0 | H38: =IF(D38<E38,1,0) -> 0 | N38: =A9 -> Leonardo Giudice
A39: =A28 -> Jurgen Balzan | B39: =A29 -> Alessandro Amatelli | D39: =IF(Turnidomenica!E211="","",Turnidomenica!E211) -> 3 | E39: =IF(Turnidomenica!F211="","",Turnidomenica!F211) -> 7 | F39: =IF(D39>E39,1,0) -> 0 | G39: =IF(D39=E39,1,0) -> 0 | H39: =IF(D39<E39,1,0) -> 1 | N39: =Under15!A8 -> Riccardo Natoli
A40: =A30 -> Moritz Jung | B40: =A31 -> Rocco Morganelli | D40: =IF(Turnidomenica!E212="","",Turnidomenica!E212) -> 2 | E40: =IF(Turnidomenica!F212="","",Turnidomenica!F212) -> 1 | F40: =IF(D40>E40,1,0) -> 1 | G40: =IF(D40=E40,1,0) -> 0 | H40: =IF(D40<E40,1,0) -> 0 | N40: =Under15!A9 -> Riccardo Marangoni
A41: =A27 -> Thèo Modeste | B41: =A31 -> Rocco Morganelli | D41: =IF(Turnidomenica!E291="","",Turnidomenica!E291) -> 5 | E41: =IF(Turnidomenica!F291="","",Turnidomenica!F291) -> 1 | F41: =IF(D41>E41,1,0) -> 1 | G41: =IF(D41=E41,1,0) -> 0 | H41: =IF(D41<E41,1,0) -> 0 | N41: =A9 -> Leonardo Giudice
A42: =A29 -> Alessandro Amatelli | B42: =A30 -> Moritz Jung | D42: =IF(Turnidomenica!E292="","",Turnidomenica!E292) -> 4 | E42: =IF(Turnidomenica!F292="","",Turnidomenica!F292) -> 2 | F42: =IF(D42>E42,1,0) -> 1 | G42: =IF(D42=E42,1,0) -> 0 | H42: =IF(D42<E42,1,0) -> 0 | N42: =A8 -> Corentin Wauthy
...

Sheet Under15
B1: F.I.S.C.T. Lombardia
B2: Federazione Italiana Sport Calcio da Tavolo
B3: XXXIX TORNEO DI NATALE
B4: Categoria UNDER 15 - Milano, 11 dicembre 2016
A6: GIRONE / GROUP 1
A7: Giocatore / Player | C7: Pts | D7: G | E7: V | F7: N | G7: P | H7: GF | I7: GS | J7: DG
A8: =Iscritti!B187 -> Riccardo Natoli | C8: =3*E8+F8 -> 9 | D8: =SUM(E8:G8) -> 3 | E8: =SUM(F13+F15+F17) -> 3 | F8: =SUM(G13+G15+G17) -> 0 | G8: =SUM(H13+H15+H17) -> 0 | H8: =SUM(D13,D15,D17) -> 10 | I8: =SUM(E13,E15,E17) -> 3 | J8: =H8-I8 -> 7 | K8: =(C8*10000)+(J8*100)+H8 -> 90710 | L8: =+A8 -> Riccardo Natoli | M8: =LARGE(K8:K13,1) -> 90710 | N8: =IF(SUM(C8:C11)=0,"",VLOOKUP(M8,K8:L11,2,FALSE)) -> Riccardo Natoli
A9: =Iscritti!B189 -> Riccardo Marangoni | C9: =3*E9+F9 -> 6 | D9: =SUM(E9:G9) -> 3 | E9: =SUM(F14+H15+F18) -> 2 | F9: =SUM(G14+G15+G18) -> 0 | G9: =SUM(H14+F15+H18) -> 1 | H9: =SUM(D14,E15,D18) -> 7 | I9: =SUM(E14,D15,E18) -> 4 | J9: =H9-I9 -> 3 | K9: =(C9*10000)+(J9*100)+H9 -> 60307 | L9: =+A9 -> Riccardo Marangoni | M9: =LARGE(K8:K13,2) -> 60307 | N9: =IF(SUM(C8:C11)=0,"",VLOOKUP(M9,K8:L11,2,FALSE)) -> Riccardo Marangoni
A10: =Iscritti!B188 -> Lorenzo Lazzaretti | C10: =3*E10+F10 -> 3 | D10: =SUM(E10:G10) -> 3 | E10: =SUM(H13+F16+H18) -> 1 | F10: =SUM(G13+G16+G18) -> 0 | G10: =SUM(F13+H16+F18) -> 2 | H10: =SUM(E13,D16,E18) -> 3 | I10: =SUM(D13,E16,D18) -> 7 | J10: =H10-I10 -> -4 | K10: =(C10*10000)+(J10*100)+H10 -> 29603 | L10: =+A10 -> Lorenzo Lazzaretti | M10: =LARGE(K8:K13,3) -> 29603 | N10: =IF(SUM(C8:C11)=0,"",VLOOKUP(M10,K8:L11,2,FALSE)) -> Lorenzo Lazzaretti
A11: =Iscritti!B190 -> Gabriele Cavalli | C11: =3*E11+F11 -> 0 | D11: =SUM(E11:G11) -> 3 | E11: =SUM(H14+H16+H17) -> 0 | F11: =SUM(G14+G16+G17) -> 0 | G11: =SUM(F14+F16+F17) -> 3 | H11: =SUM(E14,E16,E17) -> 1 | I11: =SUM(D14,D16,D17) -> 7 | J11: =H11-I11 -> -6 | K11: =(C11*10000)+(J11*100)+H11 -> -599 | L11: =+A11 -> Gabriele Cavalli | M11: =LARGE(K8:K13,4) -> -599 | N11: =IF(SUM(C8:C11)=0,"",VLOOKUP(M11,K8:L11,2,FALSE)) -> Gabriele Cavalli
A12: Incontro / Match | D12: Ris./Score | N12: Arbitro / Referee
A13: =A8 -> Riccardo Natoli | B13: =A10 -> Lorenzo Lazzaretti | D13: =IF(Turnidomenica!E85="","",Turnidomenica!E85) -> 3 | E13: =IF(Turnidomenica!F85="","",Turnidomenica!F85) -> 1 | F13: =IF(D13>E13,1,0) -> 1 | G13: =IF(D13="",0,IF(D13=E13,1,0)) -> 0 | H13: =IF(D13<E13,1,0) -> 0 | N13: =Ladies!A10 -> Bettina Lenz-Exler
A14: =A9 -> Riccardo Marangoni | B14: =A11 -> Gabriele Cavalli | D14: =IF(Turnidomenica!E86="","",Turnidomenica!E86) -> 2 | E14: =IF(Turnidomenica!F86="","",Turnidomenica!F86) -> 0 | F14: =IF(D14>E14,1,0) -> 1 | G14: =IF(D14="",0,IF(D14=E14,1,0)) -> 0 | H14: =IF(D14<E14,1,0) -> 0 | N14: =Under19!A29 -> Alessandro Amatelli
A15: =A8 -> Riccardo Natoli | B15: =A9 -> Riccardo Marangoni | D15: =IF(Turnidomenica!E169="","",Turnidomenica!E169) -> 3 | E15: =IF(Turnidomenica!F169="","",Turnidomenica!F169) -> 1 | F15: =IF(D15>E15,1,0) -> 1 | G15: =IF(D15="",0,IF(D15=E15,1,0)) -> 0 | H15: =IF(D15<E15,1,0) -> 0 | N15: =Under12!A8 -> Francesco Borgo
A16: =A10 -> Lorenzo Lazzaretti | B16: =A11 -> Gabriele Cavalli | D16: =IF(Turnidomenica!E170="","",Turnidomenica!E170) -> 1 | E16: =IF(Turnidomenica!F170="","",Turnidomenica!F170) -> 0 | F16: =IF(D16>E16,1,0) -> 1 | G16: =IF(D16="",0,IF(D16=E16,1,0)) -> 0 | H16: =IF(D16<E16,1,0) -> 0 | N16: =Under12!A9 -> Francesco Tozzi
A17: =A8 -> Riccardo Natoli | B17: =A11 -> Gabriele Cavalli | D17: =IF(Turnidomenica!E253="","",Turnidomenica!E253) -> 4 | E17: =IF(Turnidomenica!F253="","",Turnidomenica!F253) -> 1 | F17: =IF(D17>E17,1,0) -> 1 | G17: =IF(D17="",0,IF(D17=E17,1,0)) -> 0 | H17: =IF(D17<E17,1,0) -> 0 | N17: =Under19!A30 -> Moritz Jung
A18: =A9 -> Riccardo Marangoni | B18: =A10 -> Lorenzo Lazzaretti | D18: =IF(Turnidomenica!E254="","",Turnidomenica!E254) -> 4 | E18: =IF(Turnidomenica!F254="","",Turnidomenica!F254) -> 1 | F18: =IF(D18>E18,1,0) -> 1 | G18: =IF(D18="",0,IF(D18=E18,1,0)) -> 0 | H18: =IF(D18<E18,1,0) -> 0 | N18: =Under19!A31 -> Rocco Morganelli
A20: SEMIFINALI / SEMIFINALS
A21: Giocatore/Player A | B21: Giocatore/Player B | D21: Ris./Score | F21: Qualificato/Qualified | N21: Arbitro / Referee
A22: =N8 -> Riccardo Natoli | B22: =N11 -> Gabriele Cavalli | D22: =IF(Turnidomenica!E333="","",Turnidomenica!E333) -> 5 | E22: =IF(Turnidomenica!F333="","",Turnidomenica!F333) -> 0 | F22: =IF(D22>E22,A22,IF(OR(D22=E22),"Spareggio",B22)) -> Riccardo Natoli | L22: =IF(D22<E22,A22,IF(OR(D22=E22),"spareggio",B22)) -> Gabriele Cavalli | N22: da definire
A23: =N9 -> Riccardo Marangoni | B23: =N10 -> Lorenzo Lazzaretti | D23: =IF(Turnidomenica!E334="","",Turnidomenica!E334) -> 3 | E23: =IF(Turnidomenica!F334="","",Turnidomenica!F334) -> 1 | F23: =IF(D23>E23,A23,IF(OR(D23=E23),"Spareggio",B23)) -> Riccardo Marangoni | L23: =IF(D23<E23,A23,IF(OR(D23=E23),"spareggio",B23)) -> Lorenzo Lazzaretti | N23: da definire
A25: FINALE / FINAL
A26: Giocatore/Player A | B26: Giocatore/Player B | D26: Ris./Score | F26: Vincitore/Winner | N26: Arbitro / Referee
A27: =F22 -> Riccardo Natoli | B27: =F23 -> Riccardo Marangoni | D27: =IF(Turnidomenica!E405="","",Turnidomenica!E405) -> 1 | E27: =IF(Turnidomenica!F405="","",Turnidomenica!F405) -> 0 | F27: =IF(D27>E27,A27,IF(OR(D27=E27),"Spareggio",B27)) -> Riccardo Natoli | L27: =IF(D27<E27,A27,IF(OR(D27=E27),"spareggio",B27)) -> Riccardo Marangoni | N27: =L22 -> Gabriele Cavalli

Sheet Under12
B1: F.I.S.C.T. Lombardia
B2: Federazione Italiana Sport Calcio da Tavolo
B3: XXXIX TORNEO DI NATALE
B4: Categoria UNDER 12 - Milano, 11 dicembre 2016
A6: GIRONE / GROUP 1
A7: Giocatore / Player | C7: Pts | D7: G | E7: V | F7: N | G7: P | H7: GF | I7: GS | J7: DG
A8: =Iscritti!B195 -> Francesco Borgo | C8: =E8*3+F8 -> 7 | D8: =SUM(E8:G8) -> 4 | E8: =IF(D14>E14,1,0)+IF(D16>E16,1,0)+IF(D18>E18,1,0)+IF(D22>E22,1,0) -> 2 | F8: =IF(D14="",0,IF(D14=E14,1,0))+IF(D16="",0,IF(D16=E16,1,0))+IF(D18="",0,IF(D18=E18,1,0))+IF(D22="",0,IF(D22=E22,1,0)) -> 1 | G8: =IF(D14<E14,1,0)+IF(D16<E16,1,0)+IF(D18<E18,1,0)+IF(D22<E22,1,0) -> 1 | H8: =SUM(D14,D16,D18,D22) -> 9 | I8: =SUM(E14,E16,E18,E22) -> 7 | J8: =H8-I8 -> 2 | K8: =(C8*10000)+(J8*100)+H8 -> 70209 | L8: =+A8 -> Francesco Borgo | M8: =LARGE(K8:K15,1) -> 101014 | N8: =IF(SUM(C8:C12)=0,"",VLOOKUP(M8,K8:L12,2,FALSE)) -> Francesco Tozzi
A9: =Iscritti!B196 -> Francesco Tozzi | C9: =E9*3+F9 -> 10 | D9: =SUM(E9:G9) -> 4 | E9: =IF(D15>E15,1,0)+IF(D17>E17,1,0)+IF(E18>D18,1,0)+IF(D20>E20,1,0) -> 3 | F9: =IF(D15="",0,IF(D15=E15,1,0))+IF(D17="",0,IF(D17=E17,1,0))+IF(E18="",0,IF(E18=D18,1,0))+IF(D20="",0,IF(D20=E20,1,0)) -> 1 | G9: =IF(D15<E15,1,0)+IF(D17<E17,1,0)+IF(E18<D18,1,0)+IF(D20<E20,1,0) -> 0 | H9: =SUM(D15,D17,E18,D20) -> 14 | I9: =SUM(E15,E17,D18,E20) -> 4 | J9: =H9-I9 -> 10 | K9: =(C9*10000)+(J9*100)+H9 -> 101014 | L9: =+A9 -> Francesco Tozzi | M9: =LARGE(K8:K15,2) -> 90812 | N9: =IF(SUM(C8:C12)=0,"",VLOOKUP(M9,K8:L12,2,FALSE)) -> Christian Fricano
A10: =Iscritti!B197 -> Christian Fricano | C10: =E10*3+F10 -> 9 | D10: =SUM(E10:G10) -> 4 | E10: =IF(E16>D16,1,0)+IF(D19>E19,1,0)+IF(E20>D20,1,0)+IF(D23>E23,1,0) -> 3 | F10: =IF(E16="",0,IF(E16=D16,1,0))+IF(D19="",0,IF(D19=E19,1,0))+IF(E20="",0,IF(E20=D20,1,0))+IF(D23="",0,IF(D23=E23,1,0)) -> 0 | G10: =IF(E16<D16,1,0)+IF(D19<E19,1,0)+IF(E20<D20,1,0)+IF(D23<E23,1,0) -> 1 | H10: =SUM(E16,D19,E20,D23) -> 12 | I10: =SUM(D16,E19,D20,E23) -> 4 | J10: =H10-I10 -> 8 | K10: =(C10*10000)+(J10*100)+H10 -> 90812 | L10: =+A10 -> Christian Fricano | M10: =LARGE(K8:K15,3) -> 70209 | N10: =IF(SUM(C8:C12)=0,"",VLOOKUP(M10,K8:L12,2,FALSE)) -> Francesco Borgo
A11: =Iscritti!B198 -> Ludovico Barcellona | C11: =E11*3+F11 -> 3 | D11: =SUM(E11:G11) -> 4 | E11: =IF(E14>D14,1,0)+IF(E17>D17,1,0)+IF(D21>E21,1,0)+IF(E23>D23,1,0) -> 1 | F11: =IF(E14="",0,IF(E14=D14,1,0))+IF(E17="",0,IF(E17=D17,1,0))+IF(D21="",0,IF(D21=E21,1,0))+IF(E23="",0,IF(E23=D23,1,0)) -> 0 | G11: =IF(E14<D14,1,0)+IF(E17<D17,1,0)+IF(D21<E21,1,0)+IF(E23<D23,1,0) -> 3 | H11: =SUM(E14,E17,D21,E23) -> 4 | I11: =SUM(D14,D17,E21,D23) -> 12 | J11: =H11-I11 -> -8 | K11: =(C11*10000)+(J11*100)+H11 -> 29204 | L11: =+A11 -> Ludovico Barcellona | M11: =LARGE(K8:K15,4) -> 29204 | N11: =IF(SUM(C8:C12)=0,"",VLOOKUP(M11,K8:L12,2,FALSE)) -> Ludovico Barcellona
A12: =Iscritti!B199 -> Pietro Gatti | C12: =E12*3+F12 -> 0 | D12: =SUM(E12:G12) -> 4 | E12: =IF(E15>D15,1,0)+IF(E19>D19,1,0)+IF(E21>D21,1,0)+IF(E22>D22,1,0) -> 0 | F12: =IF(E15="",0,IF(E15=D15,1,0))+IF(E19="",0,IF(E19=D19,1,0))+IF(E21="",0,IF(E21=D21,1,0))+IF(E22="",0,IF(E22=D22,1,0)) -> 0 | G12: =IF(E15<D15,1,0)+IF(E19<D19,1,0)+IF(E21<D21,1,0)+IF(E22<D22,1,0) -> 4 | H12: =SUM(E15,E19,E21,E22) -> 4 | I12: =SUM(D15,D19,D21,D22) -> 16 | J12: =H12-I12 -> -12 | K12: =(C12*10000)+(J12*100)+H12 -> -1196 | L12: =+A12 -> Pietro Gatti | M12: =LARGE(K8:K15,5) -> -1196 | N12: =IF(SUM(C8:C12)=0,"",VLOOKUP(M12,K8:L12,2,FALSE)) -> Pietro Gatti
A13: Incontri | D13: Risultato | N13: Arbitro
A14: =A8 -> Francesco Borgo | B14: =A11 -> Ludovico Barcellona | D14: =IF(Turnidomenica!E45="","",Turnidomenica!E45) -> 3 | E14: =IF(Turnidomenica!F45="","",Turnidomenica!F45) -> 0 | F14: =IF(D14>E14,1,0) -> 1 | G14: =IF(D14=E14,1,0) -> 0 | H14: =IF(D14<E14,1,0) -> 0 | N14: =Ladies!A8 -> Paola Forlani
A15: =A9 -> Francesco Tozzi | B15: =A12 -> Pietro Gatti | D15: =IF(Turnidomenica!E46="","",Turnidomenica!E46) -> 4 | E15: =IF(Turnidomenica!F46="","",Turnidomenica!F46) -> 1 | F15: =IF(D15>E15,1,0) -> 1 | G15: =IF(D15=E15,1,0) -> 0 | H15: =IF(D15<E15,1,0) -> 0 | N15: =Ladies!A9 -> Giulia Brillantino
A16: =A8 -> Francesco Borgo | B16: =A10 -> Christian Fricano | D16: =IF(Turnidomenica!E129="","",Turnidomenica!E129) -> 1 | E16: =IF(Turnidomenica!F129="","",Turnidomenica!F129) -> 4 | F16: =IF(D16>E16,1,0) -> 0 | G16: =IF(D16=E16,1,0) -> 0 | H16: =IF(D16<E16,1,0) -> 1 | N16: =Under19!A11 -> Alessandro Natoli
A17: =A9 -> Francesco Tozzi | B17: =A11 -> Ludovico Barcellona | D17: =IF(Turnidomenica!E130="","",Turnidomenica!E130) -> 7 | E17: =IF(Turnidomenica!F130="","",Turnidomenica!F130) -> 1 | F17: =IF(D17>E17,1,0) -> 1 | G17: =IF(D17=E17,1,0) -> 0 | H17: =IF(D17<E17,1,0) -> 0 | N17: =Under19!A31 -> Rocco Morganelli
A18: =A8 -> Francesco Borgo | B18: =A9 -> Francesco Tozzi | D18: =IF(Turnidomenica!E213="","",Turnidomenica!E213) -> 1 | E18: =IF(Turnidomenica!F213="","",Turnidomenica!F213) -> 1 | F18: =IF(D18>E18,1,0) -> 0 | G18: =IF(D18=E18,1,0) -> 1 | H18: =IF(D18<E18,1,0) -> 0 | N18: =Ladies!A11 -> Daria Prazynski
A19: =A10 -> Christian Fricano | B19: =A12 -> Pietro Gatti | D19: =IF(Turnidomenica!E214="","",Turnidomenica!E214) -> 5 | E19: =IF(Turnidomenica!F214="","",Turnidomenica!F214) -> 1 | F19: =IF(D19>E19,1,0) -> 1 | G19: =IF(D19=E19,1,0) -> 0 | H19: =IF(D19<E19,1,0) -> 0 | N19: =Ladies!A12 -> Stefka Radkova
A20: =A9 -> Francesco Tozzi | B20: =A10 -> Christian Fricano | D20: =IF(Turnidomenica!E293="","",Turnidomenica!E293) -> 2 | E20: =IF(Turnidomenica!F293="","",Turnidomenica!F293) -> 1 | F20: =IF(D20>E20,1,0) -> 1 | G20: =IF(D20=E20,1,0) -> 0 | H20: =IF(D20<E20,1,0) -> 0 | N20: da definire
A21: =A11 -> Ludovico Barcellona | B21: =A12 -> Pietro Gatti | D21: =IF(Turnidomenica!E294="","",Turnidomenica!E294) -> 3 | E21: =IF(Turnidomenica!F294="","",Turnidomenica!F294) -> 0 | F21: =IF(D21>E21,1,0) -> 1 | G21: =IF(D21=E21,1,0) -> 0 | H21: =IF(D21<E21,1,0) -> 0 | N21: da definire
A22: =A8 -> Francesco Borgo | B22: =A12 -> Pietro Gatti | D22: =IF(Turnidomenica!E335="","",Turnidomenica!E335) -> 4 | E22: =IF(Turnidomenica!F335="","",Turnidomenica!F335) -> 2 | F22: =IF(D22>E22,1,0) -> 1 | G22: =IF(D22=E22,1,0) -> 0 | H22: =IF(D22<E22,1,0) -> 0 | N22: =Under15!A9 -> Riccardo Marangoni
A23: =A10 -> Christian Fricano | B23: =A11 -> Ludovico Barcellona | D23: =IF(Turnidomenica!E336="","",Turnidomenica!E336) -> 2 | E23: =IF(Turnidomenica!F336="","",Turnidomenica!F336) -> 0 | F23: =IF(D23>E23,1,0) -> 1 | G23: =IF(D23=E23,1,0) -> 0 | H23: =IF(D23<E23,1,0) -> 0 | N23: =Under19!A10 -> Filippo Cubeta
A25: FINALE / FINAL
A26: Giocatore/Player A | B26: Giocatore/Player B | D26: Ris./Score | F26: Vincitore/Winner | N26: Arbitro / Referee
A27: =N8 -> Francesco Tozzi | B27: =N9 -> Christian Fricano | D27: =IF(Turnidomenica!E406="","",Turnidomenica!E406) -> 1 | E27: =IF(Turnidomenica!F406="","",Turnidomenica!F406) -> 0 | F27: =IF(D27>E27,A27,IF(OR(D27=E27),"Spareggio",B27)) -> Francesco Tozzi | L27: =IF(D27<E27,A27,IF(OR(D27=E27),"spareggio",B27)) -> Christian Fricano | N27: =N10 -> Francesco Borgo

Sheet Ladies
B1: F.I.S.C.T. Lombardia
B2: Federazione Italiana Sport Calcio da Tavolo
B3: XXXIX TORNEO DI NATALE
B4: Categoria LADIES - Milano, 11 dicembre 2016
A6: GIRONE / GROUP 1
A7: Giocatore / Player | C7: Pts | D7: G | E7: V | F7: N | G7: P | H7: GF | I7: GS | J7: DG
A8: =Iscritti!B204 -> Paola Forlani | C8: =E8*3+F8 -> 12 | D8: =SUM(E8:G8) -> 4 | E8: =IF(D14>E14,1,0)+IF(D16>E16,1,0)+IF(D18>E18,1,0)+IF(D22>E22,1,0) -> 4 | F8: =IF(D14="",0,IF(D14=E14,1,0))+IF(D16="",0,IF(D16=E16,1,0))+IF(D18="",0,IF(D18=E18,1,0))+IF(D22="",0,IF(D22=E22,1,0)) -> 0 | G8: =IF(D14<E14,1,0)+IF(D16<E16,1,0)+IF(D18<E18,1,0)+IF(D22<E22,1,0) -> 0 | H8: =SUM(D14,D16,D18,D22) -> 17 | I8: =SUM(E14,E16,E18,E22) -> 0 | J8: =H8-I8 -> 17 | K8: =(C8*10000)+(J8*100)+H8 -> 121717 | L8: =+A8 -> Paola Forlani | M8: =LARGE(K8:K15,1) -> 121717 | N8: =IF(SUM(C8:C12)=0,"",VLOOKUP(M8,K8:L12,2,FALSE)) -> Paola Forlani
A9: =Iscritti!B205 -> Giulia Brillantino | C9: =E9*3+F9 -> 7 | D9: =SUM(E9:G9) -> 4 | E9: =IF(D15>E15,1,0)+IF(D17>E17,1,0)+IF(E18>D18,1,0)+IF(D20>E20,1,0) -> 2 | F9: =IF(D15="",0,IF(D15=E15,1,0))+IF(D17="",0,IF(D17=E17,1,0))+IF(E18="",0,IF(E18=D18,1,0))+IF(D20="",0,IF(D20=E20,1,0)) -> 1 | G9: =IF(D15<E15,1,0)+IF(D17<E17,1,0)+IF(E18<D18,1,0)+IF(D20<E20,1,0) -> 1 | H9: =SUM(D15,D17,E18,D20) -> 7 | I9: =SUM(E15,E17,D18,E20) -> 5 | J9: =H9-I9 -> 2 | K9: =(C9*10000)+(J9*100)+H9 -> 70207 | L9: =+A9 -> Giulia Brillantino | M9: =LARGE(K8:K15,2) -> 70209 | N9: =IF(SUM(C8:C12)=0,"",VLOOKUP(M9,K8:L12,2,FALSE)) -> Bettina Lenz-Exler
A10: =Iscritti!B207 -> Bettina Lenz-Exler | C10: =E10*3+F10 -> 7 | D10: =SUM(E10:G10) -> 4 | E10: =IF(E16>D16,1,0)+IF(D19>E19,1,0)+IF(E20>D20,1,0)+IF(D23>E23,1,0) -> 2 | F10: =IF(E16="",0,IF(E16=D16,1,0))+IF(D19="",0,IF(D19=E19,1,0))+IF(E20="",0,IF(E20=D20,1,0))+IF(D23="",0,IF(D23=E23,1,0)) -> 1 | G10: =IF(E16<D16,1,0)+IF(D19<E19,1,0)+IF(E20<D20,1,0)+IF(D23<E23,1,0) -> 1 | H10: =SUM(E16,D19,E20,D23) -> 9 | I10: =SUM(D16,E19,D20,E23) -> 7 | J10: =H10-I10 -> 2 | K10: =(C10*10000)+(J10*100)+H10 -> 70209 | L10: =+A10 -> Bettina Lenz-Exler | M10: =LARGE(K8:K15,3) -> 70207 | N10: =IF(SUM(C8:C12)=0,"",VLOOKUP(M10,K8:L12,2,FALSE)) -> Giulia Brillantino
A11: =Iscritti!B206 -> Daria Prazynski | C11: =E11*3+F11 -> 1 | D11: =SUM(E11:G11) -> 4 | E11: =IF(E14>D14,1,0)+IF(E17>D17,1,0)+IF(D21>E21,1,0)+IF(E23>D23,1,0) -> 0 | F11: =IF(E14="",0,IF(E14=D14,1,0))+IF(E17="",0,IF(E17=D17,1,0))+IF(D21="",0,IF(D21=E21,1,0))+IF(E23="",0,IF(E23=D23,1,0)) -> 1 | G11: =IF(E14<D14,1,0)+IF(E17<D17,1,0)+IF(D21<E21,1,0)+IF(E23<D23,1,0) -> 3 | H11: =SUM(E14,E17,D21,E23) -> 0 | I11: =SUM(D14,D17,E21,D23) -> 6 | J11: =H11-I11 -> -6 | K11: =(C11*10000)+(J11*100)+H11 -> 9400 | L11: =+A11 -> Daria Prazynski | M11: =LARGE(K8:K15,4) -> 9400 | N11: =IF(SUM(C8:C12)=0,"",VLOOKUP(M11,K8:L12,2,FALSE)) -> Daria Prazynski
