Workbook

Sheet Iscritti
D1: F.I.S.C.T. Lombardia
D2: Federazione Italiana Sport Calcio da Tavolo
D3: XXXIX TORNEO DI NATALE
D4: Elenco iscritti - Milano, 10 e 11 dicembre 2016
A6: SQUADRE
A8: # | B8: squadra/team | E8: nazione/country | G8: città/city | I8: rank | J8: seed
A9: 1 | B9: F.lli Bari Reggio Emilia | E9: Italia | G9: Reggio Emilia | I9: 1 | K9: ITAC040
A10: 2 | B10: Tiburones FM | E10: Spagna | G10: Malaga | I10: 2 | K10: ESPC011
A11: 3 | B11: Fiamme Azzurre | E11: Italia | G11: Roma | I11: 4 | K11: ITAC027
A12: 4 | B12: Wiener Neustadt | E12: Austria | G12: Wiener Neustadt | I12: 5 | K12: AUTC003
A13: 5 | B13: Rochefort TS | E13: Belgio | G13: Rochefort | I13: 7 | K13: BELC008
A14: 6 | B14: TFC Mattersburg | E14: Austria | G14: Mattersburg | I14: 8 | K14: AUTC001
A15: 7 | B15: Valletta | E15: Malta | G15: La Valletta | I15: 12 | K15: MLTC001
A16: 8 | B16: Bologna Tigers | E16: Italia | G16: Bologna | I16: 20 | K16: ITAC003
A17: 9 | B17: Issy-les-Moulineaux | E17: Francia | G17: Issy-les-Moulineaux | I17: 21 | K17: FRAC008
A18: 10 | B18: Master Sanremo | E18: Italia | G18: Sanremo (IM) | I18: 31 | K18: ITAC041
A19: 11 | B19: Stella Artois | E19: Italia | G19: Milano | I19: 35 | K19: ITAC033
A20: 12 | B20: Ascoli | E20: Italia | G20: Ascoli | I20: 36 | K20: ITAC052
... A36: 28 | B36: Torino 2009 | E36: Italia | G36: Torino | I36: 224 | K36: ITAC038
A37: 29 | B37: Atletico Pisa | E37: Italia | G37: Pisa | I37: _
A38: 30 | B38: CT Aosta | E38: Italia | G38: Aosta | I38: _
A39: 31 | B39: Master Sanremo 2 | E39: Italia | G39: Sanremo (IM) | I39: _ | K39: ITAC041
A40: 32 | B40: Subbuteisti Carpi | E40: Italia | G40: Carpi (MO) | I40: _
A42: OPEN
A44: # | B44: nome/name | E44: nazione/country | G44: club | I44: rank | J44: seed
A45: 1 | B45: Juan Noguera | E45: Spagna | G45: Fiamme Azzurre | I45: 1 | K45: ESP0040
A46: 2 | B46: Luca Colangelo | E46: Italia | G46: Fiamme Azzurre | I46: 3 | K46: ITA0225
A47: 3 | B47: Christian Haas | E47: Austria | G47: Wiener Neustadt | I47: 5 | K47: AUT0025
A48: 4 | B48: Saverio Bari | E48: Italia | G48: F.lli Bari Reggio Emilia | I48: 6 | K48: ITA0066 | L48: 25526
A49: 5 | B49: Massimiliano Nastasi | E49: Italia | G49: Valletta | I49: 7 | K49: ITA0603 | L49: 26662
A50: 6 | B50: Wolfgang Leitner | E50: Austria | G50: Mattersburg | I50: 10 | K50: AUT0010
A51: 7 | B51: Justin Leroy | E51: Belgio | G51: Rochefort TS | I51: 11 | K51: BEL0114
A52: 8 | B52: Emanuele Licheri | E52: Italia | G52: F.lli Bari Reggio Emilia | I52: 19 | K52: ITA0480 | L52: 27041
A53: 9 | B53: Mongi Rouis | E53: Francia | G53: Black Devils | I53: 24 | K53: FRA0044
A54: 10 | B54: Bjorn Kegenbein | E54: Germania | G54: Mattersburg | I54: 29 | K54: GER0021
A55: 11 | B55: Jean-Marie Amberny | E55: Francia | G55: Ascoli | I55: 32 | K55: FRA0018 | L55: 27005
A56: 12 | B56: Sergio Ramos | E56: Portogallo | G56: Bologna Tigers | I56: 33 | K56: POR0022 | L56: 28659
A57: 13 | B57: Luca Zambello | E57: Italia | G57: F.lli Bari Reggio Emilia | I57: 35 | K57: ITA0908 | L57: 34804
A58: 14 | B58: Axel Donval | E58: Francia | G58: Stembert | I58: 39 | K58: FRA0019
A59: 15 | B59: Luca Battista | E59: Italia | G59: Napoli Fighters | I59: 63 | K59: ITA0077 | L59: 35194
A60: 16 | B60: Massimo Cremona | E60: Malta | G60: F.lli Bari Reggio Emilia | I60: 65 | K60: MLT0018 | L60: 26873
A61: 17 | B61: Edoardo Bellotto | E61: Italia | G61: Serenissima Mestre | I61: 66 | K61: ITA0086 | L61: 21153
A62: 18 | B62: Matteo Ciccarelli | E62: Italia | G62: Napoli Fighters | I62: 76 | K62: ITA0788 | L62: 23884
A63: 19 | B63: Michael Stolzenberg | E63: Germania | G63: Sparta Spreeathen | I63: 79 | K63: GER0029
A64: 20 | B64: Gerardo Patruno | E64: Italia | G64: Bologna Tigers | I64: 85 | K64: ITA0648 | L64: 25738
A65: 21 | B65: Marcus Tilgner | E65: Germania | G65: Sparta Spreeathen | I65: 94 | K65: GER0030
A66: 22 | B66: Remy Lours | E66: Francia | G66: FTC Caen | I66: 121 | K66: FRA0109
A67: 23 | B67: Florian Giaux | E67: Belgio | G67: Rochefort TS | I67: 131 | K67: BEL0104
A68: 24 | B68: Raul Benita | E68: Spagna | G68: Bologna Tigers | I68: 149 | K68: ESP0011 | L68: 27241
A69: 25 | B69: Luca Martinelli | E69: Inghilterra | G69: Yorkshire Phoenix | I69: 172 | K69: ENG0323
A70: 26 | B70: Alex Iorio | E70: Italia | G70: Stella Artois | I70: 175 | K70: ITA0446 | L70: 27770
A71: 27 | B71: Roderick Vassallo | E71: Malta | G71: Valletta | I71: 212 | K71: MLT0026 | L71: 29645
A72: 28 | B72: Maurizio Jon Scotta | E72: Italia | G72: Biella '91 | I72: 216 | K72: ITA0450 | L72: 27811
A73: 29 | B73: Robert Lenz | E73: Austria | G73: Mattersburg | I73: 223 | K73: AUT0012
A74: 30 | B74: Gàbor Baross | E74: Ungheria | G74: TFKN Dragons | I74: 244 | K74: HUN0025 | L74: 27367
A75: 31 | B75: Paul Naszalyi | E75: Francia | G75: Issy-les-Moulineaux | I75: 288 | K75: FRA0026 | L75: 35599
A76: 32 | B76: Luca Ciabattoni | E76: Italia | G76: Ascoli | I76: 300 | K76: ITA0204 | L76: 28255
A77: 33 | B77: Mauro Salvati | E77: Italia | G77: Virtus 4 Strade | I77: 301 | K77: ITA0756 | L77: 28031
A78: 34 | B78: Alessandro Mastropasqua | E78: Italia | G78: Serenissima Mestre | I78: 335 | K78: ITA0549
A79: 35 | B79: Filippo Filippella | E79: Italia | G79: CT Aosta | I79: 352 | K79: ITA1646
A80: 36 | B80: Raphael Pommier | E80: Francia | G80: FTC Caen | I80: 368 | K80: FRA0062
A81: 37 | B81: Cesare Natoli | E81: Italia | G81: Messina TS | I81: 383 | K81: ITA0605 | L81: 25500
A82: 38 | B82: Vito De Benedictis | E82: Italia | G82: Salernitana | I82: 403 | K82: ITA1639 | L82: 27097
A83: 39 | B83: Daniele Di Cè | E83: Italia | G83: Subbuteisti Carpi | I83: 429 | K83: ITA1544 | L83: 26829
A84: 40 | B84: Mauro Petrini | E84: Italia | G84: Grosseto | I84: 440 | K84: ITA0666 | L84: 24966
A85: 41 | B85: Augusto Vagnoni | E85: Italia | G85: Ascoli | I85: 452 | K85: ITA0876 | L85: 27154
A86: 42 | B86: Marcello Bodin de Chatelard | E86: Italia | G86: Biella '91 | I86: 458 | K86: ITA0110 | L86: 29036
A87: 43 | B87: William Dotto | E87: Italia | G87: Serenissima Mestre | I87: 484 | K87: ITA1275 | L87: 26777
A88: 44 | B88: Massimo Di Cè | E88: Italia | G88: Subbuteisti Carpi | I88: 576 | K88: ITA1588 | L88: 25777
A89: 45 | B89: Pierpaolo Murabito | E89: Italia | G89: Siracusa CT | I89: 577 | K89: ITA1137 | L89: 30373
A90: 46 | B90: Alberto Recano | E90: Italia | G90: Napoli Fighters | I90: 583 | K90: ITA0717 | L90: 30545
A91: 47 | B91: Enrico Giannarelli | E91: Italia | G91: Grosseto | I91: 615 | K91: ITA0402 | L91: 26036
A92: 48 | B92: Fernando Gomez | E92: Spagna | G92: Turia 1981 | I92: 623 | K92: ESP0014
A93: 49 | B93: Ismaele Caurla | E93: Italia | G93: Trento Subbuteo | I93: 683 | K93: ITA1569 | L93: 28947
A94: 50 | B94: Giancarlo Cavanna Cavanna | E94: Italia | G94: Biella '91 | I94: 721 | K94: ITA1213
A95: 51 | B95: Maurizio Brillantino | E95: Italia | G95: Stradivari | I95: 725 | K95: ITA0136 | L95: 26802
A96: 52 | B96: Carlo Ciraolo | E96: Italia | G96: Stradivari | I96: 734 | K96: ITA0216 | L96: 26233
A97: 53 | B97: Paolo Zambello | E97: Italia | G97: Pierce 14 Altavilla | I97: 744 | K97: ITA0909 | L97: 36480
A98: 54 | B98: Giovanni Francavilla | E98: Italia | G98: Torino 2009 | I98: 824 | K98: ITA0370 | L98: 24999
A99: 55 | B99: Rosario Ifrigerio | E99: Italia | G99: Salernitana | I99: 852 | K99: ITA1163
A100: 56 | B100: Pier Luigi Signoretti | E100: Italia | G100: ACS Perugia | I100: 855 | K100: ITA1636 | L100: 27913
A101: 57 | B101: Riccardo Schito | E101: Italia | G101: Virtus 4 Strade | I101: 952 | K101: ITA0780 | L101: 23972
A102: 58 | B102: Marco Midoro | E102: Italia | G102: Torino 2009 | I102: 955 | K102: ITA0921 | L102: 27148
A103: 59 | B103: Saverio Ferrante | E103: Italia | G103: Foggia | I103: 1020 | K103: ITA0348
A104: 60 | B104: Tiberio Becucci | E104: Italia | G104: Firenze | I104: 1067 | K104: ITA0079 | L104: 21990
A105: 61 | B105: Daniele Lopresto | E105: Italia | G105: Virtus 4 Strade | I105: 1115 | K105: ITA1496 | L105: 21961
A106: 62 | B106: Marco Bonciani | E106: Italia | G106: Firenze | I106: 1152 | K106: ITA0121 | L106: 28010
A107: 63 | B107: Mirco Pasquini | E107: Italia | G107: Firenze | I107: _ | L107: 27012
A108: 64 | B108: Riccardo Ferri | E108: Italia | G108: Firenze | I108: _ | L108: 25043
A109: 65 | B109: Gabriele Casati | E109: Italia | G109: Firenze | I109: _ | L109: 26351
A110: 66 | B110: Francesco Gori | E110: Italia | G110: Firenze | I110: _ | L110: 28008
A111: 67 | B111: Emanuele Funaro | E111: Israele | G111: Stella Artois | I111: _ | L111: 23893
A112: 68 | B112: Adrianio Potecchi | E112: Italia | G112: Stella Artois | I112: _
A113: 69 | B113: Massimo Santini | E113: Italia | G113: Stradivari | I113: _
A114: 70 | B114: Luca Converti | E114: Italia | G114: Torino 2009 | I114: _
A115: 71 | B115: Alessio Tacchia | E115: Italia | G115: Serenissima Mestre | I115: _ | L115: 28836
A116: 72 | B116: Tom Horn | E116: Germania | G116: Sparta Spreeathen | I116: _ | K116: GER0085
A117: 73 | B117: Simone Bertelli | E117: Italia | G117: Black & Blue | I117: _
A118: 74 | B118: Alessandro Subazzoli | E118: Italia | G118: Black & Blue | I118: _
A119: 75 | B119: Paolo Bernardini | E119: Italia | G119: Biella '91 | I119: _
...

Sheet Teams
B1: F.I.S.C.T. Lombardia
B2: Federazione Italiana Sport Calcio da Tavolo
B3: XXXIX TORNEO DI NATALE
B4: TORNEO A SQUADRE - Milano, 10 dicembre 2016
A6: GIRONE 1
A7: Squadra / Team | C7: Pts | D7: G | E7: V | F7: N | G7: P | H7: PV | I7: PP | J7: DP | K7: GF | L7: GS | M7: DG | Q7: Rank
A8: =Iscritti!B9 -> F.lli Bari Reggio Emilia | C8: =3*E8+F8 -> 9 | D8: =SUM(E8:G8) -> 3 | E8: =SUM(F13+F15+F17) -> 3 | F8: =SUM(G13+G15+G17) -> 0 | G8: =SUM(H13+H15+H17) -> 0 | H8: =SUM(D13,D15,D17) -> 10 | I8: =SUM(E13,E15,E17) -> 0 | J8: =H8-I8 -> 10 | K8: =D26+D40+D54 -> 52 | L8: =E26+E40+E54 -> 11 | M8: =K8-L8 -> 41 | N8: =(C8*10000)+(J8*1000)+(H8*100)+(M8*10)+K8 -> 101462 | O8: =+A8 -> F.lli Bari Reggio Emilia | P8: =LARGE(N8:N11,1) -> 101462 | Q8: =IF(SUM(C8:C11)=0,"",VLOOKUP(P8,N8:O11,2,FALSE)) -> F.lli Bari Reggio Emilia
A9: =Iscritti!B24 -> Rain 1970 | C9: =3*E9+F9 -> 3 | D9: =SUM(E9:G9) -> 3 | E9: =SUM(F14+H15+F18) -> 1 | F9: =SUM(G14+G15+G18) -> 0 | G9: =SUM(H14+F15+H18) -> 2 | H9: =SUM(D14,E15,D18) -> 3 | I9: =SUM(E14,D15,E18) -> 7 | J9: =H9-I9 -> -4 | K9: =D33+E40+D61 -> 18 | L9: =E33+D40+E61 -> 39 | M9: =K9-L9 -> -21 | N9: =(C9*10000)+(J9*1000)+(H9*100)+(M9*10)+K9 -> 26108 | O9: =+A9 -> Rain 1970 | P9: =LARGE(N8:N11,2) -> 63804 | Q9: =IF(SUM(C8:C11)=0,"",VLOOKUP(P9,N8:O11,2,FALSE)) -> Leonessa
A10: =Iscritti!B30 -> Leonessa | C10: =3*E10+F10 -> 6 | D10: =SUM(E10:G10) -> 3 | E10: =SUM(H13+F16+H18) -> 2 | F10: =SUM(G13+G16+G18) -> 0 | G10: =SUM(F13+H16+F18) -> 1 | H10: =SUM(E13,D16,E18) -> 7 | I10: =SUM(D13,E16,D18) -> 4 | J10: =H10-I10 -> 3 | K10: =E26+D47+E61 -> 24 | L10: =D26+E47+D61 -> 16 | M10: =K10-L10 -> 8 | N10: =(C10*10000)+(J10*1000)+(H10*100)+(M10*10)+K10 -> 63804 | O10: =+A10 -> Leonessa | P10: =LARGE(N8:N11,3) -> 26108 | Q10: =IF(SUM(C8:C11)=0,"",VLOOKUP(P10,N8:O11,2,FALSE)) -> Rain 1970
A11: =Iscritti!B37 -> Atletico Pisa | C11: =3*E11+F11 -> 0 | D11: =SUM(E11:G11) -> 3 | E11: =SUM(H14+H16+H17) -> 0 | F11: =SUM(G14+G16+G17) -> 0 | G11: =SUM(F14+F16+F17) -> 3 | H11: =SUM(E14,E16,E17) -> 0 | I11: =SUM(D14,D16,D17) -> 9 | J11: =H11-I11 -> -9 | K11: =E33+E47+E54 -> 7 | L11: =D33+D47+D54 -> 35 | M11: =K11-L11 -> -28 | N11: =(C11*10000)+(J11*1000)+(H11*100)+(M11*10)+K11 -> -9273 | O11: =+A11 -> Atletico Pisa | P11: =LARGE(N8:N11,4) -> -9273 | Q11: =IF(SUM(C8:C11)=0,"",VLOOKUP(P11,N8:O11,2,FALSE)) -> Atletico Pisa
A12: Incontro / Match | D12: Ris./Score | Q12: Arbitro/Referee
A13: =A8 -> F.lli Bari Reggio Emilia | B13: =A10 -> Leonessa | D13: =IF(Turnisabato!E25="","",Turnisabato!E25) -> 3 | E13: =IF(Turnisabato!F25="","",Turnisabato!F25) -> 0 | F13: =IF(D13>E13,1,0) -> 1 | G13: =IF(D13="",0,IF(D13=E13,1,0)) -> 0 | H13: =IF(D13<E13,1,0) -> 0 | Q13: =A350 -> Valletta
A14: =A9 -> Rain 1970 | B14: =A11 -> Atletico Pisa | D14: =IF(Turnisabato!E26="","",Turnisabato!E26) -> 2 | E14: =IF(Turnisabato!F26="","",Turnisabato!F26) -> 0 | F14: =IF(D14>E14,1,0) -> 1 | G14: =IF(D14="",0,IF(D14=E14,1,0)) -> 0 | H14: =IF(D14<E14,1,0) -> 0 | Q14: =A351 -> Foggia
A15: =A8 -> F.lli Bari Reggio Emilia | B15: =A9 -> Rain 1970 | D15: =IF(Turnisabato!E53="","",Turnisabato!E53) -> 4 | E15: =IF(Turnisabato!F53="","",Turnisabato!F53) -> 0 | F15: =IF(D15>E15,1,0) -> 1 | G15: =IF(D15="",0,IF(D15=E15,1,0)) -> 0 | H15: =IF(D15<E15,1,0) -> 0 | Q15: =A236 -> Rochefort TS
A16: =A10 -> Leonessa | B16: =A11 -> Atletico Pisa | D16: =IF(Turnisabato!E54="","",Turnisabato!E54) -> 4 | E16: =IF(Turnisabato!F54="","",Turnisabato!F54) -> 0 | F16: =IF(D16>E16,1,0) -> 1 | G16: =IF(D16="",0,IF(D16=E16,1,0)) -> 0 | H16: =IF(D16<E16,1,0) -> 0 | Q16: =A237 -> Ascoli
A17: =A8 -> F.lli Bari Reggio Emilia | B17: =A11 -> Atletico Pisa | D17: =IF(Turnisabato!E81="","",Turnisabato!E81) -> 3 | E17: =IF(Turnisabato!F81="","",Turnisabato!F81) -> 0 | F17: =IF(D17>E17,1,0) -> 1 | G17: =IF(D17="",0,IF(D17=E17,1,0)) -> 0 | H17: =IF(D17<E17,1,0) -> 0 | Q17: =A407 -> Bologna Tigers
A18: =A9 -> Rain 1970 | B18: =A10 -> Leonessa | D18: =IF(Turnisabato!E82="","",Turnisabato!E82) -> 1 | E18: =IF(Turnisabato!F82="","",Turnisabato!F82) -> 3 | F18: =IF(D18>E18,1,0) -> 0 | G18: =IF(D18="",0,IF(D18=E18,1,0)) -> 0 | H18: =IF(D18<E18,1,0) -> 1 | Q18: =A408 -> Issy-les-Moulineaux
A20: Incontro / Match | D20: Ris./Score | Q20: Arbitro/Referee
A21: =A13 -> F.lli Bari Reggio Emilia | B21: =B13 -> Leonessa | D21: =SUM(F22:F25) -> 3 | E21: =SUM(G22:G25) -> 0 | Q21: =Q13 -> Valletta
A22: E. Licheri | B22: D. Furini | D22: 3 | E22: 1 | F22: =IF(D22>E22,1,0) -> 1 | G22: =IF(E22>D22,1,0) -> 0
A23: G. Monica | B23: D. Visentin | D23: 1 | E23: 1 | F23: =IF(D23>E23,1,0) -> 0 | G23: =IF(E23>D23,1,0) -> 0
A24: L. Zambello | B24: F. Torano | D24: 3 | E24: 2 | F24: =IF(D24>E24,1,0) -> 1 | G24: =IF(E24>D24,1,0) -> 0
A25: M. Cremona | B25: P. Torano | D25: 3 | E25: 1 | F25: =IF(D25>E25,1,0) -> 1 | G25: =IF(E25>D25,1,0) -> 0
D26: =SUM(D22+D23+D24+D25) -> 10 | E26: =SUM(E22+E23+E24+E25) -> 5 | F26: =IF(D26<>E26,IF(D26>E26,1,0),IF(H26>I26,1,0)) -> 1 | G26: =IF(D26<>E26,IF(E26>D26,1,0),IF(I26>H26,1,0)) -> 0
A28: =A14 -> Rain 1970 | B28: =B14 -> Atletico Pisa | D28: =SUM(F29:F32) -> 2 | E28: =SUM(G29:G32) -> 0 | Q28: =Q14 -> Foggia
A29: M. Jung | B29: A. Toni | D29: 2 | E29: 2 | F29: =IF(D29>E29,1,0) -> 0 | G29: =IF(E29>D29,1,0) -> 0 | Q29: S. Ferrante
A30: T. Vulpes | B30: V. Cianchella | D30: 2 | E30: 0 | F30: =IF(D30>E30,1,0) -> 1 | G30: =IF(E30>D30,1,0) -> 0 | Q30: G. Savastio
A31: H. Ruf | B31: M. Farnesi | D31: 2 | E31: 2 | F31: =IF(D31>E31,1,0) -> 0 | G31: =IF(E31>D31,1,0) -> 0 | Q31: G. Battaglia
A32: A. Jung | B32: bye | D32: 3 | E32: 0 | F32: =IF(D32>E32,1,0) -> 1 | G32: =IF(E32>D32,1,0) -> 0
D33: =SUM(D29+D30+D31+D32) -> 9 | E33: =SUM(E29+E30+E31+E32) -> 4 | F33: =IF(D33<>E33,IF(D33>E33,1,0),IF(H33>I33,1,0)) -> 1 | G33: =IF(D33<>E33,IF(E33>D33,1,0),IF(I33>H33,1,0)) -> 0
A35: =A15 -> F.lli Bari Reggio Emilia | B35: =B15 -> Rain 1970 | D35: =SUM(F36:F39) -> 4 | E35: =SUM(G36:G39) -> 0 | Q35: =Q15 -> Rochefort TS
A36: G. Monica | B36: H. Ruf | D36: 5 | E36: 2 | F36: =IF(D36>E36,1,0) -> 1 | G36: =IF(E36>D36,1,0) -> 0
A37: M. Cremona | B37: A. Jung | D37: 9 | E37: 0 | F37: =IF(D37>E37,1,0) -> 1 | G37: =IF(E37>D37,1,0) -> 0
A38: P. Licheri | B38: T. Vulpes | D38: 6 | E38: 1 | F38: =IF(D38>E38,1,0) -> 1 | G38: =IF(E38>D38,1,0) -> 0
A39: L. Zambello | B39: M. Jung | D39: 7 | E39: 1 | F39: =IF(D39>E39,1,0) -> 1 | G39: =IF(E39>D39,1,0) -> 0
D40: =SUM(D36+D37+D38+D39) -> 27 | E40: =SUM(E36+E37+E38+E39) -> 4 | F40: =IF(D40<>E40,IF(D40>E40,1,0),IF(H40>I40,1,0)) -> 1 | G40: =IF(D40<>E40,IF(E40>D40,1,0),IF(I40>H40,1,0)) -> 0
A42: =A16 -> Leonessa | B42: =B16 -> Atletico Pisa | D42: =SUM(F43:F46) -> 4 | E42: =SUM(G43:G46) -> 0 | Q42: =Q16 -> Ascoli
A43: D. Visentin | B43: M. Farnesi | D43: 3 | E43: 0 | F43: =IF(D43>E43,1,0) -> 1 | G43: =IF(E43>D43,1,0) -> 0 | Q43: L. Ciabattoni
A44: P. Torano | B44: A. Toni | D44: 3 | E44: 1 | F44: =IF(D44>E44,1,0) -> 1 | G44: =IF(E44>D44,1,0) -> 0 | Q44: A. Vagnoni
A45: F. Torano | B45: V. Cianchella | D45: 2 | E45: 0 | F45: =IF(D45>E45,1,0) -> 1 | G45: =IF(E45>D45,1,0) -> 0 | Q45: J.M. Amberny
A46: D. Furini | B46: bye | D46: 3 | E46: 0 | F46: =IF(D46>E46,1,0) -> 1 | G46: =IF(E46>D46,1,0) -> 0
D47: =SUM(D43+D44+D45+D46) -> 11 | E47: =SUM(E43+E44+E45+E46) -> 1 | F47: =IF(D47<>E47,IF(D47>E47,1,0),IF(H47>I47,1,0)) -> 1 | G47: =IF(D47<>E47,IF(E47>D47,1,0),IF(I47>H47,1,0)) -> 0
A49: =A17 -> F.lli Bari Reggio Emilia | B49: =B17 -> Atletico Pisa | D49: =SUM(F50:F53) -> 3 | E49: =SUM(G50:G53) -> 0 | Q49: =Q17 -> Bologna Tigers
A50: G. Monica | B50: A. Toni | D50: 1 | E50: 1 | F50: =IF(D50>E50,1,0) -> 0 | G50: =IF(E50>D50,1,0) -> 0
A51: L. Zambello | B51: V. Ciancella | D51: 5 | E51: 1 | F51: =IF(D51>E51,1,0) -> 1 | G51: =IF(E51>D51,1,0) -> 0
A52: M. Cremona | B52: M. Farnesi | D52: 6 | E52: 0 | F52: =IF(D52>E52,1,0) -> 1 | G52: =IF(E52>D52,1,0) -> 0
A53: E. Licheri | D53: 3 | E53: 0 | F53: =IF(D53>E53,1,0) -> 1 | G53: =IF(E53>D53,1,0) -> 0
D54: =SUM(D50+D51+D52+D53) -> 15 | E54: =SUM(E50+E51+E52+E53) -> 2 | F54: =IF(D54<>E54,IF(D54>E54,1,0),IF(H54>I54,1,0)) -> 1 | G54: =IF(D54<>E54,IF(E54>D54,1,0),IF(I54>H54,1,0)) -> 0
A56: =A18 -> Rain 1970 | B56: =B18 -> Leonessa | D56: =SUM(F57:F60) -> 1 | E56: =SUM(G57:G60) -> 3 | Q56: =Q18 -> Issy-les-Moulineaux
A57: H. Ruf | B57: D. Furini | D57: 0 | E57: 2 | F57: =IF(D57>E57,1,0) -> 0 | G57: =IF(E57>D57,1,0) -> 1
A58: T. Vulpes | B58: P. Torano | D58: 0 | E58: 2 | F58: =IF(D58>E58,1,0) -> 0 | G58: =IF(E58>D58,1,0) -> 1
A59: A. Jung | B59: F. Torano | D59: 1 | E59: 2 | F59: =IF(D59>E59,1,0) -> 0 | G59: =IF(E59>D59,1,0) -> 1
A60: M. Jung | B60: D. Visentin | D60: 4 | E60: 2 | F60: =IF(D60>E60,1,0) -> 1 | G60: =IF(E60>D60,1,0) -> 0
D61: =SUM(D57+D58+D59+D60) -> 5 | E61: =SUM(E57+E58+E59+E60) -> 8 | F61: =IF(D61<>E61,IF(D61>E61,1,0),IF(H61>I61,1,0)) -> 0 | G61: =IF(D61<>E61,IF(E61>D61,1,0),IF(I61>H61,1,0)) -> 1
A63: GIRONE 2
A64: Squadra / Team | C64: Pts | D64: G | E64: V | F64: N | G64: P | H64: PV | I64: PP | J64: DP | K64: GF | L64: GS | M64: DG | Q64: Rank
A65: =Iscritti!B10 -> Tiburones FM | C65: =3*E65+F65 -> 5 | D65: =SUM(E65:G65) -> 3 | E65: =SUM(F70+F72+F74) -> 1 | F65: =SUM(G70+G72+G74) -> 2 | G65: =SUM(H70+H72+H74) -> 0 | H65: =SUM(D70,D72,D74) -> 5 | I65: =SUM(E70,E72,E74) -> 2 | J65: =H65-I65 -> 3 | K65: =D83+D97+D111 -> 23 | L65: =E83+E97+E111 -> 14 | M65: =K65-L65 -> 9 | N65: =(C65*10000)+(J65*1000)+(H65*100)+(M65*10)+K65 -> 53613 | O65: =+A65 -> Tiburones FM | P65: =LARGE(N65:N68,1) -> 73729 | Q65: =IF(SUM(C65:C68)=0,"",VLOOKUP(P65,N65:O68,2,FALSE)) -> Master Sanremo
A66: =Iscritti!B18 -> Master Sanremo | C66: =3*E66+F66 -> 7 | D66: =SUM(E66:G66) -> 3 | E66: =SUM(F71+H72+F75) -> 2 | F66: =SUM(G71+G72+G75) -> 1 | G66: =SUM(H71+F72+H75) -> 0 | H66: =SUM(D71,E72,D75) -> 6 | I66: =SUM(E71,D72,E75) -> 3 | J66: =H66-I66 -> 3 | K66: =D90+E97+D118 -> 29 | L66: =E90+D97+E118 -> 19 | M66: =K66-L66 -> 10 | N66: =(C66*10000)+(J66*1000)+(H66*100)+(M66*10)+K66 -> 73729 | O66: =+A66 -> Master Sanremo | P66: =LARGE(N65:N68,2) -> 53613 | Q66: =IF(SUM(C65:C68)=0,"",VLOOKUP(P66,N65:O68,2,FALSE)) -> Tiburones FM
A67: =Iscritti!B31 -> Biella 91 | C67: =3*E67+F67 -> 4 | D67: =SUM(E67:G67) -> 3 | E67: =SUM(H70+F73+H75) -> 1 | F67: =SUM(G70+G73+G75) -> 1 | G67: =SUM(F70+H73+F75) -> 1 | H67: =SUM(E70,D73,E75) -> 5 | I67: =SUM(D70,E73,D75) -> 3 | J67: =H67-I67 -> 2 | K67: =E83+D104+E118 -> 20 | L67: =D83+E104+D118 -> 20 | M67: =K67-L67 -> 0 | N67: =(C67*10000)+(J67*1000)+(H67*100)+(M67*10)+K67 -> 42520 | O67: =+A67 -> Biella 91 | P67: =LARGE(N65:N68,3) -> 42520 | Q67: =IF(SUM(C65:C68)=0,"",VLOOKUP(P67,N65:O68,2,FALSE)) -> Biella 91
A68: =Iscritti!B40 -> Subbuteisti Carpi | C68: =3*E68+F68 -> 0 | D68: =SUM(E68:G68) -> 3 | E68: =SUM(H71+H73+H74) -> 0 | F68: =SUM(G71+G73+G74) -> 0 | G68: =SUM(F71+F73+F74) -> 3 | H68: =SUM(E71,E73,E74) -> 1 | I68: =SUM(D71,D73,D74) -> 9 | J68: =H68-I68 -> -8 | K68: =E90+E104+E111 -> 14 | L68: =D90+D104+D111 -> 33 | M68: =K68-L68 -> -19 | N68: =(C68*10000)+(J68*1000)+(H68*100)+(M68*10)+K68 -> -8076 | O68: =+A68 -> Subbuteisti Carpi | P68: =LARGE(N65:N68,4) -> -8076 | Q68: =IF(SUM(C65:C68)=0,"",VLOOKUP(P68,N65:O68,2,FALSE)) -> Subbuteisti Carpi
A69: Incontro / Match | D69: Ris./Score | Q69: Arbitro/Referee
A70: =A65 -> Tiburones FM | B70: =A67 -> Biella 91 | D70: =IF(Turnisabato!E27="","",Turnisabato!E27) -> 1 | E70: =IF(Turnisabato!F27="","",Turnisabato!F27) -> 1 | F70: =IF(D70>E70,1,0) -> 0 | G70: =IF(D70="",0,IF(D70=E70,1,0)) -> 1 | H70: =IF(D70<E70,1,0) -> 0 | Q70: =A352 -> Grosseto
A71: =A66 -> Master Sanremo | B71: =A68 -> Subbuteisti Carpi | D71: =IF(Turnisabato!E28="","",Turnisabato!E28) -> 3 | E71: =IF(Turnisabato!F28="","",Turnisabato!F28) -> 1 | F71: =IF(D71>E71,1,0) -> 1 | G71: =IF(D71="",0,IF(D71=E71,1,0)) -> 0 | H71: =IF(D71<E71,1,0) -> 0 | Q71: =A353 -> Stradivari 2
A72: =A65 -> Tiburones FM | B72: =A66 -> Master Sanremo | D72: =IF(Turnisabato!E55="","",Turnisabato!E55) -> 1 | E72: =IF(Turnisabato!F55="","",Turnisabato!F55) -> 1 | F72: =IF(D72>E72,1,0) -> 0 | G72: =IF(D72="",0,IF(D72=E72,1,0)) -> 1 | H72: =IF(D72<E72,1,0) -> 0 | Q72: =A238 -> Flickers
A73: =A67 -> Biella 91 | B73: =A68 -> Subbuteisti Carpi | D73: =IF(Turnisabato!E56="","",Turnisabato!E56) -> 3 | E73: =IF(Turnisabato!F56="","",Turnisabato!F56) -> 0 | F73: =IF(D73>E73,1,0) -> 1 | G73: =IF(D73="",0,IF(D73=E73,1,0)) -> 0 | H73: =IF(D73<E73,1,0) -> 0 | Q73: =A239 -> Torino 2009
A74: =A65 -> Tiburones FM | B74: =A68 -> Subbuteisti Carpi | D74: =IF(Turnisabato!E83="","",Turnisabato!E83) -> 3 | E74: =IF(Turnisabato!F83="","",Turnisabato!F83) -> 0 | F74: =IF(D74>E74,1,0) -> 1 | G74: =IF(D74="",0,IF(D74=E74,1,0)) -> 0 | H74: =IF(D74<E74,1,0) -> 0 | Q74: =A409 -> Stradivari
A75: =A66 -> Master Sanremo | B75: =A67 -> Biella 91 | D75: =IF(Turnisabato!E84="","",Turnisabato!E84) -> 2 | E75: =IF(Turnisabato!F84="","",Turnisabato!F84) -> 1 | F75: =IF(D75>E75,1,0) -> 1 | G75: =IF(D75="",0,IF(D75=E75,1,0)) -> 0 | H75: =IF(D75<E75,1,0) -> 0 | Q75: =A410 -> Torino 2009 2
A77: Incontro / Match | D77: Ris./Score | Q77: Arbitro/Referee
A78: =A70 -> Tiburones FM | B78: =B70 -> Biella 91 | D78: =SUM(F79:F82) -> 1 | E78: =SUM(G79:G82) -> 1 | Q78: =Q70 -> Grosseto
A79: V. Prats | B79: G. Lena | D79: 0 | E79: 0 | F79: =IF(D79>E79,1,0) -> 0 | G79: =IF(E79>D79,1,0) -> 0
A80: F. Coll | B80: M. Jon Scotta | D80: 2 | E80: 3 | F80: =IF(D80>E80,1,0) -> 0 | G80: =IF(E80>D80,1,0) -> 1
A81: L. Lopez | B81: M. Bodin de Chatelard | D81: 0 | E81: 0 | F81: =IF(D81>E81,1,0) -> 0 | G81: =IF(E81>D81,1,0) -> 0
A82: L. Mendez | B82: F. Pisca | D82: 3 | E82: 1 | F82: =IF(D82>E82,1,0) -> 1 | G82: =IF(E82>D82,1,0) -> 0
D83: =SUM(D79+D80+D81+D82) -> 5 | E83: =SUM(E79+E80+E81+E82) -> 4 | F83: =IF(D83<>E83,IF(D83>E83,1,0),IF(H83>I83,1,0)) -> 1 | G83: =IF(D83<>E83,IF(E83>D83,1,0),IF(I83>H83,1,0)) -> 0
A85: =A71 -> Master Sanremo | B85: =B71 -> Subbuteisti Carpi | D85: =SUM(F86:F89) -> 3 | E85: =SUM(G86:G89) -> 1 | Q85: =Q71 -> Stradivari 2
A86: D. Busch | B86: G. Preziuso | D86: 4 | E86: 2 | F86: =IF(D86>E86,1,0) -> 1 | G86: =IF(E86>D86,1,0) -> 0 | Q86: F. Sella
A87: G. Calonico | B87: P. Guerra | D87: 3 | E87: 1 | F87: =IF(D87>E87,1,0) -> 1 | G87: =IF(E87>D87,1,0) -> 0 | Q87: C. A. Scaglia
A88: C. Dogali | B88: M. Porro | D88: 3 | E88: 0 | F88: =IF(D88>E88,1,0) -> 1 | G88: =IF(E88>D88,1,0) -> 0 | Q88: J. Calò
A89: G. Mastrantuono | B89: D. Di Cè | D89: 2 | E89: 3 | F89: =IF(D89>E89,1,0) -> 0 | G89: =IF(E89>D89,1,0) -> 1 | Q89: L. Pessini
D90: =SUM(D86+D87+D88+D89) -> 12 | E90: =SUM(E86+E87+E88+E89) -> 6 | F90: =IF(D90<>E90,IF(D90>E90,1,0),IF(H90>I90,1,0)) -> 1 | G90: =IF(D90<>E90,IF(E90>D90,1,0),IF(I90>H90,1,0)) -> 0
A92: =A72 -> Tiburones FM | B92: =B72 -> Master Sanremo | D92: =SUM(F93:F96) -> 1 | E92: =SUM(G93:G96) -> 1 | Q92: =Q72 -> Flickers
A93: V. Prats | B93: D. Busch | D93: 0 | E93: 0 | F93: =IF(D93>E93,1,0) -> 0 | G93: =IF(E93>D93,1,0) -> 0 | Q93: M. Baj
A94: F. Coll | B94: G. Mastrantuono | D94: 2 | E94: 2 | F94: =IF(D94>E94,1,0) -> 0 | G94: =IF(E94>D94,1,0) -> 0 | Q94: V. De Pascale
A95: A. Montano | B95: C. Dogali | D95: 3 | E95: 2 | F95: =IF(D95>E95,1,0) -> 1 | G95: =IF(E95>D95,1,0) -> 0 | Q95: G. Ancarola
A96: L. Lopez | B96: G. Calonico | D96: 2 | E96: 3 | F96: =IF(D96>E96,1,0) -> 0 | G96: =IF(E96>D96,1,0) -> 1 | Q96: F. Riccobene
D97: =SUM(D93+D94+D95+D96) -> 7 | E97: =SUM(E93+E94+E95+E96) -> 7 | F97: =IF(D97<>E97,IF(D97>E97,1,0),IF(H97>I97,1,0)) -> 0 | G97: =IF(D97<>E97,IF(E97>D97,1,0),IF(I97>H97,1,0)) -> 0
A99: =A73 -> Biella 91 | B99: =B73 -> Subbuteisti Carpi | D99: =SUM(F100:F103) -> 3 | E99: =SUM(G100:G103) -> 0 | Q99: =Q73 -> Torino 2009
A100: G. Lena | B100: P. Guerra | D100: 3 | E100: 2 | F100: =IF(D100>E100,1,0) -> 1 | G100: =IF(E100>D100,1,0) -> 0 | Q100: S. Tinebra
A101: G. Cavanna Cavanna | B101: G. Preziuso | D101: 1 | E101: 1 | F101: =IF(D101>E101,1,0) -> 0 | G101: =IF(E101>D101,1,0) -> 0 | Q101: M. Sergio
A102: M. Jon Scotta | B102: M. Porro | D102: 5 | E102: 2 | F102: =IF(D102>E102,1,0) -> 1 | G102: =IF(E102>D102,1,0) -> 0 | Q102: M. Midoro
A103: M. Bodin de Chatelard | B103: D. Di Cè | D103: 1 | E103: 0 | F103: =IF(D103>E103,1,0) -> 1 | G103: =IF(E103>D103,1,0) -> 0 | Q103: A. Fassio
D104: =SUM(D100+D101+D102+D103) -> 10 | E104: =SUM(E100+E101+E102+E103) -> 5 | F104: =IF(D104<>E104,IF(D104>E104,1,0),IF(H104>I104,1,0)) -> 1 | G104: =IF(D104<>E104,IF(E104>D104,1,0),IF(I104>H104,1,0)) -> 0
A106: =A74 -> Tiburones FM | B106: =B74 -> Subbuteisti Carpi | D106: =SUM(F107:F110) -> 3 | E106: =SUM(G107:G110) -> 0 | Q106: =Q74 -> Stradivari
A107: L. Mendez | B107: G. Preziuso | D107: 3 | E107: 2 | F107: =IF(D107>E107,1,0) -> 1 | G107: =IF(E107>D107,1,0) -> 0 | Q107: C. Ciraolo
A108: A. Montano | B108: P. Guerra | D108: 5 | E108: 0 | F108: =IF(D108>E108,1,0) -> 1 | G108: =IF(E108>D108,1,0) -> 0 | Q108: Mau. Brillantino
A109: L. Lopez | B109: M. Porro | D109: 2 | E109: 0 | F109: =IF(D109>E109,1,0) -> 1 | G109: =IF(E109>D109,1,0) -> 0 | Q109: R. Morganelli
A110: V. Prats | B110: D. Di Cè | D110: 1 | E110: 1 | F110: =IF(D110>E110,1,0) -> 0 | G110: =IF(E110>D110,1,0) -> 0 | Q110: M. Barbieri
D111: =SUM(D107+D108+D109+D110) -> 11 | E111: =SUM(E107+E108+E109+E110) -> 3 | F111: =IF(D111<>E111,IF(D111>E111,1,0),IF(H111>I111,1,0)) -> 1 | G111: =IF(D111<>E111,IF(E111>D111,1,0),IF(I111>H111,1,0)) -> 0
A113: =A75 -> Master Sanremo | B113: =B75 -> Biella 91 | D113: =SUM(F114:F117) -> 2 | E113: =SUM(G114:G117) -> 1 | Q113: =Q75 -> Torino 2009 2
A114: D. Busch | B114: M. Bodin de Chatelard | D114: 4 | E114: 1 | F114: =IF(D114>E114,1,0) -> 1 | G114: =IF(E114>D114,1,0) -> 0 | Q114: M. Maldera
...

Sheet Open
B1: F.I.S.C.T. Lombardia
B2: Federazione Italiana Sport Calcio da Tavolo
B3: XXXIX TORNEO DI NATALE
B4: Categoria OPEN - Milano, 11 dicembre 2016
A6: GIRONE / GROUP 1
A7: Giocatore / Player | C7: Pts | D7: G | E7: V | F7: N | G7: P | H7: GF | I7: GS | J7: DG
A8: =Iscritti!B45 -> Juan Noguera | C8: =3*E8+F8 -> 9 | D8: =SUM(E8:G8) -> 3 | E8: =SUM(F13+F15+F17) -> 3 | F8: =SUM(G13+G15+G17) -> 0 | G8: =SUM(H13+H15+H17) -> 0 | H8: =SUM(D13,D15,D17) -> 15 | I8: =SUM(E13,E15,E17) -> 7 | J8: =H8-I8 -> 8 | K8: =(C8*10000)+(J8*100)+H8 -> 90815 | L8: =+A8 -> Juan Noguera | M8: =LARGE(K8:K13,1) -> 90815 | N8: =IF(SUM(C8:C11)=0,"",VLOOKUP(M8,K8:L11,2,FALSE)) -> Juan Noguera
A9: =Iscritti!B82 -> Vito De Benedictis | C9: =3*E9+F9 -> 6 | D9: =SUM(E9:G9) -> 3 | E9: =SUM(F14+H15+F18) -> 2 | F9: =SUM(G14+G15+G18) -> 0 | G9: =SUM(H14+F15+H18) -> 1 | H9: =SUM(D14,E15,D18) -> 5 | I9: =SUM(E14,D15,E18) -> 3 | J9: =H9-I9 -> 2 | K9: =(C9*10000)+(J9*100)+H9 -> 60205 | L9: =+A9 -> Vito De Benedictis | M9: =LARGE(K8:K13,2) -> 60205 | N9: =IF(SUM(C8:C11)=0,"",VLOOKUP(M9,K8:L11,2,FALSE)) -> Vito De Benedictis
A10: =Iscritti!B83 -> Daniele Di Cè | C10: =3*E10+F10 -> 3 | D10: =SUM(E10:G10) -> 3 | E10: =SUM(H13+F16+H18) -> 1 | F10: =SUM(G13+G16+G18) -> 0 | G10: =SUM(F13+H16+F18) -> 2 | H10: =SUM(E13,D16,E18) -> 5 | I10: =SUM(D13,E16,D18) -> 10 | J10: =H10-I10 -> -5 | K10: =(C10*10000)+(J10*100)+H10 -> 29505 | L10: =+A10 -> Daniele Di Cè | M10: =LARGE(K8:K13,3) -> 29505 | N10: =IF(SUM(C8:C11)=0,"",VLOOKUP(M10,K8:L11,2,FALSE)) -> Daniele Di Cè
A11: =Iscritti!B120 -> Luca Pessini | C11: =3*E11+F11 -> 0 | D11: =SUM(E11:G11) -> 3 | E11: =SUM(H14+H16+H17) -> 0 | F11: =SUM(G14+G16+G17) -> 0 | G11: =SUM(F14+F16+F17) -> 3 | H11: =SUM(E14,E16,E17) -> 4 | I11: =SUM(D14,D16,D17) -> 9 | J11: =H11-I11 -> -5 | K11: =(C11*10000)+(J11*100)+H11 -> -496 | L11: =+A11 -> Luca Pessini | M11: =LARGE(K8:K13,4) -> -496 | N11: =IF(SUM(C8:C11)=0,"",VLOOKUP(M11,K8:L11,2,FALSE)) -> Luca Pessini
A12: Incontro / Match | D12: Ris./Score | N12: Arbitro / Referee
A13: =A8 -> Juan Noguera | B13: =A10 -> Daniele Di Cè | D13: =IF(Turnidomenica!E53="","",Turnidomenica!E53) -> 7 | E13: =IF(Turnidomenica!F53="","",Turnidomenica!F53) -> 3 | F13: =IF(D13>E13,1,0) -> 1 | G13: =IF(D13="",0,IF(D13=E13,1,0)) -> 0 | H13: =IF(D13<E13,1,0) -> 0 | N13: =A206 -> Paolo Zambello
A14: =A9 -> Vito De Benedictis | B14: =A11 -> Luca Pessini | D14: =IF(Turnidomenica!E54="","",Turnidomenica!E54) -> 2 | E14: =IF(Turnidomenica!F54="","",Turnidomenica!F54) -> 0 | F14: =IF(D14>E14,1,0) -> 1 | G14: =IF(D14="",0,IF(D14=E14,1,0)) -> 0 | H14: =IF(D14<E14,1,0) -> 0 | N14: =A207 -> Marco Bonciani
A15: =A8 -> Juan Noguera | B15: =A9 -> Vito De Benedictis | D15: =IF(Turnidomenica!E137="","",Turnidomenica!E137) -> 3 | E15: =IF(Turnidomenica!F137="","",Turnidomenica!F137) -> 1 | F15: =IF(D15>E15,1,0) -> 1 | G15: =IF(D15="",0,IF(D15=E15,1,0)) -> 0 | H15: =IF(D15<E15,1,0) -> 0 | N15: =A134 -> Bjorn Kegenbein
A16: =A10 -> Daniele Di Cè | B16: =A11 -> Luca Pessini | D16: =IF(Turnidomenica!E138="","",Turnidomenica!E138) -> 2 | E16: =IF(Turnidomenica!F138="","",Turnidomenica!F138) -> 1 | F16: =IF(D16>E16,1,0) -> 1 | G16: =IF(D16="",0,IF(D16=E16,1,0)) -> 0 | H16: =IF(D16<E16,1,0) -> 0 | N16: =A135 -> Gàbor Baross
A17: =A8 -> Juan Noguera | B17: =A11 -> Luca Pessini | D17: =IF(Turnidomenica!E221="","",Turnidomenica!E221) -> 5 | E17: =IF(Turnidomenica!F221="","",Turnidomenica!F221) -> 3 | F17: =IF(D17>E17,1,0) -> 1 | G17: =IF(D17="",0,IF(D17=E17,1,0)) -> 0 | H17: =IF(D17<E17,1,0) -> 0 | N17: =A260 -> Michael Stolzenberg
A18: =A9 -> Vito De Benedictis | B18: =A10 -> Daniele Di Cè | D18: =IF(Turnidomenica!E222="","",Turnidomenica!E222) -> 2 | E18: =IF(Turnidomenica!F222="","",Turnidomenica!F222) -> 0 | F18: =IF(D18>E18,1,0) -> 1 | G18: =IF(D18="",0,IF(D18=E18,1,0)) -> 0 | H18: =IF(D18<E18,1,0) -> 0 | N18: =A261 -> Gerardo Patruno
A20: GIRONE / GROUP 2
A21: Giocatore / Player | C21: Pts | D21: G | E21: V | F21: N | G21: P | H21: GF | I21: GS | J21: DG
A22: =Iscritti!B46 -> Luca Colangelo | C22: =3*E22+F22 -> 9 | D22: =SUM(E22:G22) -> 3 | E22: =SUM(F27+F29+F31) -> 3 | F22: =SUM(G27+G29+G31) -> 0 | G22: =SUM(H27+H29+H31) -> 0 | H22: =SUM(D27,D29,D31) -> 18 | I22: =SUM(E27,E29,E31) -> 4 | J22: =H22-I22 -> 14 | K22: =(C22*10000)+(J22*100)+H22 -> 91418 | L22: =+A22 -> Luca Colangelo | M22: =LARGE(K22:K27,1) -> 91418 | N22: =IF(SUM(C22:C25)=0,"",VLOOKUP(M22,K22:L25,2,FALSE)) -> Luca Colangelo
A23: =Iscritti!B80 -> Raphael Pommier | C23: =3*E23+F23 -> 4 | D23: =SUM(E23:G23) -> 3 | E23: =SUM(F28+H29+F32) -> 1 | F23: =SUM(G28+G29+G32) -> 1 | G23: =SUM(H28+F29+H32) -> 1 | H23: =SUM(D28,E29,D32) -> 9 | I23: =SUM(E28,D29,E32) -> 9 | J23: =H23-I23 -> 0 | K23: =(C23*10000)+(J23*100)+H23 -> 40009 | L23: =+A23 -> Raphael Pommier | M23: =LARGE(K22:K27,2) -> 40209 | N23: =IF(SUM(C22:C25)=0,"",VLOOKUP(M23,K22:L25,2,FALSE)) -> Mauro Petrini
A24: =Iscritti!B84 -> Mauro Petrini | C24: =3*E24+F24 -> 4 | D24: =SUM(E24:G24) -> 3 | E24: =SUM(H27+F30+H32) -> 1 | F24: =SUM(G27+G30+G32) -> 1 | G24: =SUM(F27+H30+F32) -> 1 | H24: =SUM(E27,D30,E32) -> 9 | I24: =SUM(D27,E30,D32) -> 7 | J24: =H24-I24 -> 2 | K24: =(C24*10000)+(J24*100)+H24 -> 40209 | L24: =+A24 -> Mauro Petrini | M24: =LARGE(K22:K27,3) -> 40009 | N24: =IF(SUM(C22:C25)=0,"",VLOOKUP(M24,K22:L25,2,FALSE)) -> Raphael Pommier
A25: =Iscritti!B119 -> Paolo Bernardini | C25: =3*E25+F25 -> 0 | D25: =SUM(E25:G25) -> 3 | E25: =SUM(H28+H30+H31) -> 0 | F25: =SUM(G28+G30+G31) -> 0 | G25: =SUM(F28+F30+F31) -> 3 | H25: =SUM(E28,E30,E31) -> 0 | I25: =SUM(D28,D30,D31) -> 16 | J25: =H25-I25 -> -16 | K25: =(C25*10000)+(J25*100)+H25 -> -1600 | L25: =+A25 -> Paolo Bernardini | M25: =LARGE(K22:K27,4) -> -1600 | N25: =IF(SUM(C22:C25)=0,"",VLOOKUP(M25,K22:L25,2,FALSE)) -> Paolo Bernardini
A26: Incontro / Match | D26: Ris./Score | N26: Arbitro / Referee
A27: =A22 -> Luca Colangelo | B27: =A24 -> Mauro Petrini | D27: =IF(Turnidomenica!E55="","",Turnidomenica!E55) -> 6 | E27: =IF(Turnidomenica!F55="","",Turnidomenica!F55) -> 0 | F27: =IF(D27>E27,1,0) -> 1 | G27: =IF(D27="",0,IF(D27=E27,1,0)) -> 0 | H27: =IF(D27<E27,1,0) -> 0 | N27: =A218 -> Massimo Cremona
A28: =A23 -> Raphael Pommier | B28: =A25 -> Paolo Bernardini | D28: =IF(Turnidomenica!E56="","",Turnidomenica!E56) -> 4 | E28: =IF(Turnidomenica!F56="","",Turnidomenica!F56) -> 0 | F28: =IF(D28>E28,1,0) -> 1 | G28: =IF(D28="",0,IF(D28=E28,1,0)) -> 0 | H28: =IF(D28<E28,1,0) -> 0 | N28: =A219 -> Florian Giaux
A29: =A22 -> Luca Colangelo | B29: =A23 -> Raphael Pommier | D29: =IF(Turnidomenica!E139="","",Turnidomenica!E139) -> 8 | E29: =IF(Turnidomenica!F139="","",Turnidomenica!F139) -> 4 | F29: =IF(D29>E29,1,0) -> 1 | G29: =IF(D29="",0,IF(D29=E29,1,0)) -> 0 | H29: =IF(D29<E29,1,0) -> 0 | N29: =A136 -> William Dotto
A30: =A24 -> Mauro Petrini | B30: =A25 -> Paolo Bernardini | D30: =IF(Turnidomenica!E140="","",Turnidomenica!E140) -> 8 | E30: =IF(Turnidomenica!F140="","",Turnidomenica!F140) -> 0 | F30: =IF(D30>E30,1,0) -> 1 | G30: =IF(D30="",0,IF(D30=E30,1,0)) -> 0 | H30: =IF(D30<E30,1,0) -> 0 | N30: =A137 -> Francesco Gori
A31: =A22 -> Luca Colangelo | B31: =A25 -> Paolo Bernardini | D31: =IF(Turnidomenica!E223="","",Turnidomenica!E223) -> 4 | E31: =IF(Turnidomenica!F223="","",Turnidomenica!F223) -> 0 | F31: =IF(D31>E31,1,0) -> 1 | G31: =IF(D31="",0,IF(D31=E31,1,0)) -> 0 | H31: =IF(D31<E31,1,0) -> 0 | N31: =A262 -> Pier Luigi Signoretti
A32: =A23 -> Raphael Pommier | B32: =A24 -> Mauro Petrini | D32: =IF(Turnidomenica!E224="","",Turnidomenica!E224) -> 1 | E32: =IF(Turnidomenica!F224="","",Turnidomenica!F224) -> 1 | F32: =IF(D32>E32,1,0) -> 0 | G32: =IF(D32="",0,IF(D32=E32,1,0)) -> 1 | H32: =IF(D32<E32,1,0) -> 0 | N32: =A263 -> Marco Midoro
A34: GIRONE / GROUP 3
A35: Giocatore / Player | C35: Pts | D35: G | E35: V | F35: N | G35: P | H35: GF | I35: GS | J35: DG
A36: =Iscritti!B47 -> Christian Haas | C36: =3*E36+F36 -> 9 | D36: =SUM(E36:G36) -> 3 | E36: =SUM(F41+F43+F45) -> 3 | F36: =SUM(G41+G43+G45) -> 0 | G36: =SUM(H41+H43+H45) -> 0 | H36: =SUM(D41,D43,D45) -> 14 | I36: =SUM(E41,E43,E45) -> 1 | J36: =H36-I36 -> 13 | K36: =(C36*10000)+(J36*100)+H36 -> 91314 | L36: =+A36 -> Christian Haas | M36: =LARGE(K36:K41,1) -> 91314 | N36: =IF(SUM(C36:C39)=0,"",VLOOKUP(M36,K36:L39,2,FALSE)) -> Christian Haas
A37: =Iscritti!B69 -> Luca Martinelli | C37: =3*E37+F37 -> 3 | D37: =SUM(E37:G37) -> 3 | E37: =SUM(F42+H43+F46) -> 1 | F37: =SUM(G42+G43+G46) -> 0 | G37: =SUM(H42+F43+H46) -> 2 | H37: =SUM(D42,E43,D46) -> 6 | I37: =SUM(E42,D43,E46) -> 11 | J37: =H37-I37 -> -5 | K37: =(C37*10000)+(J37*100)+H37 -> 29506 | L37: =+A37 -> Luca Martinelli | M37: =LARGE(K36:K41,2) -> 60708 | N37: =IF(SUM(C36:C39)=0,"",VLOOKUP(M37,K36:L39,2,FALSE)) -> Augusto Vagnoni
A38: =Iscritti!B85 -> Augusto Vagnoni | C38: =3*E38+F38 -> 6 | D38: =SUM(E38:G38) -> 3 | E38: =SUM(H41+F44+H46) -> 2 | F38: =SUM(G41+G44+G46) -> 0 | G38: =SUM(F41+H44+F46) -> 1 | H38: =SUM(E41,D44,E46) -> 8 | I38: =SUM(D41,E44,D46) -> 1 | J38: =H38-I38 -> 7 | K38: =(C38*10000)+(J38*100)+H38 -> 60708 | L38: =+A38 -> Augusto Vagnoni | M38: =LARGE(K36:K41,3) -> 29506 | N38: =IF(SUM(C36:C39)=0,"",VLOOKUP(M38,K36:L39,2,FALSE)) -> Luca Martinelli
A39: =Iscritti!B116 -> Tom Horn | C39: =3*E39+F39 -> 0 | D39: =SUM(E39:G39) -> 3 | E39: =SUM(H42+H44+H45) -> 0 | F39: =SUM(G42+G44+G45) -> 0 | G39: =SUM(F42+F44+F45) -> 3 | H39: =SUM(E42,E44,E45) -> 0 | I39: =SUM(D42,D44,D45) -> 15 | J39: =H39-I39 -> -15 | K39: =(C39*10000)+(J39*100)+H39 -> -1500 | L39: =+A39 -> Tom Horn | M39: =LARGE(K36:K41,4) -> -1500 | N39: =IF(SUM(C36:C39)=0,"",VLOOKUP(M39,K36:L39,2,FALSE)) -> Tom Horn
A40: Incontro / Match | D40: Ris./Score | N40: Arbitro / Referee
A41: =A36 -> Christian Haas | B41: =A38 -> Augusto Vagnoni | D41: =IF(Turnidomenica!E57="","",Turnidomenica!E57) -> 1 | E41: =IF(Turnidomenica!F57="","",Turnidomenica!F57) -> 0 | F41: =IF(D41>E41,1,0) -> 1 | G41: =IF(D41="",0,IF(D41=E41,1,0)) -> 0 | H41: =IF(D41<E41,1,0) -> 0 | N41: =A220 -> Giovanni Francavilla
A42: =A37 -> Luca Martinelli | B42: =A39 -> Tom Horn | D42: =IF(Turnidomenica!E58="","",Turnidomenica!E58) -> 5 | E42: =IF(Turnidomenica!F58="","",Turnidomenica!F58) -> 0 | F42: =IF(D42>E42,1,0) -> 1 | G42: =IF(D42="",0,IF(D42=E42,1,0)) -> 0 | H42: =IF(D42<E42,1,0) -> 0 | N42: =A221 -> Daniele Lopresto
A43: =A36 -> Christian Haas | B43: =A37 -> Luca Martinelli | D43: =IF(Turnidomenica!E141="","",Turnidomenica!E141) -> 8 | E43: =IF(Turnidomenica!F141="","",Turnidomenica!F141) -> 1 | F43: =IF(D43>E43,1,0) -> 1 | G43: =IF(D43="",0,IF(D43=E43,1,0)) -> 0 | H43: =IF(D43<E43,1,0) -> 0 | N43: =A148 -> Jean-Marie Amberny
A44: =A38 -> Augusto Vagnoni | B44: =A39 -> Tom Horn | D44: =IF(Turnidomenica!E142="","",Turnidomenica!E142) -> 5 | E44: =IF(Turnidomenica!F142="","",Turnidomenica!F142) -> 0 | F44: =IF(D44>E44,1,0) -> 1 | G44: =IF(D44="",0,IF(D44=E44,1,0)) -> 0 | H44: =IF(D44<E44,1,0) -> 0 | N44: =A149 -> Maurizio Jon Scotta
A45: =A36 -> Christian Haas | B45: =A39 -> Tom Horn | D45: =IF(Turnidomenica!E225="","",Turnidomenica!E225) -> 5 | E45: =IF(Turnidomenica!F225="","",Turnidomenica!F225) -> 0 | F45: =IF(D45>E45,1,0) -> 1 | G45: =IF(D45="",0,IF(D45=E45,1,0)) -> 0 | H45: =IF(D45<E45,1,0) -> 0 | N45: =A218 -> Massimo Cremona
A46: =A37 -> Luca Martinelli | B46: =A38 -> Augusto Vagnoni | D46: =IF(Turnidomenica!E226="","",Turnidomenica!E226) -> 0 | E46: =IF(Turnidomenica!F226="","",Turnidomenica!F226) -> 3 | F46: =IF(D46>E46,1,0) -> 0 | G46: =IF(D46="",0,IF(D46=E46,1,0)) -> 0 | H46: =IF(D46<E46,1,0) -> 1 | N46: =A219 -> Florian Giaux
A48: GIRONE / GROUP 4
A49: Giocatore / Player | C49: Pts | D49: G | E49: V | F49: N | G49: P | H49: GF | I49: GS | J49: DG
A50: =Iscritti!B48 -> Saverio Bari | C50: =3*E50+F50 -> 7 | D50: =SUM(E50:G50) -> 3 | E50: =SUM(F55+F57+F59) -> 2 | F50: =SUM(G55+G57+G59) -> 1 | G50: =SUM(H55+H57+H59) -> 0 | H50: =SUM(D55,D57,D59) -> 12 | I50: =SUM(E55,E57,E59) -> 3 | J50: =H50-I50 -> 9 | K50: =(C50*10000)+(J50*100)+H50 -> 70912 | L50: =+A50 -> Saverio Bari | M50: =LARGE(K50:K55,1) -> 70912 | N50: =IF(SUM(C50:C53)=0,"",VLOOKUP(M50,K50:L53,2,FALSE)) -> Saverio Bari
A51: =Iscritti!B79 -> Filippo Filippella | C51: =3*E51+F51 -> 1 | D51: =SUM(E51:G51) -> 3 | E51: =SUM(F56+H57+F60) -> 0 | F51: =SUM(G56+G57+G60) -> 1 | G51: =SUM(H56+F57+H60) -> 2 | H51: =SUM(D56,E57,D60) -> 4 | I51: =SUM(E56,D57,E60) -> 9 | J51: =H51-I51 -> -5 | K51: =(C51*10000)+(J51*100)+H51 -> 9504 | L51: =+A51 -> Filippo Filippella | M51: =LARGE(K50:K55,2) -> 70204 | N51: =IF(SUM(C50:C53)=0,"",VLOOKUP(M51,K50:L53,2,FALSE)) -> Alessandro Subazzoli
A52: =Iscritti!B92 -> Fernando Gomez | C52: =3*E52+F52 -> 1 | D52: =SUM(E52:G52) -> 3 | E52: =SUM(H55+F58+H60) -> 0 | F52: =SUM(G55+G58+G60) -> 1 | G52: =SUM(F55+H58+F60) -> 2 | H52: =SUM(E55,D58,E60) -> 3 | I52: =SUM(D55,E58,D60) -> 9 | J52: =H52-I52 -> -6 | K52: =(C52*10000)+(J52*100)+H52 -> 9403 | L52: =+A52 -> Fernando Gomez | M52: =LARGE(K50:K55,3) -> 9504 | N52: =IF(SUM(C50:C53)=0,"",VLOOKUP(M52,K50:L53,2,FALSE)) -> Filippo Filippella
A53: =Iscritti!B118 -> Alessandro Subazzoli | C53: =3*E53+F53 -> 7 | D53: =SUM(E53:G53) -> 3 | E53: =SUM(H56+H58+H59) -> 2 | F53: =SUM(G56+G58+G59) -> 1 | G53: =SUM(F56+F58+F59) -> 0 | H53: =SUM(E56,E58,E59) -> 4 | I53: =SUM(D56,D58,D59) -> 2 | J53: =H53-I53 -> 2 | K53: =(C53*10000)+(J53*100)+H53 -> 70204 | L53: =+A53 -> Alessandro Subazzoli | M53: =LARGE(K50:K55,4) -> 9403 | N53: =IF(SUM(C50:C53)=0,"",VLOOKUP(M53,K50:L53,2,FALSE)) -> Fernando Gomez
A54: Incontro / Match | D54: Ris./Score | N54: Arbitro / Referee
A55: =A50 -> Saverio Bari | B55: =A52 -> Fernando Gomez | D55: =IF(Turnidomenica!E59="","",Turnidomenica!E59) -> 6 | E55: =IF(Turnidomenica!F59="","",Turnidomenica!F59) -> 1 | F55: =IF(D55>E55,1,0) -> 1 | G55: =IF(D55="",0,IF(D55=E55,1,0)) -> 0 | H55: =IF(D55<E55,1,0) -> 0 | N55: =A232 -> Edoardo Bellotto
A56: =A51 -> Filippo Filippella | B56: =A53 -> Alessandro Subazzoli | D56: =IF(Turnidomenica!E60="","",Turnidomenica!E60) -> 1 | E56: =IF(Turnidomenica!F60="","",Turnidomenica!F60) -> 2 | F56: =IF(D56>E56,1,0) -> 0 | G56: =IF(D56="",0,IF(D56=E56,1,0)) -> 0 | H56: =IF(D56<E56,1,0) -> 1 | N56: =A233 -> Remy Lours
A57: =A50 -> Saverio Bari | B57: =A51 -> Filippo Filippella | D57: =IF(Turnidomenica!E143="","",Turnidomenica!E143) -> 6 | E57: =IF(Turnidomenica!F143="","",Turnidomenica!F143) -> 2 | F57: =IF(D57>E57,1,0) -> 1 | G57: =IF(D57="",0,IF(D57=E57,1,0)) -> 0 | H57: =IF(D57<E57,1,0) -> 0 | N57: =A150 -> Ismaele Caurla
A58: =A52 -> Fernando Gomez | B58: =A53 -> Alessandro Subazzoli | D58: =IF(Turnidomenica!E144="","",Turnidomenica!E144) -> 1 | E58: =IF(Turnidomenica!F144="","",Turnidomenica!F144) -> 2 | F58: =IF(D58>E58,1,0) -> 0 | G58: =IF(D58="",0,IF(D58=E58,1,0)) -> 0 | H58: =IF(D58<E58,1,0) -> 1 | N58: =A151 -> Emanuele Funaro
A59: =A50 -> Saverio Bari | B59: =A53 -> Alessandro Subazzoli | D59: =IF(Turnidomenica!E227="","",Turnidomenica!E227) -> 0 | E59: =IF(Turnidomenica!F227="","",Turnidomenica!F227) -> 0 | F59: =IF(D59>E59,1,0) -> 0 | G59: =IF(D59="",0,IF(D59=E59,1,0)) -> 1 | H59: =IF(D59<E59,1,0) -> 0 | N59: =A220 -> Giovanni Francavilla
A60: =A51 -> Filippo Filippella | B60: =A52 -> Fernando Gomez | D60: =IF(Turnidomenica!E228="","",Turnidomenica!E228) -> 1 | E60: =IF(Turnidomenica!F228="","",Turnidomenica!F228) -> 1 | F60: =IF(D60>E60,1,0) -> 0 | G60: =IF(D60="",0,IF(D60=E60,1,0)) -> 1 | H60: =IF(D60<E60,1,0) -> 0 | N60: =A221 -> Daniele Lopresto
A62: GIRONE / GROUP 5
A63: Giocatore / Player | C63: Pts | D63: G | E63: V | F63: N | G63: P | H63: GF | I63: GS | J63: DG
A64: =Iscritti!B49 -> Massimiliano Nastasi | C64: =3*E64+F64 -> 9 | D64: =SUM(E64:G64) -> 3 | E64: =SUM(F69+F71+F73) -> 3 | F64: =SUM(G69+G71+G73) -> 0 | G64: =SUM(H69+H71+H73) -> 0 | H64: =SUM(D69,D71,D73) -> 20 | I64: =SUM(E69,E71,E73) -> 3 | J64: =H64-I64 -> 17 | K64: =(C64*10000)+(J64*100)+H64 -> 91720 | L64: =+A64 -> Massimiliano Nastasi | M64: =LARGE(K64:K69,1) -> 91720 | N64: =IF(SUM(C64:C67)=0,"",VLOOKUP(M64,K64:L67,2,FALSE)) -> Massimiliano Nastasi
A65: =Iscritti!B73 -> Robert Lenz | C65: =3*E65+F65 -> 6 | D65: =SUM(E65:G65) -> 3 | E65: =SUM(F70+H71+F74) -> 2 | F65: =SUM(G70+G71+G74) -> 0 | G65: =SUM(H70+F71+H74) -> 1 | H65: =SUM(D70,E71,D74) -> 11 | I65: =SUM(E70,D71,E74) -> 8 | J65: =H65-I65 -> 3 | K65: =(C65*10000)+(J65*100)+H65 -> 60311 | L65: =+A65 -> Robert Lenz | M65: =LARGE(K64:K69,2) -> 60311 | N65: =IF(SUM(C64:C67)=0,"",VLOOKUP(M65,K64:L67,2,FALSE)) -> Robert Lenz
A66: =Iscritti!B101 -> Riccardo Schito | C66: =3*E66+F66 -> 3 | D66: =SUM(E66:G66) -> 3 | E66: =SUM(H69+F72+H74) -> 1 | F66: =SUM(G69+G72+G74) -> 0 | G66: =SUM(F69+H72+F74) -> 2 | H66: =SUM(E69,D72,E74) -> 11 | I66: =SUM(D69,E72,D74) -> 11 | J66: =H66-I66 -> 0 | K66: =(C66*10000)+(J66*100)+H66 -> 30011 | L66: =+A66 -> Riccardo Schito | M66: =LARGE(K64:K69,3) -> 30011 | N66: =IF(SUM(C64:C67)=0,"",VLOOKUP(M66,K64:L67,2,FALSE)) -> Riccardo Schito
A67: =Iscritti!B114 -> Luca Converti | C67: =3*E67+F67 -> 0 | D67: =SUM(E67:G67) -> 3 | E67: =SUM(H70+H72+H73) -> 0 | F67: =SUM(G70+G72+G73) -> 0 | G67: =SUM(F70+F72+F73) -> 3 | H67: =SUM(E70,E72,E73) -> 2 | I67: =SUM(D70,D72,D73) -> 22 | J67: =H67-I67 -> -20 | K67: =(C67*10000)+(J67*100)+H67 -> -1998 | L67: =+A67 -> Luca Converti | M67: =LARGE(K64:K69,4) -> -1998 | N67: =IF(SUM(C64:C67)=0,"",VLOOKUP(M67,K64:L67,2,FALSE)) -> Luca Converti
A68: Incontro / Match | D68: Ris./Score | N68: Arbitro / Referee
A69: =A64 -> Massimiliano Nastasi | B69: =A66 -> Riccardo Schito | D69: =IF(Turnidomenica!E61="","",Turnidomenica!E61) -> 5 | E69: =IF(Turnidomenica!F61="","",Turnidomenica!F61) -> 1 | F69: =IF(D69>E69,1,0) -> 1 | G69: =IF(D69="",0,IF(D69=E69,1,0)) -> 0 | H69: =IF(D69<E69,1,0) -> 0 | N69: =A234 -> Rosario Ifrigerio
A70: =A65 -> Robert Lenz | B70: =A67 -> Luca Converti | D70: =IF(Turnidomenica!E62="","",Turnidomenica!E62) -> 5 | E70: =IF(Turnidomenica!F62="","",Turnidomenica!F62) -> 0 | F70: =IF(D70>E70,1,0) -> 1 | G70: =IF(D70="",0,IF(D70=E70,1,0)) -> 0 | H70: =IF(D70<E70,1,0) -> 0 | N70: =A235 -> Tiberio Becucci
A71: =A64 -> Massimiliano Nastasi | B71: =A65 -> Robert Lenz | D71: =IF(Turnidomenica!E145="","",Turnidomenica!E145) -> 6 | E71: =IF(Turnidomenica!F145="","",Turnidomenica!F145) -> 1 | F71: =IF(D71>E71,1,0) -> 1 | G71: =IF(D71="",0,IF(D71=E71,1,0)) -> 0 | H71: =IF(D71<E71,1,0) -> 0 | N71: =A162 -> Sergio Ramos
A72: =A66 -> Riccardo Schito | B72: =A67 -> Luca Converti | D72: =IF(Turnidomenica!E146="","",Turnidomenica!E146) -> 8 | E72: =IF(Turnidomenica!F146="","",Turnidomenica!F146) -> 1 | F72: =IF(D72>E72,1,0) -> 1 | G72: =IF(D72="",0,IF(D72=E72,1,0)) -> 0 | H72: =IF(D72<E72,1,0) -> 0 | N72: =A163 -> Alex Iorio
A73: =A64 -> Massimiliano Nastasi | B73: =A67 -> Luca Converti | D73: =IF(Turnidomenica!E229="","",Turnidomenica!E229) -> 9 | E73: =IF(Turnidomenica!F229="","",Turnidomenica!F229) -> 1 | F73: =IF(D73>E73,1,0) -> 1 | G73: =IF(D73="",0,IF(D73=E73,1,0)) -> 0 | H73: =IF(D73<E73,1,0) -> 0 | N73: =A232 -> Edoardo Bellotto
A74: =A65 -> Robert Lenz | B74: =A66 -> Riccardo Schito | D74: =IF(Turnidomenica!E230="","",Turnidomenica!E230) -> 5 | E74: =IF(Turnidomenica!F230="","",Turnidomenica!F230) -> 2 | F74: =IF(D74>E74,1,0) -> 1 | G74: =IF(D74="",0,IF(D74=E74,1,0)) -> 0 | H74: =IF(D74<E74,1,0) -> 0 | N74: =A233 -> Remy Lours
A76: GIRONE / GROUP 6
A77: Giocatore / Player | C77: Pts | D77: G | E77: V | F77: N | G77: P | H77: GF | I77: GS | J77: DG
A78: =Iscritti!B50 -> Wolfgang Leitner | C78: =3*E78+F78 -> 9 | D78: =SUM(E78:G78) -> 3 | E78: =SUM(F83+F85+F87) -> 3 | F78: =SUM(G83+G85+G87) -> 0 | G78: =SUM(H83+H85+H87) -> 0 | H78: =SUM(D83,D85,D87) -> 16 | I78: =SUM(E83,E85,E87) -> 2 | J78: =H78-I78 -> 14 | K78: =(C78*10000)+(J78*100)+H78 -> 91416 | L78: =+A78 -> Wolfgang Leitner | M78: =LARGE(K78:K83,1) -> 91416 | N78: =IF(SUM(C78:C81)=0,"",VLOOKUP(M78,K78:L81,2,FALSE)) -> Wolfgang Leitner
A79: =Iscritti!B77 -> Mauro Salvati | C79: =3*E79+F79 -> 6 | D79: =SUM(E79:G79) -> 3 | E79: =SUM(F84+H85+F88) -> 2 | F79: =SUM(G84+G85+G88) -> 0 | G79: =SUM(H84+F85+H88) -> 1 | H79: =SUM(D84,E85,D88) -> 11 | I79: =SUM(E84,D85,E88) -> 4 | J79: =H79-I79 -> 7 | K79: =(C79*10000)+(J79*100)+H79 -> 60711 | L79: =+A79 -> Mauro Salvati | M79: =LARGE(K78:K83,2) -> 60711 | N79: =IF(SUM(C78:C81)=0,"",VLOOKUP(M79,K78:L81,2,FALSE)) -> Mauro Salvati
A80: =Iscritti!B88 -> Massimo Di Cè | C80: =3*E80+F80 -> 0 | D80: =SUM(E80:G80) -> 3 | E80: =SUM(H83+F86+H88) -> 0 | F80: =SUM(G83+G86+G88) -> 0 | G80: =SUM(F83+H86+F88) -> 3 | H80: =SUM(E83,D86,E88) -> 1 | I80: =SUM(D83,E86,D88) -> 14 | J80: =H80-I80 -> -13 | K80: =(C80*10000)+(J80*100)+H80 -> -1299 | L80: =+A80 -> Massimo Di Cè | M80: =LARGE(K78:K83,3) -> 29203 | N80: =IF(SUM(C78:C81)=0,"",VLOOKUP(M80,K78:L81,2,FALSE)) -> Alessio Tacchia
A81: =Iscritti!B115 -> Alessio Tacchia | C81: =3*E81+F81 -> 3 | D81: =SUM(E81:G81) -> 3 | E81: =SUM(H84+H86+H87) -> 1 | F81: =SUM(G84+G86+G87) -> 0 | G81: =SUM(F84+F86+F87) -> 2 | H81: =SUM(E84,E86,E87) -> 3 | I81: =SUM(D84,D86,D87) -> 11 | J81: =H81-I81 -> -8 | K81: =(C81*10000)+(J81*100)+H81 -> 29203 | L81: =+A81 -> Alessio Tacchia | M81: =LARGE(K78:K83,4) -> -1299 | N81: =IF(SUM(C78:C81)=0,"",VLOOKUP(M81,K78:L81,2,FALSE)) -> Massimo Di Cè
A82: Incontro / Match | D82: Ris./Score | N82: Arbitro / Referee
A83: =A78 -> Wolfgang Leitner | B83: =A80 -> Massimo Di Cè | D83: =IF(Turnidomenica!E63="","",Turnidomenica!E63) -> 8 | E83: =IF(Turnidomenica!F63="","",Turnidomenica!F63) -> 1 | F83: =IF(D83>E83,1,0) -> 1 | G83: =IF(D83="",0,IF(D83=E83,1,0)) -> 0 | H83: =IF(D83<E83,1,0) -> 0 | N83: =A246 -> Matteo Ciccarelli
A84: =A79 -> Mauro Salvati | B84: =A81 -> Alessio Tacchia | D84: =IF(Turnidomenica!E64="","",Turnidomenica!E64) -> 6 | E84: =IF(Turnidomenica!F64="","",Turnidomenica!F64) -> 1 | F84: =IF(D84>E84,1,0) -> 1 | G84: =IF(D84="",0,IF(D84=E84,1,0)) -> 0 | H84: =IF(D84<E84,1,0) -> 0 | N84: =A247 -> Marcus Tilgner
A85: =A78 -> Wolfgang Leitner | B85: =A79 -> Mauro Salvati | D85: =IF(Turnidomenica!E147="","",Turnidomenica!E147) -> 3 | E85: =IF(Turnidomenica!F147="","",Turnidomenica!F147) -> 1 | F85: =IF(D85>E85,1,0) -> 1 | G85: =IF(D85="",0,IF(D85=E85,1,0)) -> 0 | H85: =IF(D85<E85,1,0) -> 0 | N85: =A164 -> Giancarlo Cavanna Cavanna
A86: =A80 -> Massimo Di Cè | B86: =A81 -> Alessio Tacchia | D86: =IF(Turnidomenica!E148="","",Turnidomenica!E148) -> 0 | E86: =IF(Turnidomenica!F148="","",Turnidomenica!F148) -> 2 | F86: =IF(D86>E86,1,0) -> 0 | G86: =IF(D86="",0,IF(D86=E86,1,0)) -> 0 | H86: =IF(D86<E86,1,0) -> 1 | N86: =A165 -> Gabriele Casati
A87: =A78 -> Wolfgang Leitner | B87: =A81 -> Alessio Tacchia | D87: =IF(Turnidomenica!E231="","",Turnidomenica!E231) -> 5 | E87: =IF(Turnidomenica!F231="","",Turnidomenica!F231) -> 0 | F87: =IF(D87>E87,1,0) -> 1 | G87: =IF(D87="",0,IF(D87=E87,1,0)) -> 0 | H87: =IF(D87<E87,1,0) -> 0 | N87: =A234 -> Rosario Ifrigerio
A88: =A79 -> Mauro Salvati | B88: =A80 -> Massimo Di Cè | D88: =IF(Turnidomenica!E232="","",Turnidomenica!E232) -> 4 | E88: =IF(Turnidomenica!F232="","",Turnidomenica!F232) -> 0 | F88: =IF(D88>E88,1,0) -> 1 | G88: =IF(D88="",0,IF(D88=E88,1,0)) -> 0 | H88: =IF(D88<E88,1,0) -> 0 | N88: =A235 -> Tiberio Becucci
A90: GIRONE / GROUP 7
A91: Giocatore / Player | C91: Pts | D91: G | E91: V | F91: N | G91: P | H91: GF | I91: GS | J91: DG
A92: =Iscritti!B51 -> Justin Leroy | C92: =3*E92+F92 -> 3 | D92: =SUM(E92:G92) -> 3 | E92: =SUM(F97+F99+F101) -> 1 | F92: =SUM(G97+G99+G101) -> 0 | G92: =SUM(H97+H99+H101) -> 2 | H92: =SUM(D97,D99,D101) -> 4 | I92: =SUM(E97,E99,E101) -> 8 | J92: =H92-I92 -> -4 | K92: =(C92*10000)+(J92*100)+H92 -> 29604 | L92: =+A92 -> Justin Leroy | M92: =LARGE(K92:K97,1) -> 91415 | N92: =IF(SUM(C92:C95)=0,"",VLOOKUP(M92,K92:L95,2,FALSE)) -> Simone Bertelli
A93: =Iscritti!B76 -> Luca Ciabattoni | C93: =3*E93+F93 -> 3 | D93: =SUM(E93:G93) -> 3 | E93: =SUM(F98+H99+F102) -> 1 | F93: =SUM(G98+G99+G102) -> 0 | G93: =SUM(H98+F99+H102) -> 2 | H93: =SUM(D98,E99,D102) -> 3 | I93: =SUM(E98,D99,E102) -> 5 | J93: =H93-I93 -> -2 | K93: =(C93*10000)+(J93*100)+H93 -> 29803 | L93: =+A93 -> Luca Ciabattoni | M93: =LARGE(K92:K97,2) -> 29803 | N93: Justin Leroy
A94: =Iscritti!B89 -> Pierpaolo Murabito | C94: =3*E94+F94 -> 3 | D94: =SUM(E94:G94) -> 3 | E94: =SUM(H97+F100+H102) -> 1 | F94: =SUM(G97+G100+G102) -> 0 | G94: =SUM(F97+H100+F102) -> 2 | H94: =SUM(E97,D100,E102) -> 2 | I94: =SUM(D97,E100,D102) -> 10 | J94: =H94-I94 -> -8 | K94: =(C94*10000)+(J94*100)+H94 -> 29202 | L94: =+A94 -> Pierpaolo Murabito | M94: =LARGE(K92:K97,3) -> 29604 | N94: Luca Ciabattoni
A95: =Iscritti!B117 -> Simone Bertelli | C95: =3*E95+F95 -> 9 | D95: =SUM(E95:G95) -> 3 | E95: =SUM(H98+H100+H101) -> 3 | F95: =SUM(G98+G100+G101) -> 0 | G95: =SUM(F98+F100+F101) -> 0 | H95: =SUM(E98,E100,E101) -> 15 | I95: =SUM(D98,D100,D101) -> 1 | J95: =H95-I95 -> 14 | K95: =(C95*10000)+(J95*100)+H95 -> 91415 | L95: =+A95 -> Simone Bertelli | M95: =LARGE(K92:K97,4) -> 29202 | N95: =IF(SUM(C92:C95)=0,"",VLOOKUP(M95,K92:L95,2,FALSE)) -> Pierpaolo Murabito
A96: Incontro / Match | D96: Ris./Score | N96: Arbitro / Referee
A97: =A92 -> Justin Leroy | B97: =A94 -> Pierpaolo Murabito | D97: =IF(Turnidomenica!E65="","",Turnidomenica!E65) -> 2 | E97: =IF(Turnidomenica!F65="","",Turnidomenica!F65) -> 0 | F97: =IF(D97>E97,1,0) -> 1 | G97: =IF(D97="",0,IF(D97=E97,1,0)) -> 0 | H97: =IF(D97<E97,1,0) -> 0 | N97: =A248 -> Marcello Bodin de Chatelard
A98: =A93 -> Luca Ciabattoni | B98: =A95 -> Simone Bertelli | D98: =IF(Turnidomenica!E66="","",Turnidomenica!E66) -> 0 | E98: =IF(Turnidomenica!F66="","",Turnidomenica!F66) -> 2 | F98: =IF(D98>E98,1,0) -> 0 | G98: =IF(D98="",0,IF(D98=E98,1,0)) -> 0 | H98: =IF(D98<E98,1,0) -> 1 | N98: =A249 -> Saverio Ferrante
A99: =A92 -> Justin Leroy | B99: =A93 -> Luca Ciabattoni | D99: =IF(Turnidomenica!E149="","",Turnidomenica!E149) -> 1 | E99: =IF(Turnidomenica!F149="","",Turnidomenica!F149) -> 2 | F99: =IF(D99>E99,1,0) -> 0 | G99: =IF(D99="",0,IF(D99=E99,1,0)) -> 0 | H99: =IF(D99<E99,1,0) -> 1 | N99: =A176 -> Luca Zambello
A100: =A94 -> Pierpaolo Murabito | B100: =A95 -> Simone Bertelli | D100: =IF(Turnidomenica!E150="","",Turnidomenica!E150) -> 0 | E100: =IF(Turnidomenica!F150="","",Turnidomenica!F150) -> 7 | F100: =IF(D100>E100,1,0) -> 0 | G100: =IF(D100="",0,IF(D100=E100,1,0)) -> 0 | H100: =IF(D100<E100,1,0) -> 1 | N100: =A177 -> Roderick Vassallo
A101: =A92 -> Justin Leroy | B101: =A95 -> Simone Bertelli | D101: =IF(Turnidomenica!E233="","",Turnidomenica!E233) -> 1 | E101: =IF(Turnidomenica!F233="","",Turnidomenica!F233) -> 6 | F101: =IF(D101>E101,1,0) -> 0 | G101: =IF(D101="",0,IF(D101=E101,1,0)) -> 0 | H101: =IF(D101<E101,1,0) -> 1 | N101: =A246 -> Matteo Ciccarelli
A102: =A93 -> Luca Ciabattoni | B102: =A94 -> Pierpaolo Murabito | D102: =IF(Turnidomenica!E234="","",Turnidomenica!E234) -> 1 | E102: =IF(Turnidomenica!F234="","",Turnidomenica!F234) -> 2 | F102: =IF(D102>E102,1,0) -> 0 | G102: =IF(D102="",0,IF(D102=E102,1,0)) -> 0 | H102: =IF(D102<E102,1,0) -> 1 | N102: =A247 -> Marcus Tilgner
A104: GIRONE / GROUP 8
A105: Giocatore / Player | C105: Pts | D105: G | E105: V | F105: N | G105: P | H105: GF | I105: GS | J105: DG
A106: =Iscritti!B52 -> Emanuele Licheri | C106: =3*E106+F106 -> 9 | D106: =SUM(E106:G106) -> 3 | E106: =SUM(F111+F113+F115) -> 3 | F106: =SUM(G111+G113+G115) -> 0 | G106: =SUM(H111+H113+H115) -> 0 | H106: =SUM(D111,D113,D115) -> 17 | I106: =SUM(E111,E113,E115) -> 0 | J106: =H106-I106 -> 17 | K106: =(C106*10000)+(J106*100)+H106 -> 91717 | L106: =+A106 -> Emanuele Licheri | M106: =LARGE(K106:K111,1) -> 91717 | N106: =IF(SUM(C106:C109)=0,"",VLOOKUP(M106,K106:L109,2,FALSE)) -> Emanuele Licheri
A107: =Iscritti!B75 -> Paul Naszalyi | C107: =3*E107+F107 -> 4 | D107: =SUM(E107:G107) -> 3 | E107: =SUM(F112+H113+F116) -> 1 | F107: =SUM(G112+G113+G116) -> 1 | G107: =SUM(H112+F113+H116) -> 1 | H107: =SUM(D112,E113,D116) -> 5 | I107: =SUM(E112,D113,E116) -> 6 | J107: =H107-I107 -> -1 | K107: =(C107*10000)+(J107*100)+H107 -> 39905 | L107: =+A107 -> Paul Naszalyi | M107: =LARGE(K106:K111,2) -> 40308 | N107: =IF(SUM(C106:C109)=0,"",VLOOKUP(M107,K106:L109,2,FALSE)) -> Alberto Recano
A108: =Iscritti!B90 -> Alberto Recano | C108: =3*E108+F108 -> 4 | D108: =SUM(E108:G108) -> 3 | E108: =SUM(H111+F114+H116) -> 1 | F108: =SUM(G111+G114+G116) -> 1 | G108: =SUM(F111+H114+F116) -> 1 | H108: =SUM(E111,D114,E116) -> 8 | I108: =SUM(D111,E114,D116) -> 5 | J108: =H108-I108 -> 3 | K108: =(C108*10000)+(J108*100)+H108 -> 40308 | L108: =+A108 -> Alberto Recano | M108: =LARGE(K106:K111,3) -> 39905 | N108: =IF(SUM(C106:C109)=0,"",VLOOKUP(M108,K106:L109,2,FALSE)) -> Paul Naszalyi
...

Sheet Veterani
B1: F.I.S.C.T. Lombardia
B2: Federazione Italiana Sport Calcio da Tavolo
B3: XXXIX TORNEO DI NATALE
B4: Categoria VETERANI - Milano, 11 dicembre 2016
A6: GIRONE / GROUP 1
A7: Giocatore / Player | C7: Pts | D7: G | E7: V | F7: N | G7: P | H7: GF | I7: GS | J7: DG
A8: =Iscritti!B125 -> Antonio Montaño | C8: =3*E8+F8 -> 7 | D8: =SUM(E8:G8) -> 3 | E8: =SUM(F13+F15+F17) -> 2 | F8: =SUM(G13+G15+G17) -> 1 | G8: =SUM(H13+H15+H17) -> 0 | H8: =SUM(D13,D15,D17) -> 11 | I8: =SUM(E13,E15,E17) -> 0 | J8: =H8-I8 -> 11 | K8: =(C8*10000)+(J8*100)+H8 -> 71111 | L8: =+A8 -> Antonio Montaño | M8: =LARGE(K8:K13,1) -> 71111 | N8: =IF(SUM(C8:C11)=0,"",VLOOKUP(M8,K8:L11,2,FALSE)) -> Antonio Montaño
A9: =Iscritti!B146 -> Karl-Heinz Haider | C9: =3*E9+F9 -> 6 | D9: =SUM(E9:G9) -> 3 | E9: =SUM(F14+H15+F18) -> 2 | F9: =SUM(G14+G15+G18) -> 0 | G9: =SUM(H14+F15+H18) -> 1 | H9: =SUM(D14,E15,D18) -> 4 | I9: =SUM(E14,D15,E18) -> 6 | J9: =H9-I9 -> -2 | K9: =(C9*10000)+(J9*100)+H9 -> 59804 | L9: =+A9 -> Karl-Heinz Haider | M9: =LARGE(K8:K13,2) -> 59804 | N9: =IF(SUM(C8:C11)=0,"",VLOOKUP(M9,K8:L11,2,FALSE)) -> Karl-Heinz Haider
A10: =Iscritti!B147 -> Fabio Stellato | C10: =3*E10+F10 -> 4 | D10: =SUM(E10:G10) -> 3 | E10: =SUM(H13+F16+H18) -> 1 | F10: =SUM(G13+G16+G18) -> 1 | G10: =SUM(F13+H16+F18) -> 1 | H10: =SUM(E13,D16,E18) -> 3 | I10: =SUM(D13,E16,D18) -> 3 | J10: =H10-I10 -> 0 | K10: =(C10*10000)+(J10*100)+H10 -> 40003 | L10: =+A10 -> Fabio Stellato | M10: =LARGE(K8:K13,3) -> 40003 | N10: =IF(SUM(C8:C11)=0,"",VLOOKUP(M10,K8:L11,2,FALSE)) -> Fabio Stellato
A11: =Iscritti!B168 -> Marco Trevisan | C11: =3*E11+F11 -> 0 | D11: =SUM(E11:G11) -> 3 | E11: =SUM(H14+H16+H17) -> 0 | F11: =SUM(G14+G16+G17) -> 0 | G11: =SUM(F14+F16+F17) -> 3 | H11: =SUM(E14,E16,E17) -> 2 | I11: =SUM(D14,D16,D17) -> 11 | J11: =H11-I11 -> -9 | K11: =(C11*10000)+(J11*100)+H11 -> -898 | L11: =+A11 -> Marco Trevisan | M11: =LARGE(K8:K13,4) -> -898 | N11: =IF(SUM(C8:C11)=0,"",VLOOKUP(M11,K8:L11,2,FALSE)) -> Marco Trevisan
A12: Incontro / Match | D12: Ris./Score | N12: Arbitro / Referee
A13: =A8 -> Antonio Montaño | B13: =A10 -> Fabio Stellato | D13: =IF(Turnidomenica!E71="","",Turnidomenica!E71) -> 0 | E13: =IF(Turnidomenica!F71="","",Turnidomenica!F71) -> 0 | F13: =IF(D13>E13,1,0) -> 0 | G13: =IF(D13="",0,IF(D13=E13,1,0)) -> 1 | H13: =IF(D13<E13,1,0) -> 0 | N13: =A120 -> Manfred Pawlica
A14: =A9 -> Karl-Heinz Haider | B14: =A11 -> Marco Trevisan | D14: =IF(Turnidomenica!E72="","",Turnidomenica!E72) -> 2 | E14: =IF(Turnidomenica!F72="","",Turnidomenica!F72) -> 1 | F14: =IF(D14>E14,1,0) -> 1 | G14: =IF(D14="",0,IF(D14=E14,1,0)) -> 0 | H14: =IF(D14<E14,1,0) -> 0 | N14: =A121 -> Massimiliano Croatti
A15: =A8 -> Antonio Montaño | B15: =A9 -> Karl-Heinz Haider | D15: =IF(Turnidomenica!E155="","",Turnidomenica!E73) -> 4 | E15: =IF(Turnidomenica!F155="","",Turnidomenica!F73) -> 0 | F15: =IF(D15>E15,1,0) -> 1 | G15: =IF(D15="",0,IF(D15=E15,1,0)) -> 0 | H15: =IF(D15<E15,1,0) -> 0 | N15: =Open!A204 -> Luca Battista
A16: =A10 -> Fabio Stellato | B16: =A11 -> Marco Trevisan | D16: =IF(Turnidomenica!E156="","",Turnidomenica!E74) -> 2 | E16: =IF(Turnidomenica!F156="","",Turnidomenica!F74) -> 1 | F16: =IF(D16>E16,1,0) -> 1 | G16: =IF(D16="",0,IF(D16=E16,1,0)) -> 0 | H16: =IF(D16<E16,1,0) -> 0 | N16: =Open!A205 -> Raul Benita
A17: =A8 -> Antonio Montaño | B17: =A11 -> Marco Trevisan | D17: =IF(Turnidomenica!E239="","",Turnidomenica!E239) -> 7 | E17: =IF(Turnidomenica!F239="","",Turnidomenica!F239) -> 0 | F17: =IF(D17>E17,1,0) -> 1 | G17: =IF(D17="",0,IF(D17=E17,1,0)) -> 0 | H17: =IF(D17<E17,1,0) -> 0 | N17: =A134 -> Claudio Dogali
A18: =A9 -> Karl-Heinz Haider | B18: =A10 -> Fabio Stellato | D18: =IF(Turnidomenica!E240="","",Turnidomenica!E240) -> 2 | E18: =IF(Turnidomenica!F240="","",Turnidomenica!F240) -> 1 | F18: =IF(D18>E18,1,0) -> 1 | G18: =IF(D18="",0,IF(D18=E18,1,0)) -> 0 | H18: =IF(D18<E18,1,0) -> 0 | N18: =A135 -> Mario Camilleri
A20: GIRONE / GROUP 2
A21: Giocatore / Player | C21: Pts | D21: G | E21: V | F21: N | G21: P | H21: GF | I21: GS | J21: DG
A22: =Iscritti!B126 -> Gianfranco Calonico | C22: =3*E22+F22 -> 9 | D22: =SUM(E22:G22) -> 3 | E22: =SUM(F27+F29+F31) -> 3 | F22: =SUM(G27+G29+G31) -> 0 | G22: =SUM(H27+H29+H31) -> 0 | H22: =SUM(D27,D29,D31) -> 12 | I22: =SUM(E27,E29,E31) -> 3 | J22: =H22-I22 -> 9 | K22: =(C22*10000)+(J22*100)+H22 -> 90912 | L22: =+A22 -> Gianfranco Calonico | M22: =LARGE(K22:K27,1) -> 90912 | N22: =IF(SUM(C22:C25)=0,"",VLOOKUP(M22,K22:L25,2,FALSE)) -> Gianfranco Calonico
A23: =Iscritti!B145 -> Titi Giaux | C23: =3*E23+F23 -> 3 | D23: =SUM(E23:G23) -> 3 | E23: =SUM(F28+H29+F32) -> 1 | F23: =SUM(G28+G29+G32) -> 0 | G23: =SUM(H28+F29+H32) -> 2 | H23: =SUM(D28,E29,D32) -> 7 | I23: =SUM(E28,D29,E32) -> 10 | J23: =H23-I23 -> -3 | K23: =(C23*10000)+(J23*100)+H23 -> 29707 | L23: =+A23 -> Titi Giaux | M23: =LARGE(K22:K27,2) -> 60310 | N23: =IF(SUM(C22:C25)=0,"",VLOOKUP(M23,K22:L25,2,FALSE)) -> Massimiliano Schiavone
A24: =Iscritti!B148 -> Massimiliano Schiavone | C24: =3*E24+F24 -> 6 | D24: =SUM(E24:G24) -> 3 | E24: =SUM(H27+F30+H32) -> 2 | F24: =SUM(G27+G30+G32) -> 0 | G24: =SUM(F27+H30+F32) -> 1 | H24: =SUM(E27,D30,E32) -> 10 | I24: =SUM(D27,E30,D32) -> 7 | J24: =H24-I24 -> 3 | K24: =(C24*10000)+(J24*100)+H24 -> 60310 | L24: =+A24 -> Massimiliano Schiavone | M24: =LARGE(K22:K27,3) -> 29707 | N24: =IF(SUM(C22:C25)=0,"",VLOOKUP(M24,K22:L25,2,FALSE)) -> Titi Giaux
A25: =Iscritti!B167 -> Giorgio Manfioletti | C25: =3*E25+F25 -> 0 | D25: =SUM(E25:G25) -> 3 | E25: =SUM(H28+H30+H31) -> 0 | F25: =SUM(G28+G30+G31) -> 0 | G25: =SUM(F28+F30+F31) -> 3 | H25: =SUM(E28,E30,E31) -> 2 | I25: =SUM(D28,D30,D31) -> 11 | J25: =H25-I25 -> -9 | K25: =(C25*10000)+(J25*100)+H25 -> -898 | L25: =+A25 -> Giorgio Manfioletti | M25: =LARGE(K22:K27,4) -> -898 | N25: =IF(SUM(C22:C25)=0,"",VLOOKUP(M25,K22:L25,2,FALSE)) -> Giorgio Manfioletti
A26: Incontro / Match | D26: Ris./Score | N26: Arbitro / Referee
A27: =A22 -> Gianfranco Calonico | B27: =A24 -> Massimiliano Schiavone | D27: =IF(Turnidomenica!E73="","",Turnidomenica!E73) -> 4 | E27: =IF(Turnidomenica!F73="","",Turnidomenica!F73) -> 0 | F27: =IF(D27>E27,1,0) -> 1 | G27: =IF(D27="",0,IF(D27=E27,1,0)) -> 0 | H27: =IF(D27<E27,1,0) -> 0 | N27: =A122 -> Hans Ruf
A28: =A23 -> Titi Giaux | B28: =A25 -> Giorgio Manfioletti | D28: =IF(Turnidomenica!E74="","",Turnidomenica!E74) -> 2 | E28: =IF(Turnidomenica!F74="","",Turnidomenica!F74) -> 1 | F28: =IF(D28>E28,1,0) -> 1 | G28: =IF(D28="",0,IF(D28=E28,1,0)) -> 0 | H28: =IF(D28<E28,1,0) -> 0 | N28: =A123 -> Pietro Bonfante
A29: =A22 -> Gianfranco Calonico | B29: =A23 -> Titi Giaux | D29: =IF(Turnidomenica!E157="","",Turnidomenica!E157) -> 4 | E29: =IF(Turnidomenica!F157="","",Turnidomenica!F157) -> 3 | F29: =IF(D29>E29,1,0) -> 1 | G29: =IF(D29="",0,IF(D29=E29,1,0)) -> 0 | H29: =IF(D29<E29,1,0) -> 0 | N29: =Open!A190 -> Axel Donval
A30: =A24 -> Massimiliano Schiavone | B30: =A25 -> Giorgio Manfioletti | D30: =IF(Turnidomenica!E158="","",Turnidomenica!E158) -> 5 | E30: =IF(Turnidomenica!F158="","",Turnidomenica!F158) -> 1 | F30: =IF(D30>E30,1,0) -> 1 | G30: =IF(D30="",0,IF(D30=E30,1,0)) -> 0 | H30: =IF(D30<E30,1,0) -> 0 | N30: =Open!A191 -> Cesare Natoli
A31: =A22 -> Gianfranco Calonico | B31: =A25 -> Giorgio Manfioletti | D31: =IF(Turnidomenica!E241="","",Turnidomenica!E241) -> 4 | E31: =IF(Turnidomenica!F241="","",Turnidomenica!F241) -> 0 | F31: =IF(D31>E31,1,0) -> 1 | G31: =IF(D31="",0,IF(D31=E31,1,0)) -> 0 | H31: =IF(D31<E31,1,0) -> 0 | N31: =A136 -> Andres Jung Senior
A32: =A23 -> Titi Giaux | B32: =A24 -> Massimiliano Schiavone | D32: =IF(Turnidomenica!E242="","",Turnidomenica!E242) -> 2 | E32: =IF(Turnidomenica!F242="","",Turnidomenica!F242) -> 5 | F32: =IF(D32>E32,1,0) -> 0 | G32: =IF(D32="",0,IF(D32=E32,1,0)) -> 0 | H32: =IF(D32<E32,1,0) -> 1 | N32: =A137 -> Luca Bisio
A34: GIRONE / GROUP 3
A35: Giocatore / Player | C35: Pts | D35: G | E35: V | F35: N | G35: P | H35: GF | I35: GS | J35: DG
A36: =Iscritti!B127 -> Daniel Scheen | C36: =3*E36+F36 -> 9 | D36: =SUM(E36:G36) -> 3 | E36: =SUM(F41+F43+F45) -> 3 | F36: =SUM(G41+G43+G45) -> 0 | G36: =SUM(H41+H43+H45) -> 0 | H36: =SUM(D41,D43,D45) -> 14 | I36: =SUM(E41,E43,E45) -> 3 | J36: =H36-I36 -> 11 | K36: =(C36*10000)+(J36*100)+H36 -> 91114 | L36: =+A36 -> Daniel Scheen | M36: =LARGE(K36:K41,1) -> 91114 | N36: =IF(SUM(C36:C39)=0,"",VLOOKUP(M36,K36:L39,2,FALSE)) -> Daniel Scheen
A37: =Iscritti!B144 -> Gianfranco Mastrantuono | C37: =3*E37+F37 -> 6 | D37: =SUM(E37:G37) -> 3 | E37: =SUM(F42+H43+F46) -> 2 | F37: =SUM(G42+G43+G46) -> 0 | G37: =SUM(H42+F43+H46) -> 1 | H37: =SUM(D42,E43,D46) -> 8 | I37: =SUM(E42,D43,E46) -> 3 | J37: =H37-I37 -> 5 | K37: =(C37*10000)+(J37*100)+H37 -> 60508 | L37: =+A37 -> Gianfranco Mastrantuono | M37: =LARGE(K36:K41,2) -> 60508 | N37: =IF(SUM(C36:C39)=0,"",VLOOKUP(M37,K36:L39,2,FALSE)) -> Gianfranco Mastrantuono
A38: =Iscritti!B149 -> Thomas Vulpes | C38: =3*E38+F38 -> 1 | D38: =SUM(E38:G38) -> 3 | E38: =SUM(H41+F44+H46) -> 0 | F38: =SUM(G41+G44+G46) -> 1 | G38: =SUM(F41+H44+F46) -> 2 | H38: =SUM(E41,D44,E46) -> 3 | I38: =SUM(D41,E44,D46) -> 14 | J38: =H38-I38 -> -11 | K38: =(C38*10000)+(J38*100)+H38 -> 8903 | L38: =+A38 -> Thomas Vulpes | M38: =LARGE(K36:K41,3) -> 9502 | N38: =IF(SUM(C36:C39)=0,"",VLOOKUP(M38,K36:L39,2,FALSE)) -> Massimo Conti
A39: =Iscritti!B166 -> Massimo Conti | C39: =3*E39+F39 -> 1 | D39: =SUM(E39:G39) -> 3 | E39: =SUM(H42+H44+H45) -> 0 | F39: =SUM(G42+G44+G45) -> 1 | G39: =SUM(F42+F44+F45) -> 2 | H39: =SUM(E42,E44,E45) -> 2 | I39: =SUM(D42,D44,D45) -> 7 | J39: =H39-I39 -> -5 | K39: =(C39*10000)+(J39*100)+H39 -> 9502 | L39: =+A39 -> Massimo Conti | M39: =LARGE(K36:K41,4) -> 8903 | N39: =IF(SUM(C36:C39)=0,"",VLOOKUP(M39,K36:L39,2,FALSE)) -> Thomas Vulpes
A40: Incontro / Match | D40: Risultato | N40: Arbitro / Referee
A41: =A36 -> Daniel Scheen | B41: =A38 -> Thomas Vulpes | D41: =IF(Turnidomenica!E75="","",Turnidomenica!E75) -> 8 | E41: =IF(Turnidomenica!F75="","",Turnidomenica!F75) -> 1 | F41: =IF(D41>E41,1,0) -> 1 | G41: =IF(D41="",0,IF(D41=E41,1,0)) -> 0 | H41: =IF(D41<E41,1,0) -> 0 | N41: =A134 -> Claudio Dogali
A42: =A37 -> Gianfranco Mastrantuono | B42: =A39 -> Massimo Conti | D42: =IF(Turnidomenica!E76="","",Turnidomenica!E76) -> 2 | E42: =IF(Turnidomenica!F76="","",Turnidomenica!F76) -> 0 | F42: =IF(D42>E42,1,0) -> 1 | G42: =IF(D42="",0,IF(D42=E42,1,0)) -> 0 | H42: =IF(D42<E42,1,0) -> 0 | N42: =A135 -> Mario Camilleri
A43: =A36 -> Daniel Scheen | B43: =A37 -> Gianfranco Mastrantuono | D43: =IF(Turnidomenica!E159="","",Turnidomenica!E159) -> 2 | E43: =IF(Turnidomenica!F159="","",Turnidomenica!F159) -> 1 | F43: =IF(D43>E43,1,0) -> 1 | G43: =IF(D43="",0,IF(D43=E43,1,0)) -> 0 | H43: =IF(D43<E43,1,0) -> 0 | N43: =A93 -> Mario Corradi
A44: =A38 -> Thomas Vulpes | B44: =A39 -> Massimo Conti | D44: =IF(Turnidomenica!E160="","",Turnidomenica!E160) -> 1 | E44: =IF(Turnidomenica!F160="","",Turnidomenica!F160) -> 1 | F44: =IF(D44>E44,1,0) -> 0 | G44: =IF(D44="",0,IF(D44=E44,1,0)) -> 1 | H44: =IF(D44<E44,1,0) -> 0 | N44: =A92 -> David Busch
A45: =A36 -> Daniel Scheen | B45: =A39 -> Massimo Conti | D45: =IF(Turnidomenica!E243="","",Turnidomenica!E243) -> 4 | E45: =IF(Turnidomenica!F243="","",Turnidomenica!F243) -> 1 | F45: =IF(D45>E45,1,0) -> 1 | G45: =IF(D45="",0,IF(D45=E45,1,0)) -> 0 | H45: =IF(D45<E45,1,0) -> 0 | N45: =A148 -> Lucio Canicchio
A46: =A37 -> Gianfranco Mastrantuono | B46: =A38 -> Thomas Vulpes | D46: =IF(Turnidomenica!E244="","",Turnidomenica!E244) -> 5 | E46: =IF(Turnidomenica!F244="","",Turnidomenica!F244) -> 1 | F46: =IF(D46>E46,1,0) -> 1 | G46: =IF(D46="",0,IF(D46=E46,1,0)) -> 0 | H46: =IF(D46<E46,1,0) -> 0 | N46: =A149 -> Thierry Vivron
A48: GIRONE / GROUP 4
A49: Giocatore / Player | C49: Pts | D49: G | E49: V | F49: N | G49: P | H49: GF | I49: GS | J49: DG
A50: =Iscritti!B128 -> Gunther Bamberzky | C50: =3*E50+F50 -> 7 | D50: =SUM(E50:G50) -> 3 | E50: =SUM(F55+F57+F59) -> 2 | F50: =SUM(G55+G57+G59) -> 1 | G50: =SUM(H55+H57+H59) -> 0 | H50: =SUM(D55,D57,D59) -> 6 | I50: =SUM(E55,E57,E59) -> 2 | J50: =H50-I50 -> 4 | K50: =(C50*10000)+(J50*100)+H50 -> 70406 | L50: =+A50 -> Gunther Bamberzky | M50: =LARGE(K50:K55,1) -> 70406 | N50: =IF(SUM(C50:C53)=0,"",VLOOKUP(M50,K50:L53,2,FALSE)) -> Gunther Bamberzky
A51: =Iscritti!B143 -> Carlo Alessi | C51: =3*E51+F51 -> 4 | D51: =SUM(E51:G51) -> 3 | E51: =SUM(F56+H57+F60) -> 1 | F51: =SUM(G56+G57+G60) -> 1 | G51: =SUM(H56+F57+H60) -> 1 | H51: =SUM(D56,E57,D60) -> 5 | I51: =SUM(E56,D57,E60) -> 2 | J51: =H51-I51 -> 3 | K51: =(C51*10000)+(J51*100)+H51 -> 40305 | L51: =+A51 -> Carlo Alessi | M51: =LARGE(K50:K55,2) -> 60105 | N51: =IF(SUM(C50:C53)=0,"",VLOOKUP(M51,K50:L53,2,FALSE)) -> Luis D. Lòpez
A52: =Iscritti!B150 -> Luis D. Lòpez | C52: =3*E52+F52 -> 6 | D52: =SUM(E52:G52) -> 3 | E52: =SUM(H55+F58+H60) -> 2 | F52: =SUM(G55+G58+G60) -> 0 | G52: =SUM(F55+H58+F60) -> 1 | H52: =SUM(E55,D58,E60) -> 5 | I52: =SUM(D55,E58,D60) -> 4 | J52: =H52-I52 -> 1 | K52: =(C52*10000)+(J52*100)+H52 -> 60105 | L52: =+A52 -> Luis D. Lòpez | M52: =LARGE(K50:K55,3) -> 40305 | N52: =IF(SUM(C50:C53)=0,"",VLOOKUP(M52,K50:L53,2,FALSE)) -> Carlo Alessi
A53: =Iscritti!B164 -> Gianfranco Savastio | C53: =3*E53+F53 -> 0 | D53: =SUM(E53:G53) -> 3 | E53: =SUM(H56+H58+H59) -> 0 | F53: =SUM(G56+G58+G59) -> 0 | G53: =SUM(F56+F58+F59) -> 3 | H53: =SUM(E56,E58,E59) -> 2 | I53: =SUM(D56,D58,D59) -> 10 | J53: =H53-I53 -> -8 | K53: =(C53*10000)+(J53*100)+H53 -> -798 | L53: =+A53 -> Gianfranco Savastio | M53: =LARGE(K50:K55,4) -> -798 | N53: =IF(SUM(C50:C53)=0,"",VLOOKUP(M53,K50:L53,2,FALSE)) -> Gianfranco Savastio
A54: Incontro / Match | D54: Ris./Score | N54: Arbitro / Referee
A55: =A50 -> Gunther Bamberzky | B55: =A52 -> Luis D. Lòpez | D55: =IF(Turnidomenica!E77="","",Turnidomenica!E77) -> 3 | E55: =IF(Turnidomenica!F77="","",Turnidomenica!F77) -> 2 | F55: =IF(D55>E55,1,0) -> 1 | G55: =IF(D55="",0,IF(D55=E55,1,0)) -> 0 | H55: =IF(D55<E55,1,0) -> 0 | N55: =A136 -> Andres Jung Senior
A56: =A51 -> Carlo Alessi | B56: =A53 -> Gianfranco Savastio | D56: =IF(Turnidomenica!E78="","",Turnidomenica!E78) -> 5 | E56: =IF(Turnidomenica!F78="","",Turnidomenica!F78) -> 1 | F56: =IF(D56>E56,1,0) -> 1 | G56: =IF(D56="",0,IF(D56=E56,1,0)) -> 0 | H56: =IF(D56<E56,1,0) -> 0 | N56: =A137 -> Luca Bisio
A57: =A50 -> Gunther Bamberzky | B57: =A51 -> Carlo Alessi | D57: =IF(Turnidomenica!E161="","",Turnidomenica!E161) -> 0 | E57: =IF(Turnidomenica!F161="","",Turnidomenica!F161) -> 0 | F57: =IF(D57>E57,1,0) -> 0 | G57: =IF(D57="",0,IF(D57=E57,1,0)) -> 1 | H57: =IF(D57<E57,1,0) -> 0 | N57: =A94 -> Joseph Mifsud
A58: =A52 -> Luis D. Lòpez | B58: =A53 -> Gianfranco Savastio | D58: =IF(Turnidomenica!E162="","",Turnidomenica!E162) -> 2 | E58: =IF(Turnidomenica!F162="","",Turnidomenica!F162) -> 1 | F58: =IF(D58>E58,1,0) -> 1 | G58: =IF(D58="",0,IF(D58=E58,1,0)) -> 0 | H58: =IF(D58<E58,1,0) -> 0 | N58: =A95 -> Klaus Fritz
A59: =A50 -> Gunther Bamberzky | B59: =A53 -> Gianfranco Savastio | D59: =IF(Turnidomenica!E245="","",Turnidomenica!E245) -> 3 | E59: =IF(Turnidomenica!F245="","",Turnidomenica!F245) -> 0 | F59: =IF(D59>E59,1,0) -> 1 | G59: =IF(D59="",0,IF(D59=E59,1,0)) -> 0 | H59: =IF(D59<E59,1,0) -> 0 | N59: =A151 -> Nico Lucchesi
A60: =A51 -> Carlo Alessi | B60: =A52 -> Luis D. Lòpez | D60: =IF(Turnidomenica!E246="","",Turnidomenica!E246) -> 0 | E60: =IF(Turnidomenica!F246="","",Turnidomenica!F246) -> 1 | F60: =IF(D60>E60,1,0) -> 0 | G60: =IF(D60="",0,IF(D60=E60,1,0)) -> 0 | H60: =IF(D60<E60,1,0) -> 1 | N60: =A150 -> Giuseppe Battaglia
A62: GIRONE / GROUP 5
A63: Giocatore / Player | C63: Pts | D63: G | E63: V | F63: N | G63: P | H63: GF | I63: GS | J63: DG
A64: =Iscritti!B129 -> Vicenç Prats | C64: =3*E64+F64 -> 7 | D64: =SUM(E64:G64) -> 3 | E64: =SUM(F69+F71+F73) -> 2 | F64: =SUM(G69+G71+G73) -> 1 | G64: =SUM(H69+H71+H73) -> 0 | H64: =SUM(D69,D71,D73) -> 10 | I64: =SUM(E69,E71,E73) -> 2 | J64: =H64-I64 -> 8 | K64: =(C64*10000)+(J64*100)+H64 -> 70810 | L64: =+A64 -> Vicenç Prats | M64: =LARGE(K64:K69,1) -> 70810 | N64: =IF(SUM(C64:C67)=0,"",VLOOKUP(M64,K64:L67,2,FALSE)) -> Vicenç Prats
A65: =Iscritti!B139 -> Eric Naszalyi | C65: =3*E65+F65 -> 4 | D65: =SUM(E65:G65) -> 3 | E65: =SUM(F70+H71+F74) -> 1 | F65: =SUM(G70+G71+G74) -> 1 | G65: =SUM(H70+F71+H74) -> 1 | H65: =SUM(D70,E71,D74) -> 10 | I65: =SUM(E70,D71,E74) -> 8 | J65: =H65-I65 -> 2 | K65: =(C65*10000)+(J65*100)+H65 -> 40210 | L65: =+A65 -> Eric Naszalyi | M65: =LARGE(K64:K69,2) -> 50105 | N65: =IF(SUM(C64:C67)=0,"",VLOOKUP(M65,K64:L67,2,FALSE)) -> Filippo Sella
A66: =Iscritti!B151 -> Riccardo Marinucci | C66: =3*E66+F66 -> 0 | D66: =SUM(E66:G66) -> 3 | E66: =SUM(H69+F72+H74) -> 0 | F66: =SUM(G69+G72+G74) -> 0 | G66: =SUM(F69+H72+F74) -> 3 | H66: =SUM(E69,D72,E74) -> 2 | I66: =SUM(D69,E72,D74) -> 13 | J66: =H66-I66 -> -11 | K66: =(C66*10000)+(J66*100)+H66 -> -1098 | L66: =+A66 -> Riccardo Marinucci | M66: =LARGE(K64:K69,3) -> 40210 | N66: =IF(SUM(C64:C67)=0,"",VLOOKUP(M66,K64:L67,2,FALSE)) -> Eric Naszalyi
A67: =Iscritti!B163 -> Filippo Sella | C67: =3*E67+F67 -> 5 | D67: =SUM(E67:G67) -> 3 | E67: =SUM(H70+H72+H73) -> 1 | F67: =SUM(G70+G72+G73) -> 2 | G67: =SUM(F70+F72+F73) -> 0 | H67: =SUM(E70,E72,E73) -> 5 | I67: =SUM(D70,D72,D73) -> 4 | J67: =H67-I67 -> 1 | K67: =(C67*10000)+(J67*100)+H67 -> 50105 | L67: =+A67 -> Filippo Sella | M67: =LARGE(K64:K69,4) -> -1098 | N67: =IF(SUM(C64:C67)=0,"",VLOOKUP(M67,K64:L67,2,FALSE)) -> Riccardo Marinucci
A68: Incontro / Match | D68: Ris./Score | N68: Arbitro / Referee
A69: =A64 -> Vicenç Prats | B69: =A66 -> Riccardo Marinucci | D69: =IF(Turnidomenica!E79="","",Turnidomenica!E79) -> 6 | E69: =IF(Turnidomenica!F79="","",Turnidomenica!F79) -> 0 | F69: =IF(D69>E69,1,0) -> 1 | G69: =IF(D69="",0,IF(D69=E69,1,0)) -> 0 | H69: =IF(D69<E69,1,0) -> 0 | N69: =A148 -> Lucio Canicchio
A70: =A65 -> Eric Naszalyi | B70: =A67 -> Filippo Sella | D70: =IF(Turnidomenica!E80="","",Turnidomenica!E80) -> 3 | E70: =IF(Turnidomenica!F80="","",Turnidomenica!F80) -> 3 | F70: =IF(D70>E70,1,0) -> 0 | G70: =IF(D70="",0,IF(D70=E70,1,0)) -> 1 | H70: =IF(D70<E70,1,0) -> 0 | N70: =A149 -> Thierry Vivron
A71: =A64 -> Vicenç Prats | B71: =A65 -> Eric Naszalyi | D71: =IF(Turnidomenica!E163="","",Turnidomenica!E163) -> 3 | E71: =IF(Turnidomenica!F163="","",Turnidomenica!F163) -> 1 | F71: =IF(D71>E71,1,0) -> 1 | G71: =IF(D71="",0,IF(D71=E71,1,0)) -> 0 | H71: =IF(D71<E71,1,0) -> 0 | N71: =A106 -> Patrizio Lazzaretti
A72: =A66 -> Riccardo Marinucci | B72: =A67 -> Filippo Sella | D72: =IF(Turnidomenica!E164="","",Turnidomenica!E164) -> 0 | E72: =IF(Turnidomenica!F164="","",Turnidomenica!F164) -> 1 | F72: =IF(D72>E72,1,0) -> 0 | G72: =IF(D72="",0,IF(D72=E72,1,0)) -> 0 | H72: =IF(D72<E72,1,0) -> 1 | N72: =A107 -> Luis Felipe Mendez
A73: =A64 -> Vicenç Prats | B73: =A67 -> Filippo Sella | D73: =IF(Turnidomenica!E247="","",Turnidomenica!E247) -> 1 | E73: =IF(Turnidomenica!F247="","",Turnidomenica!F247) -> 1 | F73: =IF(D73>E73,1,0) -> 0 | G73: =IF(D73="",0,IF(D73=E73,1,0)) -> 1 | H73: =IF(D73<E73,1,0) -> 0 | N73: =A120 -> Manfred Pawlica
A74: =A65 -> Eric Naszalyi | B74: =A66 -> Riccardo Marinucci | D74: =IF(Turnidomenica!E248="","",Turnidomenica!E248) -> 6 | E74: =IF(Turnidomenica!F248="","",Turnidomenica!F248) -> 2 | F74: =IF(D74>E74,1,0) -> 1 | G74: =IF(D74="",0,IF(D74=E74,1,0)) -> 0 | H74: =IF(D74<E74,1,0) -> 0 | N74: =A121 -> Massimiliano Croatti
A76: GIRONE / GROUP 6
A77: Giocatore / Player | C77: Pts | D77: G | E77: V | F77: N | G77: P | H77: GF | I77: GS | J77: DG
A78: =Iscritti!B130 -> Jason Pisani | C78: =3*E78+F78 -> 7 | D78: =SUM(E78:G78) -> 3 | E78: =SUM(F83+F85+F87) -> 2 | F78: =SUM(G83+G85+G87) -> 1 | G78: =SUM(H83+H85+H87) -> 0 | H78: =SUM(D83,D85,D87) -> 10 | I78: =SUM(E83,E85,E87) -> 2 | J78: =H78-I78 -> 8 | K78: =(C78*10000)+(J78*100)+H78 -> 70810 | L78: =+A78 -> Jason Pisani | M78: =LARGE(K78:K83,1) -> 70810 | N78: =IF(SUM(C78:C81)=0,"",VLOOKUP(M78,K78:L81,2,FALSE)) -> Jason Pisani
A79: =Iscritti!B141 -> Ferran Coll | C79: =3*E79+F79 -> 5 | D79: =SUM(E79:G79) -> 3 | E79: =SUM(F84+H85+F88) -> 1 | F79: =SUM(G84+G85+G88) -> 2 | G79: =SUM(H84+F85+H88) -> 0 | H79: =SUM(D84,E85,D88) -> 9 | I79: =SUM(E84,D85,E88) -> 3 | J79: =H79-I79 -> 6 | K79: =(C79*10000)+(J79*100)+H79 -> 50609 | L79: =+A79 -> Ferran Coll | M79: =LARGE(K78:K83,2) -> 50609 | N79: =IF(SUM(C78:C81)=0,"",VLOOKUP(M79,K78:L81,2,FALSE)) -> Ferran Coll
A80: =Iscritti!B152 -> Claudio Colpani | C80: =3*E80+F80 -> 4 | D80: =SUM(E80:G80) -> 3 | E80: =SUM(H83+F86+H88) -> 1 | F80: =SUM(G83+G86+G88) -> 1 | G80: =SUM(F83+H86+F88) -> 1 | H80: =SUM(E83,D86,E88) -> 10 | I80: =SUM(D83,E86,D88) -> 3 | J80: =H80-I80 -> 7 | K80: =(C80*10000)+(J80*100)+H80 -> 40710 | L80: =+A80 -> Claudio Colpani | M80: =LARGE(K78:K83,3) -> 40710 | N80: =IF(SUM(C78:C81)=0,"",VLOOKUP(M80,K78:L81,2,FALSE)) -> Claudio Colpani
A81: =Iscritti!B162 -> Andrea Morosini | C81: =3*E81+F81 -> 0 | D81: =SUM(E81:G81) -> 3 | E81: =SUM(H84+H86+H87) -> 0 | F81: =SUM(G84+G86+G87) -> 0 | G81: =SUM(F84+F86+F87) -> 3 | H81: =SUM(E84,E86,E87) -> 1 | I81: =SUM(D84,D86,D87) -> 22 | J81: =H81-I81 -> -21 | K81: =(C81*10000)+(J81*100)+H81 -> -2099 | L81: =+A81 -> Andrea Morosini | M81: =LARGE(K78:K83,4) -> -2099 | N81: =IF(SUM(C78:C81)=0,"",VLOOKUP(M81,K78:L81,2,FALSE)) -> Andrea Morosini
A82: Incontro / Match | D82: Ris./Score | N82: Arbitro / Referee
A83: =A78 -> Jason Pisani | B83: =A80 -> Claudio Colpani | D83: =IF(Turnidomenica!E81="","",Turnidomenica!E81) -> 2 | E83: =IF(Turnidomenica!F81="","",Turnidomenica!F81) -> 1 | F83: =IF(D83>E83,1,0) -> 1 | G83: =IF(D83="",0,IF(D83=E83,1,0)) -> 0 | H83: =IF(D83<E83,1,0) -> 0 | N83: =A150 -> Giuseppe Battaglia
A84: =A79 -> Ferran Coll | B84: =A81 -> Andrea Morosini | D84: =IF(Turnidomenica!E82="","",Turnidomenica!E82) -> 7 | E84: =IF(Turnidomenica!F82="","",Turnidomenica!F82) -> 1 | F84: =IF(D84>E84,1,0) -> 1 | G84: =IF(D84="",0,IF(D84=E84,1,0)) -> 0 | H84: =IF(D84<E84,1,0) -> 0 | N84: =A151 -> Nico Lucchesi
A85: =A78 -> Jason Pisani | B85: =A79 -> Ferran Coll | D85: =IF(Turnidomenica!E165="","",Turnidomenica!E165) -> 1 | E85: =IF(Turnidomenica!F165="","",Turnidomenica!F165) -> 1 | F85: =IF(D85>E85,1,0) -> 0 | G85: =IF(D85="",0,IF(D85=E85,1,0)) -> 1 | H85: =IF(D85<E85,1,0) -> 0 | N85: =A108 -> Michele Giudice
A86: =A80 -> Claudio Colpani | B86: =A81 -> Andrea Morosini | D86: =IF(Turnidomenica!E166="","",Turnidomenica!E166) -> 8 | E86: =IF(Turnidomenica!F166="","",Turnidomenica!F166) -> 0 | F86: =IF(D86>E86,1,0) -> 1 | G86: =IF(D86="",0,IF(D86=E86,1,0)) -> 0 | H86: =IF(D86<E86,1,0) -> 0 | N86: =A109 -> Francesco Riccobene
A87: =A78 -> Jason Pisani | B87: =A81 -> Andrea Morosini | D87: =IF(Turnidomenica!E249="","",Turnidomenica!E249) -> 7 | E87: =IF(Turnidomenica!F249="","",Turnidomenica!F249) -> 0 | F87: =IF(D87>E87,1,0) -> 1 | G87: =IF(D87="",0,IF(D87=E87,1,0)) -> 0 | H87: =IF(D87<E87,1,0) -> 0 | N87: =A122 -> Hans Ruf
A88: =A79 -> Ferran Coll | B88: =A80 -> Claudio Colpani | D88: =IF(Turnidomenica!E250="","",Turnidomenica!E250) -> 1 | E88: =IF(Turnidomenica!F250="","",Turnidomenica!F250) -> 1 | F88: =IF(D88>E88,1,0) -> 0 | G88: =IF(D88="",0,IF(D88=E88,1,0)) -> 1 | H88: =IF(D88<E88,1,0) -> 0 | N88: =A123 -> Pietro Bonfante
A90: GIRONE / GROUP 7
A91: Giocatore / Player | C91: Pts | D91: G | E91: V | F91: N | G91: P | H91: GF | I91: GS | J91: DG
A92: =Iscritti!B131 -> David Busch | C92: =3*E92+F92 -> 7 | D92: =SUM(E92:G92) -> 3 | E92: =SUM(F97+F99+F101) -> 2 | F92: =SUM(G97+G99+G101) -> 1 | G92: =SUM(H97+H99+H101) -> 0 | H92: =SUM(D97,D99,D101) -> 11 | I92: =SUM(E97,E99,E101) -> 3 | J92: =H92-I92 -> 8 | K92: =(C92*10000)+(J92*100)+H92 -> 70811 | L92: =+A92 -> David Busch | M92: =LARGE(K92:K97,1) -> 70811 | N92: =IF(SUM(C92:C95)=0,"",VLOOKUP(M92,K92:L95,2,FALSE)) -> David Busch
A93: =Iscritti!B140 -> Mario Corradi | C93: =3*E93+F93 -> 4 | D93: =SUM(E93:G93) -> 3 | E93: =SUM(F98+H99+F102) -> 1 | F93: =SUM(G98+G99+G102) -> 1 | G93: =SUM(H98+F99+H102) -> 1 | H93: =SUM(D98,E99,D102) -> 9 | I93: =SUM(E98,D99,E102) -> 3 | J93: =H93-I93 -> 6 | K93: =(C93*10000)+(J93*100)+H93 -> 40609 | L93: =+A93 -> Mario Corradi | M93: =LARGE(K92:K97,2) -> 60812 | N93: =IF(SUM(C92:C95)=0,"",VLOOKUP(M93,K92:L95,2,FALSE)) -> Joseph Mifsud
A94: =Iscritti!B153 -> Joseph Mifsud | C94: =3*E94+F94 -> 6 | D94: =SUM(E94:G94) -> 3 | E94: =SUM(H97+F100+H102) -> 2 | F94: =SUM(G97+G100+G102) -> 0 | G94: =SUM(F97+H100+F102) -> 1 | H94: =SUM(E97,D100,E102) -> 12 | I94: =SUM(D97,E100,D102) -> 4 | J94: =H94-I94 -> 8 | K94: =(C94*10000)+(J94*100)+H94 -> 60812 | L94: =+A94 -> Joseph Mifsud | M94: =LARGE(K92:K97,3) -> 40609 | N94: =IF(SUM(C92:C95)=0,"",VLOOKUP(M94,K92:L95,2,FALSE)) -> Mario Corradi
A95: =Iscritti!B161 -> Klaus Fritz | C95: =3*E95+F95 -> 0 | D95: =SUM(E95:G95) -> 3 | E95: =SUM(H98+H100+H101) -> 0 | F95: =SUM(G98+G100+G101) -> 0 | G95: =SUM(F98+F100+F101) -> 3 | H95: =SUM(E98,E100,E101) -> 0 | I95: =SUM(D98,D100,D101) -> 22 | J95: =H95-I95 -> -22 | K95: =(C95*10000)+(J95*100)+H95 -> -2200 | L95: =+A95 -> Klaus Fritz | M95: =LARGE(K92:K97,4) -> -2200 | N95: =IF(SUM(C92:C95)=0,"",VLOOKUP(M95,K92:L95,2,FALSE)) -> Klaus Fritz
A96: Incontro / Match | D96: Ris./Score | N96: Arbitro / Referee
A97: =A92 -> David Busch | B97: =A94 -> Joseph Mifsud | D97: =IF(Turnidomenica!E31="","",Turnidomenica!E31) -> 3 | E97: =IF(Turnidomenica!F31="","",Turnidomenica!F31) -> 2 | F97: =IF(D97>E97,1,0) -> 1 | G97: =IF(D97="",0,IF(D97=E97,1,0)) -> 0 | H97: =IF(D97<E97,1,0) -> 0 | N97: =A52 -> Luis D. Lòpez
A98: =A93 -> Mario Corradi | B98: =A95 -> Klaus Fritz | D98: =IF(Turnidomenica!E32="","",Turnidomenica!E32) -> 7 | E98: =IF(Turnidomenica!F32="","",Turnidomenica!F32) -> 0 | F98: =IF(D98>E98,1,0) -> 1 | G98: =IF(D98="",0,IF(D98=E98,1,0)) -> 0 | H98: =IF(D98<E98,1,0) -> 0 | N98: =A53 -> Gianfranco Savastio
A99: =A92 -> David Busch | B99: =A93 -> Mario Corradi | D99: =IF(Turnidomenica!E115="","",Turnidomenica!E115) -> 1 | E99: =IF(Turnidomenica!F115="","",Turnidomenica!F115) -> 1 | F99: =IF(D99>E99,1,0) -> 0 | G99: =IF(D99="",0,IF(D99=E99,1,0)) -> 1 | H99: =IF(D99<E99,1,0) -> 0 | N99: =A38 -> Thomas Vulpes
A100: =A94 -> Joseph Mifsud | B100: =A95 -> Klaus Fritz | D100: =IF(Turnidomenica!E116="","",Turnidomenica!E116) -> 8 | E100: =IF(Turnidomenica!F116="","",Turnidomenica!F116) -> 0 | F100: =IF(D100>E100,1,0) -> 1 | G100: =IF(D100="",0,IF(D100=E100,1,0)) -> 0 | H100: =IF(D100<E100,1,0) -> 0 | N100: =A39 -> Massimo Conti
A101: =A92 -> David Busch | B101: =A95 -> Klaus Fritz | D101: =IF(Turnidomenica!E199="","",Turnidomenica!E199) -> 7 | E101: =IF(Turnidomenica!F199="","",Turnidomenica!F199) -> 0 | F101: =IF(D101>E101,1,0) -> 1 | G101: =IF(D101="",0,IF(D101=E101,1,0)) -> 0 | H101: =IF(D101<E101,1,0) -> 0 | N101: =A80 -> Claudio Colpani
A102: =A93 -> Mario Corradi | B102: =A94 -> Joseph Mifsud | D102: =IF(Turnidomenica!E200="","",Turnidomenica!E200) -> 1 | E102: =IF(Turnidomenica!F200="","",Turnidomenica!F200) -> 2 | F102: =IF(D102>E102,1,0) -> 0 | G102: =IF(D102="",0,IF(D102=E102,1,0)) -> 0 | H102: =IF(D102<E102,1,0) -> 1 | N102: =A81 -> Andrea Morosini
A104: GIRONE / GROUP 8
A105: Giocatore / Player | C105: Pts | D105: G | E105: V | F105: N | G105: P | H105: GF | I105: GS | J105: DG
A106: =Iscritti!B132 -> Patrizio Lazzaretti | C106: =3*E106+F106 -> 9 | D106: =SUM(E106:G106) -> 3 | E106: =SUM(F111+F113+F115) -> 3 | F106: =SUM(G111+G113+G115) -> 0 | G106: =SUM(H111+H113+H115) -> 0 | H106: =SUM(D111,D113,D115) -> 10 | I106: =SUM(E111,E113,E115) -> 2 | J106: =H106-I106 -> 8 | K106: =(C106*10000)+(J106*100)+H106 -> 90810 | L106: =+A106 -> Patrizio Lazzaretti | M106: =LARGE(K106:K111,1) -> 90810 | N106: =IF(SUM(C106:C109)=0,"",VLOOKUP(M106,K106:L109,2,FALSE)) -> Patrizio Lazzaretti
A107: =Iscritti!B142 -> Luis Felipe Mendez | C107: =3*E107+F107 -> 4 | D107: =SUM(E107:G107) -> 3 | E107: =SUM(F112+H113+F116) -> 1 | F107: =SUM(G112+G113+G116) -> 1 | G107: =SUM(H112+F113+H116) -> 1 | H107: =SUM(D112,E113,D116) -> 5 | I107: =SUM(E112,D113,E116) -> 4 | J107: =H107-I107 -> 1 | K107: =(C107*10000)+(J107*100)+H107 -> 40105 | L107: =+A107 -> Luis Felipe Mendez | M107: =LARGE(K106:K111,2) -> 40105 | N107: =IF(SUM(C106:C109)=0,"",VLOOKUP(M107,K106:L109,2,FALSE)) -> Luis Felipe Mendez
A108: =Iscritti!B154 -> Michele Giudice | C108: =3*E108+F108 -> 2 | D108: =SUM(E108:G108) -> 3 | E108: =SUM(H111+F114+H116) -> 0 | F108: =SUM(G111+G114+G116) -> 2 | G108: =SUM(F111+H114+F116) -> 1 | H108: =SUM(E111,D114,E116) -> 2 | I108: =SUM(D111,E114,D116) -> 6 | J108: =H108-I108 -> -4 | K108: =(C108*10000)+(J108*100)+H108 -> 19602 | L108: =+A108 -> Michele Giudice | M108: =LARGE(K106:K111,3) -> 19602 | N108: =IF(SUM(C106:C109)=0,"",VLOOKUP(M108,K106:L109,2,FALSE)) -> Michele Giudice
...

Sheet Under19
B1: F.I.S.C.T. Lombardia
B2: Federazione Italiana Sport Calcio da Tavolo
B3: XXXIX TORNEO DI NATALE
B4: Categoria UNDER 19 - Milano, 11 dicembre 2016
A6: GIRONE / GROUP 1
A7: Giocatore / Player | C7: Pts | D7: G | E7: V | F7: N | G7: P | H7: GF | I7: GS | J7: DG
A8: =Iscritti!B173 -> Corentin Wauthy | C8: =E8*3+F8 -> 3 | D8: =SUM(E8:G8) -> 4 | E8: =IF(D14>E14,1,0)+IF(D16>E16,1,0)+IF(D18>E18,1,0)+IF(D22>E22,1,0) -> 1 | F8: =IF(D14="",0,IF(D14=E14,1,0))+IF(D16="",0,IF(D16=E16,1,0))+IF(D18="",0,IF(D18=E18,1,0))+IF(D22="",0,IF(D22=E22,1,0)) -> 0 | G8: =IF(D14<E14,1,0)+IF(D16<E16,1,0)+IF(D18<E18,1,0)+IF(D22<E22,1,0) -> 3 | H8: =SUM(D14,D16,D18,D22) -> 6 | I8: =SUM(E14,E16,E18,E22) -> 17 | J8: =H8-I8 -> -11 | K8: =(C8*10000)+(J8*100)+H8 -> 28906 | L8: =+A8 -> Corentin Wauthy | M8: =LARGE(K8:K15,1) -> 121929 | N8: =IF(SUM(C8:C12)=0,"",VLOOKUP(M8,K8:L12,2,FALSE)) -> Filippo Cubeta
A9: =Iscritti!B175 -> Leonardo Giudice | C9: =E9*3+F9 -> 9 | D9: =SUM(E9:G9) -> 4 | E9: =IF(D15>E15,1,0)+IF(D17>E17,1,0)+IF(E18>D18,1,0)+IF(D20>E20,1,0) -> 3 | F9: =IF(D15="",0,IF(D15=E15,1,0))+IF(D17="",0,IF(D17=E17,1,0))+IF(E18="",0,IF(E18=D18,1,0))+IF(D20="",0,IF(D20=E20,1,0)) -> 0 | G9: =IF(D15<E15,1,0)+IF(D17<E17,1,0)+IF(E18<D18,1,0)+IF(D20<E20,1,0) -> 1 | H9: =SUM(D15,D17,E18,D20) -> 19 | I9: =SUM(E15,E17,D18,E20) -> 7 | J9: =H9-I9 -> 12 | K9: =(C9*10000)+(J9*100)+H9 -> 91219 | L9: =+A9 -> Leonardo Giudice | M9: =LARGE(K8:K15,2) -> 91219 | N9: =IF(SUM(C8:C12)=0,"",VLOOKUP(M9,K8:L12,2,FALSE)) -> Leonardo Giudice
A10: =Iscritti!B178 -> Filippo Cubeta | C10: =E10*3+F10 -> 12 | D10: =SUM(E10:G10) -> 4 | E10: =IF(E16>D16,1,0)+IF(D19>E19,1,0)+IF(E20>D20,1,0)+IF(D23>E23,1,0) -> 4 | F10: =IF(E16="",0,IF(E16=D16,1,0))+IF(D19="",0,IF(D19=E19,1,0))+IF(E20="",0,IF(E20=D20,1,0))+IF(D23="",0,IF(D23=E23,1,0)) -> 0 | G10: =IF(E16<D16,1,0)+IF(D19<E19,1,0)+IF(E20<D20,1,0)+IF(D23<E23,1,0) -> 0 | H10: =SUM(E16,D19,E20,D23) -> 29 | I10: =SUM(D16,E19,D20,E23) -> 10 | J10: =H10-I10 -> 19 | K10: =(C10*10000)+(J10*100)+H10 -> 121929 | L10: =+A10 -> Filippo Cubeta | M10: =LARGE(K8:K15,3) -> 60415 | N10: =IF(SUM(C8:C12)=0,"",VLOOKUP(M10,K8:L12,2,FALSE)) -> Alessandro Natoli
A11: =Iscritti!B180 -> Alessandro Natoli | C11: =E11*3+F11 -> 6 | D11: =SUM(E11:G11) -> 4 | E11: =IF(E14>D14,1,0)+IF(E17>D17,1,0)+IF(D21>E21,1,0)+IF(E23>D23,1,0) -> 2 | F11: =IF(E14="",0,IF(E14=D14,1,0))+IF(E17="",0,IF(E17=D17,1,0))+IF(D21="",0,IF(D21=E21,1,0))+IF(E23="",0,IF(E23=D23,1,0)) -> 0 | G11: =IF(E14<D14,1,0)+IF(E17<D17,1,0)+IF(D21<E21,1,0)+IF(E23<D23,1,0) -> 2 | H11: =SUM(E14,E17,D21,E23) -> 15 | I11: =SUM(D14,D17,E21,D23) -> 11 | J11: =H11-I11 -> 4 | K11: =(C11*10000)+(J11*100)+H11 -> 60415 | L11: =+A11 -> Alessandro Natoli | M11: =LARGE(K8:K15,4) -> 28906 | N11: =IF(SUM(C8:C12)=0,"",VLOOKUP(M11,K8:L12,2,FALSE)) -> Corentin Wauthy
A12: =Iscritti!B182 -> Nico Pretzel | C12: =E12*3+F12 -> 0 | D12: =SUM(E12:G12) -> 4 | E12: =IF(E15>D15,1,0)+IF(E19>D19,1,0)+IF(E21>D21,1,0)+IF(E22>D22,1,0) -> 0 | F12: =IF(E15="",0,IF(E15=D15,1,0))+IF(E19="",0,IF(E19=D19,1,0))+IF(E21="",0,IF(E21=D21,1,0))+IF(E22="",0,IF(E22=D22,1,0)) -> 0 | G12: =IF(E15<D15,1,0)+IF(E19<D19,1,0)+IF(E21<D21,1,0)+IF(E22<D22,1,0) -> 4 | H12: =SUM(E15,E19,E21,E22) -> 0 | I12: =SUM(D15,D19,D21,D22) -> 24 | J12: =H12-I12 -> -24 | K12: =(C12*10000)+(J12*100)+H12 -> -2400 | L12: =+A12 -> Nico Pretzel | M12: =LARGE(K8:K15,5) -> -2400 | N12: =IF(SUM(C8:C12)=0,"",VLOOKUP(M12,K8:L12,2,FALSE)) -> Nico Pretzel
A13: Incontri | D13: Risultato | N13: Arbitro
A14: =A8 -> Corentin Wauthy | B14: =A11 -> Alessandro Natoli | D14: =IF(Turnidomenica!E41="","",Turnidomenica!E41) -> 0 | E14: =IF(Turnidomenica!F41="","",Turnidomenica!F41) -> 5 | F14: =IF(D14>E14,1,0) -> 0 | G14: =IF(D14=E14,1,0) -> 0 | H14: =IF(D14<E14,1,0) -> 1 | N14: =Under15!A8 -> Riccardo Natoli
A15: =A9 -> Leonardo Giudice | B15: =A12 -> Nico Pretzel | D15: =IF(Turnidomenica!E42="","",Turnidomenica!E42) -> 6 | E15: =IF(Turnidomenica!F42="","",Turnidomenica!F42) -> 0 | F15: =IF(D15>E15,1,0) -> 1 | G15: =IF(D15=E15,1,0) -> 0 | H15: =IF(D15<E15,1,0) -> 0 | N15: =Under15!A9 -> Riccardo Marangoni
A16: =A8 -> Corentin Wauthy | B16: =A10 -> Filippo Cubeta | D16: =IF(Turnidomenica!E83="","",Turnidomenica!E83) -> 4 | E16: =IF(Turnidomenica!F83="","",Turnidomenica!F83) -> 7 | F16: =IF(D16>E16,1,0) -> 0 | G16: =IF(D16=E16,1,0) -> 0 | H16: =IF(D16<E16,1,0) -> 1 | N16: =A30 -> Moritz Jung
A17: =A9 -> Leonardo Giudice | B17: =A11 -> Alessandro Natoli | D17: =IF(Turnidomenica!E84="","",Turnidomenica!E84) -> 4 | E17: =IF(Turnidomenica!F84="","",Turnidomenica!F84) -> 2 | F17: =IF(D17>E17,1,0) -> 1 | G17: =IF(D17=E17,1,0) -> 0 | H17: =IF(D17<E17,1,0) -> 0 | N17: =A31 -> Rocco Morganelli
A18: =A8 -> Corentin Wauthy | B18: =A9 -> Leonardo Giudice | D18: =IF(Turnidomenica!E125="","",Turnidomenica!E125) -> 0 | E18: =IF(Turnidomenica!F125="","",Turnidomenica!F125) -> 5 | F18: =IF(D18>E18,1,0) -> 0 | G18: =IF(D18=E18,1,0) -> 0 | H18: =IF(D18<E18,1,0) -> 1 | N18: =Ladies!A8 -> Paola Forlani
A19: =A10 -> Filippo Cubeta | B19: =A12 -> Nico Pretzel | D19: =IF(Turnidomenica!E126="","",Turnidomenica!E126) -> 10 | E19: =IF(Turnidomenica!F126="","",Turnidomenica!F126) -> 0 | F19: =IF(D19>E19,1,0) -> 1 | G19: =IF(D19=E19,1,0) -> 0 | H19: =IF(D19<E19,1,0) -> 0 | N19: =Ladies!A9 -> Giulia Brillantino
A20: =A9 -> Leonardo Giudice | B20: =A10 -> Filippo Cubeta | D20: =IF(Turnidomenica!E209="","",Turnidomenica!E209) -> 4 | E20: =IF(Turnidomenica!F209="","",Turnidomenica!F209) -> 5 | F20: =IF(D20>E20,1,0) -> 0 | G20: =IF(D20=E20,1,0) -> 0 | H20: =IF(D20<E20,1,0) -> 1 | N20: =Under15!A10 -> Lorenzo Lazzaretti
A21: =A11 -> Alessandro Natoli | B21: =A12 -> Nico Pretzel | D21: =IF(Turnidomenica!E210="","",Turnidomenica!E210) -> 6 | E21: =IF(Turnidomenica!F210="","",Turnidomenica!F210) -> 0 | F21: =IF(D21>E21,1,0) -> 1 | G21: =IF(D21=E21,1,0) -> 0 | H21: =IF(D21<E21,1,0) -> 0 | N21: =Under15!A11 -> Gabriele Cavalli
A22: =A8 -> Corentin Wauthy | B22: =A12 -> Nico Pretzel | D22: =IF(Turnidomenica!E251="","",Turnidomenica!E251) -> 2 | E22: =IF(Turnidomenica!F251="","",Turnidomenica!F251) -> 0 | F22: =IF(D22>E22,1,0) -> 1 | G22: =IF(D22=E22,1,0) -> 0 | H22: =IF(D22<E22,1,0) -> 0 | N22: =A27 -> Thèo Modeste
A23: =A10 -> Filippo Cubeta | B23: =A11 -> Alessandro Natoli | D23: =IF(Turnidomenica!E252="","",Turnidomenica!E252) -> 7 | E23: =IF(Turnidomenica!F252="","",Turnidomenica!F252) -> 2 | F23: =IF(D23>E23,1,0) -> 1 | G23: =IF(D23=E23,1,0) -> 0 | H23: =IF(D23<E23,1,0) -> 0 | N23: =A28 -> Jurgen Balzan
A25: GIRONE / GROUP 2
A26: Giocatore / Player | C26: Pts | D26: G | E26: V | F26: N | G26: P | H26: GF | I26: GS | J26: DG
A27: =Iscritti!B174 -> Thèo Modeste | C27: =E27*3+F27 -> 9 | D27: =SUM(E27:G27) -> 4 | E27: =IF(D33>E33,1,0)+IF(D35>E35,1,0)+IF(D37>E37,1,0)+IF(D41>E41,1,0) -> 3 | F27: =IF(D33="",0,IF(D33=E33,1,0))+IF(D35="",0,IF(D35=E35,1,0))+IF(D37="",0,IF(D37=E37,1,0))+IF(D41="",0,IF(D41=E41,1,0)) -> 0 | G27: =IF(D33<E33,1,0)+IF(D35<E35,1,0)+IF(D37<E37,1,0)+IF(D41<E41,1,0) -> 1 | H27: =SUM(D33,D35,D37,D41) -> 12 | I27: =SUM(E33,E35,E37,E41) -> 6 | J27: =H27-I27 -> 6 | K27: =(C27*10000)+(J27*100)+H27 -> 90612 | L27: =+A27 -> Thèo Modeste | M27: =LARGE(K27:K34,1) -> 121116 | N27: =IF(SUM(C27:C31)=0,"",VLOOKUP(M27,K27:L31,2,FALSE)) -> Alessandro Amatelli
A28: =Iscritti!B176 -> Jurgen Balzan | C28: =E28*3+F28 -> 3 | D28: =SUM(E28:G28) -> 4 | E28: =IF(D34>E34,1,0)+IF(D36>E36,1,0)+IF(E37>D37,1,0)+IF(D39>E39,1,0) -> 1 | F28: =IF(D34="",0,IF(D34=E34,1,0))+IF(D36="",0,IF(D36=E36,1,0))+IF(E37="",0,IF(E37=D37,1,0))+IF(D39="",0,IF(D39=E39,1,0)) -> 0 | G28: =IF(D34<E34,1,0)+IF(D36<E36,1,0)+IF(E37<D37,1,0)+IF(D39<E39,1,0) -> 3 | H28: =SUM(D34,D36,E37,D39) -> 7 | I28: =SUM(E34,E36,D37,E39) -> 14 | J28: =H28-I28 -> -7 | K28: =(C28*10000)+(J28*100)+H28 -> 29307 | L28: =+A28 -> Jurgen Balzan | M28: =LARGE(K27:K34,2) -> 90612 | N28: =IF(SUM(C27:C31)=0,"",VLOOKUP(M28,K27:L31,2,FALSE)) -> Thèo Modeste
A29: =Iscritti!B177 -> Alessandro Amatelli | C29: =E29*3+F29 -> 12 | D29: =SUM(E29:G29) -> 4 | E29: =IF(E35>D35,1,0)+IF(D38>E38,1,0)+IF(E39>D39,1,0)+IF(D42>E42,1,0) -> 4 | F29: =IF(E35="",0,IF(E35=D35,1,0))+IF(D38="",0,IF(D38=E38,1,0))+IF(E39="",0,IF(E39=D39,1,0))+IF(D42="",0,IF(D42=E42,1,0)) -> 0 | G29: =IF(E35<D35,1,0)+IF(D38<E38,1,0)+IF(E39<D39,1,0)+IF(D42<E42,1,0) -> 0 | H29: =SUM(E35,D38,E39,D42) -> 16 | I29: =SUM(D35,E38,D39,E42) -> 5 | J29: =H29-I29 -> 11 | K29: =(C29*10000)+(J29*100)+H29 -> 121116 | L29: =+A29 -> Alessandro Amatelli | M29: =LARGE(K27:K34,3) -> 29606 | N29: =IF(SUM(C27:C31)=0,"",VLOOKUP(M29,K27:L31,2,FALSE)) -> Moritz Jung
A30: =Iscritti!B179 -> Moritz Jung | C30: =E30*3+F30 -> 3 | D30: =SUM(E30:G30) -> 4 | E30: =IF(E33>D33,1,0)+IF(E36>D36,1,0)+IF(D40>E40,1,0)+IF(E42>D42,1,0) -> 1 | F30: =IF(E33="",0,IF(E33=D33,1,0))+IF(E36="",0,IF(E36=D36,1,0))+IF(D40="",0,IF(D40=E40,1,0))+IF(E42="",0,IF(E42=D42,1,0)) -> 0 | G30: =IF(E33<D33,1,0)+IF(E36<D36,1,0)+IF(D40<E40,1,0)+IF(E42<D42,1,0) -> 3 | H30: =SUM(E33,E36,D40,E42) -> 6 | I30: =SUM(D33,D36,E40,D42) -> 10 | J30: =H30-I30 -> -4 | K30: =(C30*10000)+(J30*100)+H30 -> 29606 | L30: =+A30 -> Moritz Jung | M30: =LARGE(K27:K34,4) -> 29404 | N30: =IF(SUM(C27:C31)=0,"",VLOOKUP(M30,K27:L31,2,FALSE)) -> Rocco Morganelli
A31: =Iscritti!B181 -> Rocco Morganelli | C31: =E31*3+F31 -> 3 | D31: =SUM(E31:G31) -> 4 | E31: =IF(E34>D34,1,0)+IF(E38>D38,1,0)+IF(E40>D40,1,0)+IF(E41>D41,1,0) -> 1 | F31: =IF(E34="",0,IF(E34=D34,1,0))+IF(E38="",0,IF(E38=D38,1,0))+IF(E40="",0,IF(E40=D40,1,0))+IF(E41="",0,IF(E41=D41,1,0)) -> 0 | G31: =IF(E34<D34,1,0)+IF(E38<D38,1,0)+IF(E40<D40,1,0)+IF(E41<D41,1,0) -> 3 | H31: =SUM(E34,E38,E40,E41) -> 4 | I31: =SUM(D34,D38,D40,D41) -> 10 | J31: =H31-I31 -> -6 | K31: =(C31*10000)+(J31*100)+H31 -> 29404 | L31: =+A31 -> Rocco Morganelli | M31: =LARGE(K27:K34,5) -> 29307 | N31: =IF(SUM(C27:C31)=0,"",VLOOKUP(M31,K27:L31,2,FALSE)) -> Jurgen Balzan
A32: Incontri | D32: Risultato | N32: Arbitro
A33: =A27 -> Thèo Modeste | B33: =A30 -> Moritz Jung | D33: =IF(Turnidomenica!E43="","",Turnidomenica!E43) -> 3 | E33: =IF(Turnidomenica!F43="","",Turnidomenica!F43) -> 1 | F33: =IF(D33>E33,1,0) -> 1 | G33: =IF(D33=E33,1,0) -> 0 | H33: =IF(D33<E33,1,0) -> 0 | N33: =Under15!A10 -> Lorenzo Lazzaretti
A34: =A28 -> Jurgen Balzan | B34: =A31 -> Rocco Morganelli | D34: =IF(Turnidomenica!E44="","",Turnidomenica!E44) -> 1 | E34: =IF(Turnidomenica!F44="","",Turnidomenica!F44) -> 2 | F34: =IF(D34>E34,1,0) -> 0 | G34: =IF(D34=E34,1,0) -> 0 | H34: =IF(D34<E34,1,0) -> 1 | N34: =Under15!A11 -> Gabriele Cavalli
A35: =A27 -> Thèo Modeste | B35: =A29 -> Alessandro Amatelli | D35: =IF(Turnidomenica!E127="","",Turnidomenica!E127) -> 0 | E35: =IF(Turnidomenica!F127="","",Turnidomenica!F127) -> 3 | F35: =IF(D35>E35,1,0) -> 0 | G35: =IF(D35=E35,1,0) -> 0 | H35: =IF(D35<E35,1,0) -> 1 | N35: =Ladies!A11 -> Daria Prazynski
A36: =A28 -> Jurgen Balzan | B36: =A30 -> Moritz Jung | D36: =IF(Turnidomenica!E128="","",Turnidomenica!E128) -> 2 | E36: =IF(Turnidomenica!F128="","",Turnidomenica!F128) -> 1 | F36: =IF(D36>E36,1,0) -> 1 | G36: =IF(D36=E36,1,0) -> 0 | H36: =IF(D36<E36,1,0) -> 0 | N36: =Ladies!A12 -> Stefka Radkova
A37: =A27 -> Thèo Modeste | B37: =A28 -> Jurgen Balzan | D37: =IF(Turnidomenica!E167="","",Turnidomenica!E167) -> 4 | E37: =IF(Turnidomenica!F167="","",Turnidomenica!F167) -> 1 | F37: =IF(D37>E37,1,0) -> 1 | G37: =IF(D37=E37,1,0) -> 0 | H37: =IF(D37<E37,1,0) -> 0 | N37: =A8 -> Corentin Wauthy
A38: =A29 -> Alessandro Amatelli | B38: =A31 -> Rocco Morganelli | D38: =IF(Turnidomenica!E168="","",Turnidomenica!E168) -> 2 | E38: =IF(Turnidomenica!F168="","",Turnidomenica!F168) -> 0 | F38: =IF(D38>E38,1,0) -> 1 | G38: =IF(D38=E38,1,0) -> 0 | H38: =IF(D38<E38,1,0) -> 0 | N38: =A9 -> Leonardo Giudice
A39: =A28 -> Jurgen Balzan | B39: =A29 -> Alessandro Amatelli | D39: =IF(Turnidomenica!E211="","",Turnidomenica!E211) -> 3 | E39: =IF(Turnidomenica!F211="","",Turnidomenica!F211) -> 7 | F39: =IF(D39>E39,1,0) -> 0 | G39: =IF(D39=E39,1,0) -> 0 | H39: =IF(D39<E39,1,0) -> 1 | N39: =Under15!A8 -> Riccardo Natoli
A40: =A30 -> Moritz Jung | B40: =A31 -> Rocco Morganelli | D40: =IF(Turnidomenica!E212="","",Turnidomenica!E212) -> 2 | E40: =IF(Turnidomenica!F212="","",Turnidomenica!F212) -> 1 | F40: =IF(D40>E40,1,0) -> 1 | G40: =IF(D40=E40,1,0) -> 0 | H40: =IF(D40<E40,1,0) -> 0 | N40: =Under15!A9 -> Riccardo Marangoni
A41: =A27 -> Thèo Modeste | B41: =A31 -> Rocco Morganelli | D41: =IF(Turnidomenica!E291="","",Turnidomenica!E291) -> 5 | E41: =IF(Turnidomenica!F291="","",Turnidomenica!F291) -> 1 | F41: =IF(D41>E41,1,0) -> 1 | G41: =IF(D41=E41,1,0) -> 0 | H41: =IF(D41<E41,1,0) -> 0 | N41: =A9 -> Leonardo Giudice
A42: =A29 -> Alessandro Amatelli | B42: =A30 -> Moritz Jung | D42: =IF(Turnidomenica!E292="","",Turnidomenica!E292) -> 4 | E42: =IF(Turnidomenica!F292="","",Turnidomenica!F292) -> 2 | F42: =IF(D42>E42,1,0) -> 1 | G42: =IF(D42=E42,1,0) -> 0 | H42: =IF(D42<E42,1,0) -> 0 | N42: =A8 -> Corentin Wauthy
A44: SEMIFINALI / SEMIFINALS
A45: Giocatore/Player A | B45: Giocatore/Player B | D45: Ris./Score | F45: Qualificato/Qualified | N45: Arbitro / Referee
A46: =N8 -> Filippo Cubeta | B46: =N28 -> Thèo Modeste | D46: =IF(Turnidomenica!E377="","",Turnidomenica!E377) -> 2 | E46: =IF(Turnidomenica!F377="","",Turnidomenica!F377) -> 1 | F46: =IF(D46>E46,A46,IF(OR(D46=E46),"Spareggio",B46)) -> Filippo Cubeta | L46: =IF(D46<E46,A46,IF(OR(D46=E46),"spareggio",B46)) -> Thèo Modeste | N46: da definire
A47: =N27 -> Alessandro Amatelli | B47: =N9 -> Leonardo Giudice | D47: =IF(Turnidomenica!E378="","",Turnidomenica!E378) -> 2 | E47: =IF(Turnidomenica!F378="","",Turnidomenica!F378) -> 3 | F47: =IF(D47>E47,A47,IF(OR(D47=E47),"Spareggio",B47)) -> Leonardo Giudice | L47: =IF(D47<E47,A47,IF(OR(D47=E47),"spareggio",B47)) -> Alessandro Amatelli | N47: da definire
A49: FINALE / FINAL
A50: Giocatore/Player A | B50: Giocatore/Player B | D50: Ris./Score | F50: Vincitore/Winner | N50: Arbitro / Referee
A51: =F46 -> Filippo Cubeta | B51: =F47 -> Leonardo Giudice | D51: =IF(Turnidomenica!E403="","",Turnidomenica!E403) -> 3 | E51: =IF(Turnidomenica!F403="","",Turnidomenica!F403) -> 2 | F51: =IF(D51>E51,A51,IF(OR(D51=E51),"Spareggio",B51)) -> Filippo Cubeta | L51: =IF(D51<E51,A51,IF(OR(D51=E51),"spareggio",B51)) -> Leonardo Giudice | N51: =L46 -> Thèo Modeste
A54: Torneo di Consolazione / Consolation Tournament
A57: BARRAGES
A58: Giocatore/Player A | B58: Giocatore/Player B | D58: Ris./Score | F58: Qualificato/Qualified | N58: Arbitro / Referee
A59: =N30 -> Rocco Morganelli | B59: =N12 -> Nico Pretzel | D59: =IF(Turnidomenica!E331="","",Turnidomenica!E331) -> 12 | E59: =IF(Turnidomenica!F331="","",Turnidomenica!F331) -> 0 | F59: =IF(D59>E59,A59,IF(OR(D59=E59),"Spareggio",B59)) -> Rocco Morganelli | L59: =IF(D59<E59,A59,IF(OR(D59=E59),"spareggio",B59)) -> Nico Pretzel | N59: da definire
A60: =N11 -> Corentin Wauthy | B60: =N31 -> Jurgen Balzan | D60: =IF(Turnidomenica!E332="","",Turnidomenica!E332) -> 2 | E60: =IF(Turnidomenica!F332="","",Turnidomenica!F332) -> 1 | F60: =IF(D60>E60,A60,IF(OR(D60=E60),"Spareggio",B60)) -> Corentin Wauthy | L60: =IF(D60<E60,A60,IF(OR(D60=E60),"spareggio",B60)) -> Jurgen Balzan | N60: da definire
A62: SEMIFINALI / SEMIFINALS
A63: Giocatore/Player A | B63: Giocatore/Player B | D63: Ris./Score | F63: Qualificato/Qualified | N63: Arbitro / Referee
A64: =N10 -> Alessandro Natoli | B64: =F59 -> Rocco Morganelli | D64: =IF(Turnidomenica!E379="","",Turnidomenica!E379) -> 3 | E64: =IF(Turnidomenica!F379="","",Turnidomenica!F379) -> 2 | F64: =IF(D64>E64,A64,IF(OR(D64=E64),"Spareggio",B64)) -> Alessandro Natoli | L64: =IF(D64<E64,A64,IF(OR(D64=E64),"spareggio",B64)) -> Rocco Morganelli | N64: =L59 -> Nico Pretzel
A65: =N29 -> Moritz Jung | B65: =F60 -> Corentin Wauthy | D65: =IF(Turnidomenica!E380="","",Turnidomenica!E380) -> 0 | E65: =IF(Turnidomenica!F380="","",Turnidomenica!F380) -> 5 | F65: =IF(D65>E65,A65,IF(OR(D65=E65),"Spareggio",B65)) -> Corentin Wauthy | L65: =IF(D65<E65,A65,IF(OR(D65=E65),"spareggio",B65)) -> Moritz Jung | N65: =L60 -> Jurgen Balzan
A67: FINALE / FINAL
A68: Giocatore/Player A | B68: Giocatore/Player B | D68: Ris./Score | F68: Vincitore/Winner | N68: Arbitro / Referee
A69: =F64 -> Alessandro Natoli | B69: =F65 -> Corentin Wauthy | D69: =IF(Turnidomenica!E404="","",Turnidomenica!E404) -> 5 | E69: =IF(Turnidomenica!F404="","",Turnidomenica!F404) -> 0 | F69: =IF(D69>E69,A69,IF(OR(D69=E69),"Spareggio",B69)) -> Alessandro Natoli | L69: =IF(D69<E69,A69,IF(OR(D69=E69),"spareggio",B69)) -> Corentin Wauthy | N69: =L64 -> Rocco Morganelli

Sheet Under15
B1: F.I.S.C.T. Lombardia
B2: Federazione Italiana Sport Calcio da Tavolo
B3: XXXIX TORNEO DI NATALE
B4: Categoria UNDER 15 - Milano, 11 dicembre 2016
A6: GIRONE / GROUP 1
A7: Giocatore / Player | C7: Pts | D7: G | E7: V | F7: N | G7: P | H7: GF | I7: GS | J7: DG
A8: =Iscritti!B187 -> Riccardo Natoli | C8: =3*E8+F8 -> 9 | D8: =SUM(E8:G8) -> 3 | E8: =SUM(F13+F15+F17) -> 3 | F8: =SUM(G13+G15+G17) -> 0 | G8: =SUM(H13+H15+H17) -> 0 | H8: =SUM(D13,D15,D17) -> 10 | I8: =SUM(E13,E15,E17) -> 3 | J8: =H8-I8 -> 7 | K8: =(C8*10000)+(J8*100)+H8 -> 90710 | L8: =+A8 -> Riccardo Natoli | M8: =LARGE(K8:K13,1) -> 90710 | N8: =IF(SUM(C8:C11)=0,"",VLOOKUP(M8,K8:L11,2,FALSE)) -> Riccardo Natoli
A9: =Iscritti!B189 -> Riccardo Marangoni | C9: =3*E9+F9 -> 6 | D9: =SUM(E9:G9) -> 3 | E9: =SUM(F14+H15+F18) -> 2 | F9: =SUM(G14+G15+G18) -> 0 | G9: =SUM(H14+F15+H18) -> 1 | H9: =SUM(D14,E15,D18) -> 7 | I9: =SUM(E14,D15,E18) -> 4 | J9: =H9-I9 -> 3 | K9: =(C9*10000)+(J9*100)+H9 -> 60307 | L9: =+A9 -> Riccardo Marangoni | M9: =LARGE(K8:K13,2) -> 60307 | N9: =IF(SUM(C8:C11)=0,"",VLOOKUP(M9,K8:L11,2,FALSE)) -> Riccardo Marangoni
A10: =Iscritti!B188 -> Lorenzo Lazzaretti | C10: =3*E10+F10 -> 3 | D10: =SUM(E10:G10) -> 3 | E10: =SUM(H13+F16+H18) -> 1 | F10: =SUM(G13+G16+G18) -> 0 | G10: =SUM(F13+H16+F18) -> 2 | H10: =SUM(E13,D16,E18) -> 3 | I10: =SUM(D13,E16,D18) -> 7 | J10: =H10-I10 -> -4 | K10: =(C10*10000)+(J10*100)+H10 -> 29603 | L10: =+A10 -> Lorenzo Lazzaretti | M10: =LARGE(K8:K13,3) -> 29603 | N10: =IF(SUM(C8:C11)=0,"",VLOOKUP(M10,K8:L11,2,FALSE)) -> Lorenzo Lazzaretti
A11: =Iscritti!B190 -> Gabriele Cavalli | C11: =3*E11+F11 -> 0 | D11: =SUM(E11:G11) -> 3 | E11: =SUM(H14+H16+H17) -> 0 | F11: =SUM(G14+G16+G17) -> 0 | G11: =SUM(F14+F16+F17) -> 3 | H11: =SUM(E14,E16,E17) -> 1 | I11: =SUM(D14,D16,D17) -> 7 | J11: =H11-I11 -> -6 | K11: =(C11*10000)+(J11*100)+H11 -> -599 | L11: =+A11 -> Gabriele Cavalli | M11: =LARGE(K8:K13,4) -> -599 | N11: =IF(SUM(C8:C11)=0,"",VLOOKUP(M11,K8:L11,2,FALSE)) -> Gabriele Cavalli
A12: Incontro / Match | D12: Ris./Score | N12: Arbitro / Referee
A13: =A8 -> Riccardo Natoli | B13: =A10 -> Lorenzo Lazzaretti | D13: =IF(Turnidomenica!E85="","",Turnidomenica!E85) -> 3 | E13: =IF(Turnidomenica!F85="","",Turnidomenica!F85) -> 1 | F13: =IF(D13>E13,1,0) -> 1 | G13: =IF(D13="",0,IF(D13=E13,1,0)) -> 0 | H13: =IF(D13<E13,1,0) -> 0 | N13: =Ladies!A10 -> Bettina Lenz-Exler
A14: =A9 -> Riccardo Marangoni | B14: =A11 -> Gabriele Cavalli | D14: =IF(Turnidomenica!E86="","",Turnidomenica!E86) -> 2 | E14: =IF(Turnidomenica!F86="","",Turnidomenica!F86) -> 0 | F14: =IF(D14>E14,1,0) -> 1 | G14: =IF(D14="",0,IF(D14=E14,1,0)) -> 0 | H14: =IF(D14<E14,1,0) -> 0 | N14: =Under19!A29 -> Alessandro Amatelli
A15: =A8 -> Riccardo Natoli | B15: =A9 -> Riccardo Marangoni | D15: =IF(Turnidomenica!E169="","",Turnidomenica!E169) -> 3 | E15: =IF(Turnidomenica!F169="","",Turnidomenica!F169) -> 1 | F15: =IF(D15>E15,1,0) -> 1 | G15: =IF(D15="",0,IF(D15=E15,1,0)) -> 0 | H15: =IF(D15<E15,1,0) -> 0 | N15: =Under12!A8 -> Francesco Borgo
A16: =A10 -> Lorenzo Lazzaretti | B16: =A11 -> Gabriele Cavalli | D16: =IF(Turnidomenica!E170="","",Turnidomenica!E170) -> 1 | E16: =IF(Turnidomenica!F170="","",Turnidomenica!F170) -> 0 | F16: =IF(D16>E16,1,0) -> 1 | G16: =IF(D16="",0,IF(D16=E16,1,0)) -> 0 | H16: =IF(D16<E16,1,0) -> 0 | N16: =Under12!A9 -> Francesco Tozzi
A17: =A8 -> Riccardo Natoli | B17: =A11 -> Gabriele Cavalli | D17: =IF(Turnidomenica!E253="","",Turnidomenica!E253) -> 4 | E17: =IF(Turnidomenica!F253="","",Turnidomenica!F253) -> 1 | F17: =IF(D17>E17,1,0) -> 1 | G17: =IF(D17="",0,IF(D17=E17,1,0)) -> 0 | H17: =IF(D17<E17,1,0) -> 0 | N17: =Under19!A30 -> Moritz Jung
A18: =A9 -> Riccardo Marangoni | B18: =A10 -> Lorenzo Lazzaretti | D18: =IF(Turnidomenica!E254="","",Turnidomenica!E254) -> 4 | E18: =IF(Turnidomenica!F254="","",Turnidomenica!F254) -> 1 | F18: =IF(D18>E18,1,0) -> 1 | G18: =IF(D18="",0,IF(D18=E18,1,0)) -> 0 | H18: =IF(D18<E18,1,0) -> 0 | N18: =Under19!A31 -> Rocco Morganelli
A20: SEMIFINALI / SEMIFINALS
A21: Giocatore/Player A | B21: Giocatore/Player B | D21: Ris./Score | F21: Qualificato/Qualified | N21: Arbitro / Referee
A22: =N8 -> Riccardo Natoli | B22: =N11 -> Gabriele Cavalli | D22: =IF(Turnidomenica!E333="","",Turnidomenica!E333) -> 5 | E22: =IF(Turnidomenica!F333="","",Turnidomenica!F333) -> 0 | F22: =IF(D22>E22,A22,IF(OR(D22=E22),"Spareggio",B22)) -> Riccardo Natoli | L22: =IF(D22<E22,A22,IF(OR(D22=E22),"spareggio",B22)) -> Gabriele Cavalli | N22: da definire
A23: =N9 -> Riccardo Marangoni | B23: =N10 -> Lorenzo Lazzaretti | D23: =IF(Turnidomenica!E334="","",Turnidomenica!E334) -> 3 | E23: =IF(Turnidomenica!F334="","",Turnidomenica!F334) -> 1 | F23: =IF(D23>E23,A23,IF(OR(D23=E23),"Spareggio",B23)) -> Riccardo Marangoni | L23: =IF(D23<E23,A23,IF(OR(D23=E23),"spareggio",B23)) -> Lorenzo Lazzaretti | N23: da definire
A25: FINALE / FINAL
A26: Giocatore/Player A | B26: Giocatore/Player B | D26: Ris./Score | F26: Vincitore/Winner | N26: Arbitro / Referee
A27: =F22 -> Riccardo Natoli | B27: =F23 -> Riccardo Marangoni | D27: =IF(Turnidomenica!E405="","",Turnidomenica!E405) -> 1 | E27: =IF(Turnidomenica!F405="","",Turnidomenica!F405) -> 0 | F27: =IF(D27>E27,A27,IF(OR(D27=E27),"Spareggio",B27)) -> Riccardo Natoli | L27: =IF(D27<E27,A27,IF(OR(D27=E27),"spareggio",B27)) -> Riccardo Marangoni | N27: =L22 -> Gabriele Cavalli

Sheet Under12
B1: F.I.S.C.T. Lombardia
B2: Federazione Italiana Sport Calcio da Tavolo
B3: XXXIX TORNEO DI NATALE
B4: Categoria UNDER 12 - Milano, 11 dicembre 2016
A6: GIRONE / GROUP 1
A7: Giocatore / Player | C7: Pts | D7: G | E7: V | F7: N | G7: P | H7: GF | I7: GS | J7: DG
A8: =Iscritti!B195 -> Francesco Borgo | C8: =E8*3+F8 -> 7 | D8: =SUM(E8:G8) -> 4 | E8: =IF(D14>E14,1,0)+IF(D16>E16,1,0)+IF(D18>E18,1,0)+IF(D22>E22,1,0) -> 2 | F8: =IF(D14="",0,IF(D14=E14,1,0))+IF(D16="",0,IF(D16=E16,1,0))+IF(D18="",0,IF(D18=E18,1,0))+IF(D22="",0,IF(D22=E22,1,0)) -> 1 | G8: =IF(D14<E14,1,0)+IF(D16<E16,1,0)+IF(D18<E18,1,0)+IF(D22<E22,1,0) -> 1 | H8: =SUM(D14,D16,D18,D22) -> 9 | I8: =SUM(E14,E16,E18,E22) -> 7 | J8: =H8-I8 -> 2 | K8: =(C8*10000)+(J8*100)+H8 -> 70209 | L8: =+A8 -> Francesco Borgo | M8: =LARGE(K8:K15,1) -> 101014 | N8: =IF(SUM(C8:C12)=0,"",VLOOKUP(M8,K8:L12,2,FALSE)) -> Francesco Tozzi
A9: =Iscritti!B196 -> Francesco Tozzi | C9: =E9*3+F9 -> 10 | D9: =SUM(E9:G9) -> 4 | E9: =IF(D15>E15,1,0)+IF(D17>E17,1,0)+IF(E18>D18,1,0)+IF(D20>E20,1,0) -> 3 | F9: =IF(D15="",0,IF(D15=E15,1,0))+IF(D17="",0,IF(D17=E17,1,0))+IF(E18="",0,IF(E18=D18,1,0))+IF(D20="",0,IF(D20=E20,1,0)) -> 1 | G9: =IF(D15<E15,1,0)+IF(D17<E17,1,0)+IF(E18<D18,1,0)+IF(D20<E20,1,0) -> 0 | H9: =SUM(D15,D17,E18,D20) -> 14 | I9: =SUM(E15,E17,D18,E20) -> 4 | J9: =H9-I9 -> 10 | K9: =(C9*10000)+(J9*100)+H9 -> 101014 | L9: =+A9 -> Francesco Tozzi | M9: =LARGE(K8:K15,2) -> 90812 | N9: =IF(SUM(C8:C12)=0,"",VLOOKUP(M9,K8:L12,2,FALSE)) -> Christian Fricano
A10: =Iscritti!B197 -> Christian Fricano | C10: =E10*3+F10 -> 9 | D10: =SUM(E10:G10) -> 4 | E10: =IF(E16>D16,1,0)+IF(D19>E19,1,0)+IF(E20>D20,1,0)+IF(D23>E23,1,0) -> 3 | F10: =IF(E16="",0,IF(E16=D16,1,0))+IF(D19="",0,IF(D19=E19,1,0))+IF(E20="",0,IF(E20=D20,1,0))+IF(D23="",0,IF(D23=E23,1,0)) -> 0 | G10: =IF(E16<D16,1,0)+IF(D19<E19,1,0)+IF(E20<D20,1,0)+IF(D23<E23,1,0) -> 1 | H10: =SUM(E16,D19,E20,D23) -> 12 | I10: =SUM(D16,E19,D20,E23) -> 4 | J10: =H10-I10 -> 8 | K10: =(C10*10000)+(J10*100)+H10 -> 90812 | L10: =+A10 -> Christian Fricano | M10: =LARGE(K8:K15,3) -> 70209 | N10: =IF(SUM(C8:C12)=0,"",VLOOKUP(M10,K8:L12,2,FALSE)) -> Francesco Borgo
A11: =Iscritti!B198 -> Ludovico Barcellona | C11: =E11*3+F11 -> 3 | D11: =SUM(E11:G11) -> 4 | E11: =IF(E14>D14,1,0)+IF(E17>D17,1,0)+IF(D21>E21,1,0)+IF(E23>D23,1,0) -> 1 | F11: =IF(E14="",0,IF(E14=D14,1,0))+IF(E17="",0,IF(E17=D17,1,0))+IF(D21="",0,IF(D21=E21,1,0))+IF(E23="",0,IF(E23=D23,1,0)) -> 0 | G11: =IF(E14<D14,1,0)+IF(E17<D17,1,0)+IF(D21<E21,1,0)+IF(E23<D23,1,0) -> 3 | H11: =SUM(E14,E17,D21,E23) -> 4 | I11: =SUM(D14,D17,E21,D23) -> 12 | J11: =H11-I11 -> -8 | K11: =(C11*10000)+(J11*100)+H11 -> 29204 | L11: =+A11 -> Ludovico Barcellona | M11: =LARGE(K8:K15,4) -> 29204 | N11: =IF(SUM(C8:C12)=0,"",VLOOKUP(M11,K8:L12,2,FALSE)) -> Ludovico Barcellona
A12: =Iscritti!B199 -> Pietro Gatti | C12: =E12*3+F12 -> 0 | D12: =SUM(E12:G12) -> 4 | E12: =IF(E15>D15,1,0)+IF(E19>D19,1,0)+IF(E21>D21,1,0)+IF(E22>D22,1,0) -> 0 | F12: =IF(E15="",0,IF(E15=D15,1,0))+IF(E19="",0,IF(E19=D19,1,0))+IF(E21="",0,IF(E21=D21,1,0))+IF(E22="",0,IF(E22=D22,1,0)) -> 0 | G12: =IF(E15<D15,1,0)+IF(E19<D19,1,0)+IF(E21<D21,1,0)+IF(E22<D22,1,0) -> 4 | H12: =SUM(E15,E19,E21,E22) -> 4 | I12: =SUM(D15,D19,D21,D22) -> 16 | J12: =H12-I12 -> -12 | K12: =(C12*10000)+(J12*100)+H12 -> -1196 | L12: =+A12 -> Pietro Gatti | M12: =LARGE(K8:K15,5) -> -1196 | N12: =IF(SUM(C8:C12)=0,"",VLOOKUP(M12,K8:L12,2,FALSE)) -> Pietro Gatti
A13: Incontri | D13: Risultato | N13: Arbitro
A14: =A8 -> Francesco Borgo | B14: =A11 -> Ludovico Barcellona | D14: =IF(Turnidomenica!E45="","",Turnidomenica!E45) -> 3 | E14: =IF(Turnidomenica!F45="","",Turnidomenica!F45) -> 0 | F14: =IF(D14>E14,1,0) -> 1 | G14: =IF(D14=E14,1,0) -> 0 | H14: =IF(D14<E14,1,0) -> 0 | N14: =Ladies!A8 -> Paola Forlani
A15: =A9 -> Francesco Tozzi | B15: =A12 -> Pietro Gatti | D15: =IF(Turnidomenica!E46="","",Turnidomenica!E46) -> 4 | E15: =IF(Turnidomenica!F46="","",Turnidomenica!F46) -> 1 | F15: =IF(D15>E15,1,0) -> 1 | G15: =IF(D15=E15,1,0) -> 0 | H15: =IF(D15<E15,1,0) -> 0 | N15: =Ladies!A9 -> Giulia Brillantino
A16: =A8 -> Francesco Borgo | B16: =A10 -> Christian Fricano | D16: =IF(Turnidomenica!E129="","",Turnidomenica!E129) -> 1 | E16: =IF(Turnidomenica!F129="","",Turnidomenica!F129) -> 4 | F16: =IF(D16>E16,1,0) -> 0 | G16: =IF(D16=E16,1,0) -> 0 | H16: =IF(D16<E16,1,0) -> 1 | N16: =Under19!A11 -> Alessandro Natoli
A17: =A9 -> Francesco Tozzi | B17: =A11 -> Ludovico Barcellona | D17: =IF(Turnidomenica!E130="","",Turnidomenica!E130) -> 7 | E17: =IF(Turnidomenica!F130="","",Turnidomenica!F130) -> 1 | F17: =IF(D17>E17,1,0) -> 1 | G17: =IF(D17=E17,1,0) -> 0 | H17: =IF(D17<E17,1,0) -> 0 | N17: =Under19!A31 -> Rocco Morganelli
A18: =A8 -> Francesco Borgo | B18: =A9 -> Francesco Tozzi | D18: =IF(Turnidomenica!E213="","",Turnidomenica!E213) -> 1 | E18: =IF(Turnidomenica!F213="","",Turnidomenica!F213) -> 1 | F18: =IF(D18>E18,1,0) -> 0 | G18: =IF(D18=E18,1,0) -> 1 | H18: =IF(D18<E18,1,0) -> 0 | N18: =Ladies!A11 -> Daria Prazynski
A19: =A10 -> Christian Fricano | B19: =A12 -> Pietro Gatti | D19: =IF(Turnidomenica!E214="","",Turnidomenica!E214) -> 5 | E19: =IF(Turnidomenica!F214="","",Turnidomenica!F214) -> 1 | F19: =IF(D19>E19,1,0) -> 1 | G19: =IF(D19=E19,1,0) -> 0 | H19: =IF(D19<E19,1,0) -> 0 | N19: =Ladies!A12 -> Stefka Radkova
A20: =A9 -> Francesco Tozzi | B20: =A10 -> Christian Fricano | D20: =IF(Turnidomenica!E293="","",Turnidomenica!E293) -> 2 | E20: =IF(Turnidomenica!F293="","",Turnidomenica!F293) -> 1 | F20: =IF(D20>E20,1,0) -> 1 | G20: =IF(D20=E20,1,0) -> 0 | H20: =IF(D20<E20,1,0) -> 0 | N20: da definire
A21: =A11 -> Ludovico Barcellona | B21: =A12 -> Pietro Gatti | D21: =IF(Turnidomenica!E294="","",Turnidomenica!E294) -> 3 | E21: =IF(Turnidomenica!F294="","",Turnidomenica!F294) -> 0 | F21: =IF(D21>E21,1,0) -> 1 | G21: =IF(D21=E21,1,0) -> 0 | H21: =IF(D21<E21,1,0) -> 0 | N21: da definire
A22: =A8 -> Francesco Borgo | B22: =A12 -> Pietro Gatti | D22: =IF(Turnidomenica!E335="","",Turnidomenica!E335) -> 4 | E22: =IF(Turnidomenica!F335="","",Turnidomenica!F335) -> 2 | F22: =IF(D22>E22,1,0) -> 1 | G22: =IF(D22=E22,1,0) -> 0 | H22: =IF(D22<E22,1,0) -> 0 | N22: =Under15!A9 -> Riccardo Marangoni
A23: =A10 -> Christian Fricano | B23: =A11 -> Ludovico Barcellona | D23: =IF(Turnidomenica!E336="","",Turnidomenica!E336) -> 2 | E23: =IF(Turnidomenica!F336="","",Turnidomenica!F336) -> 0 | F23: =IF(D23>E23,1,0) -> 1 | G23: =IF(D23=E23,1,0) -> 0 | H23: =IF(D23<E23,1,0) -> 0 | N23: =Under19!A10 -> Filippo Cubeta
A25: FINALE / FINAL
A26: Giocatore/Player A | B26: Giocatore/Player B | D26: Ris./Score | F26: Vincitore/Winner | N26: Arbitro / Referee
A27: =N8 -> Francesco Tozzi | B27: =N9 -> Christian Fricano | D27: =IF(Turnidomenica!E406="","",Turnidomenica!E406) -> 1 | E27: =IF(Turnidomenica!F406="","",Turnidomenica!F406) -> 0 | F27: =IF(D27>E27,A27,IF(OR(D27=E27),"Spareggio",B27)) -> Francesco Tozzi | L27: =IF(D27<E27,A27,IF(OR(D27=E27),"spareggio",B27)) -> Christian Fricano | N27: =N10 -> Francesco Borgo

Sheet Ladies
B1: F.I.S.C.T. Lombardia
B2: Federazione Italiana Sport Calcio da Tavolo
B3: XXXIX TORNEO DI NATALE
B4: Categoria LADIES - Milano, 11 dicembre 2016
A6: GIRONE / GROUP 1
A7: Giocatore / Player | C7: Pts | D7: G | E7: V | F7: N | G7: P | H7: GF | I7: GS | J7: DG
A8: =Iscritti!B204 -> Paola Forlani | C8: =E8*3+F8 -> 12 | D8: =SUM(E8:G8) -> 4 | E8: =IF(D14>E14,1,0)+IF(D16>E16,1,0)+IF(D18>E18,1,0)+IF(D22>E22,1,0) -> 4 | F8: =IF(D14="",0,IF(D14=E14,1,0))+IF(D16="",0,IF(D16=E16,1,0))+IF(D18="",0,IF(D18=E18,1,0))+IF(D22="",0,IF(D22=E22,1,0)) -> 0 | G8: =IF(D14<E14,1,0)+IF(D16<E16,1,0)+IF(D18<E18,1,0)+IF(D22<E22,1,0) -> 0 | H8: =SUM(D14,D16,D18,D22) -> 17 | I8: =SUM(E14,E16,E18,E22) -> 0 | J8: =H8-I8 -> 17 | K8: =(C8*10000)+(J8*100)+H8 -> 121717 | L8: =+A8 -> Paola Forlani | M8: =LARGE(K8:K15,1) -> 121717 | N8: =IF(SUM(C8:C12)=0,"",VLOOKUP(M8,K8:L12,2,FALSE)) -> Paola Forlani
A9: =Iscritti!B205 -> Giulia Brillantino | C9: =E9*3+F9 -> 7 | D9: =SUM(E9:G9) -> 4 | E9: =IF(D15>E15,1,0)+IF(D17>E17,1,0)+IF(E18>D18,1,0)+IF(D20>E20,1,0) -> 2 | F9: =IF(D15="",0,IF(D15=E15,1,0))+IF(D17="",0,IF(D17=E17,1,0))+IF(E18="",0,IF(E18=D18,1,0))+IF(D20="",0,IF(D20=E20,1,0)) -> 1 | G9: =IF(D15<E15,1,0)+IF(D17<E17,1,0)+IF(E18<D18,1,0)+IF(D20<E20,1,0) -> 1 | H9: =SUM(D15,D17,E18,D20) -> 7 | I9: =SUM(E15,E17,D18,E20) -> 5 | J9: =H9-I9 -> 2 | K9: =(C9*10000)+(J9*100)+H9 -> 70207 | L9: =+A9 -> Giulia Brillantino | M9: =LARGE(K8:K15,2) -> 70209 | N9: =IF(SUM(C8:C12)=0,"",VLOOKUP(M9,K8:L12,2,FALSE)) -> Bettina Lenz-Exler
A10: =Iscritti!B207 -> Bettina Lenz-Exler | C10: =E10*3+F10 -> 7 | D10: =SUM(E10:G10) -> 4 | E10: =IF(E16>D16,1,0)+IF(D19>E19,1,0)+IF(E20>D20,1,0)+IF(D23>E23,1,0) -> 2 | F10: =IF(E16="",0,IF(E16=D16,1,0))+IF(D19="",0,IF(D19=E19,1,0))+IF(E20="",0,IF(E20=D20,1,0))+IF(D23="",0,IF(D23=E23,1,0)) -> 1 | G10: =IF(E16<D16,1,0)+IF(D19<E19,1,0)+IF(E20<D20,1,0)+IF(D23<E23,1,0) -> 1 | H10: =SUM(E16,D19,E20,D23) -> 9 | I10: =SUM(D16,E19,D20,E23) -> 7 | J10: =H10-I10 -> 2 | K10: =(C10*10000)+(J10*100)+H10 -> 70209 | L10: =+A10 -> Bettina Lenz-Exler | M10: =LARGE(K8:K15,3) -> 70207 | N10: =IF(SUM(C8:C12)=0,"",VLOOKUP(M10,K8:L12,2,FALSE)) -> Giulia Brillantino
A11: =Iscritti!B206 -> Daria Prazynski | C11: =E11*3+F11 -> 1 | D11: =SUM(E11:G11) -> 4 | E11: =IF(E14>D14,1,0)+IF(E17>D17,1,0)+IF(D21>E21,1,0)+IF(E23>D23,1,0) -> 0 | F11: =IF(E14="",0,IF(E14=D14,1,0))+IF(E17="",0,IF(E17=D17,1,0))+IF(D21="",0,IF(D21=E21,1,0))+IF(E23="",0,IF(E23=D23,1,0)) -> 1 | G11: =IF(E14<D14,1,0)+IF(E17<D17,1,0)+IF(D21<E21,1,0)+IF(E23<D23,1,0) -> 3 | H11: =SUM(E14,E17,D21,E23) -> 0 | I11: =SUM(D14,D17,E21,D23) -> 6 | J11: =H11-I11 -> -6 | K11: =(C11*10000)+(J11*100)+H11 -> 9400 | L11: =+A11 -> Daria Prazynski | M11: =LARGE(K8:K15,4) -> 9400 | N11: =IF(SUM(C8:C12)=0,"",VLOOKUP(M11,K8:L12,2,FALSE)) -> Daria Prazynski
A12: =Iscritti!B208 -> Stefka Radkova | C12: =E12*3+F12 -> 1 | D12: =SUM(E12:G12) -> 4 | E12: =IF(E15>D15,1,0)+IF(E19>D19,1,0)+IF(E21>D21,1,0)+IF(E22>D22,1,0) -> 0 | F12: =IF(E15="",0,IF(E15=D15,1,0))+IF(E19="",0,IF(E19=D19,1,0))+IF(E21="",0,IF(E21=D21,1,0))+IF(E22="",0,IF(E22=D22,1,0)) -> 1 | G12: =IF(E15<D15,1,0)+IF(E19<D19,1,0)+IF(E21<D21,1,0)+IF(E22<D22,1,0) -> 3 | H12: =SUM(E15,E19,E21,E22) -> 0 | I12: =SUM(D15,D19,D21,D22) -> 15 | J12: =H12-I12 -> -15 | K12: =(C12*10000)+(J12*100)+H12 -> 8500 | L12: =+A12 -> Stefka Radkova | M12: =LARGE(K8:K15,5) -> 8500 | N12: =IF(SUM(C8:C12)=0,"",VLOOKUP(M12,K8:L12,2,FALSE)) -> Stefka Radkova
A13: Incontri | D13: Risultato | N13: Arbitro
A14: =A8 -> Paola Forlani | B14: =A11 -> Daria Prazynski | D14: =IF(Turnidomenica!E87="","",Turnidomenica!E87) -> 3 | E14: =IF(Turnidomenica!F87="","",Turnidomenica!F87) -> 0 | F14: =IF(D14>E14,1,0) -> 1 | G14: =IF(D14=E14,1,0) -> 0 | H14: =IF(D14<E14,1,0) -> 0 | N14: =Under19!A27 -> Thèo Modeste
A15: =A9 -> Giulia Brillantino | B15: =A12 -> Stefka Radkova | D15: =IF(Turnidomenica!E88="","",Turnidomenica!E88) -> 4 | E15: =IF(Turnidomenica!F88="","",Turnidomenica!F88) -> 0 | F15: =IF(D15>E15,1,0) -> 1 | G15: =IF(D15=E15,1,0) -> 0 | H15: =IF(D15<E15,1,0) -> 0 | N15: =Under19!A28 -> Jurgen Balzan
A16: =A8 -> Paola Forlani | B16: =A10 -> Bettina Lenz-Exler | D16: =IF(Turnidomenica!E171="","",Turnidomenica!E171) -> 5 | E16: =IF(Turnidomenica!F171="","",Turnidomenica!F171) -> 0 | F16: =IF(D16>E16,1,0) -> 1 | G16: =IF(D16=E16,1,0) -> 0 | H16: =IF(D16<E16,1,0) -> 0 | N16: =Under19!A12 -> Nico Pretzel
A17: =A9 -> Giulia Brillantino | B17: =A11 -> Daria Prazynski | D17: =IF(Turnidomenica!E172="","",Turnidomenica!E172) -> 1 | E17: =IF(Turnidomenica!F172="","",Turnidomenica!F172) -> 0 | F17: =IF(D17>E17,1,0) -> 1 | G17: =IF(D17=E17,1,0) -> 0 | H17: =IF(D17<E17,1,0) -> 0 | N17: =Under19!A10 -> Filippo Cubeta
A18: =A8 -> Paola Forlani | B18: =A9 -> Giulia Brillantino | D18: =IF(Turnidomenica!E255="","",Turnidomenica!E255) -> 3 | E18: =IF(Turnidomenica!F255="","",Turnidomenica!F255) -> 0 | F18: =IF(D18>E18,1,0) -> 1 | G18: =IF(D18=E18,1,0) -> 0 | H18: =IF(D18<E18,1,0) -> 0 | N18: =Under12!A10 -> Christian Fricano
A19: =A10 -> Bettina Lenz-Exler | B19: =A12 -> Stefka Radkova | D19: =IF(Turnidomenica!E256="","",Turnidomenica!E256) -> 5 | E19: =IF(Turnidomenica!F256="","",Turnidomenica!F256) -> 0 | F19: =IF(D19>E19,1,0) -> 1 | G19: =IF(D19=E19,1,0) -> 0 | H19: =IF(D19<E19,1,0) -> 0 | N19: =Under12!A11 -> Ludovico Barcellona
A20: =A9 -> Giulia Brillantino | B20: =A10 -> Bettina Lenz-Exler | D20: =IF(Turnidomenica!E295="","",Turnidomenica!E295) -> 2 | E20: =IF(Turnidomenica!F295="","",Turnidomenica!F295) -> 2 | F20: =IF(D20>E20,1,0) -> 0 | G20: =IF(D20=E20,1,0) -> 1 | H20: =IF(D20<E20,1,0) -> 0 | N20: =Under19!A12 -> Nico Pretzel
A21: =A11 -> Daria Prazynski | B21: =A12 -> Stefka Radkova | D21: =IF(Turnidomenica!E296="","",Turnidomenica!E296) -> 0 | E21: =IF(Turnidomenica!F296="","",Turnidomenica!F296) -> 0 | F21: =IF(D21>E21,1,0) -> 0 | G21: =IF(D21=E21,1,0) -> 1 | H21: =IF(D21<E21,1,0) -> 0 | N21: =Under19!A11 -> Alessandro Natoli
A22: =A8 -> Paola Forlani | B22: =A12 -> Stefka Radkova | D22: =IF(Turnidomenica!E337="","",Turnidomenica!E337) -> 6 | E22: =IF(Turnidomenica!F337="","",Turnidomenica!F337) -> 0 | F22: =IF(D22>E22,1,0) -> 1 | G22: =IF(D22=E22,1,0) -> 0 | H22: =IF(D22<E22,1,0) -> 0 | N22: da definire
A23: =A10 -> Bettina Lenz-Exler | B23: =A11 -> Daria Prazynski | D23: =IF(Turnidomenica!E338="","",Turnidomenica!E338) -> 2 | E23: =IF(Turnidomenica!F338="","",Turnidomenica!F338) -> 0 | F23: =IF(D23>E23,1,0) -> 1 | G23: =IF(D23=E23,1,0) -> 0 | H23: =IF(D23<E23,1,0) -> 0 | N23: da definire
A25: FINALE / FINAL
A26: Giocatore/Player A | B26: Giocatore/Player B | D26: Ris./Score | F26: Vincitore/Winner | N26: Arbitro / Referee
A27: =N8 -> Paola Forlani | B27: =N9 -> Bettina Lenz-Exler | D27: =IF(Turnidomenica!E407="","",Turnidomenica!E407) -> 3 | E27: =IF(Turnidomenica!F407="","",Turnidomenica!F407) -> 1 | F27: =IF(D27>E27,A27,IF(OR(D27=E27),"Spareggio",B27)) -> Paola Forlani | L27: =IF(D27<E27,A27,IF(OR(D27=E27),"spareggio",B27)) -> Bettina Lenz-Exler | N27: =N10 -> Giulia Brillantino

Sheet Turnisabato
B1: F.I.S.C.T. Lombardia
B2: Federazione Italiana Sport Calcio da Tavolo
B3: XXXIX TORNEO DI NATALE
B4: Torneo a Squadre - Milano, 10 dicembre 2016
A6: TURNI DI GIOCO
A9: Turno 1 - Ore 10,00
A10: Categoria/Category | B10: Campo/Table | C10: Squadra/Team A | D10: Squadra/Team B | E10: Ris./Score | G10: Arbitro/Referee
A11: Squadre - Girone 5 | B11: 1…4 | C11: =Teams!A241 -> Rochefort TS | D11: =Teams!B241 -> Flickers | E11: 3 | F11: 1 | G11: =Teams!Q241 -> Warriors
A12: Squadre - Girone 5 | B12: 5…8 | C12: =Teams!A242 -> Ascoli | D12: =Teams!B242 -> Torino 2009 | E12: 4 | F12: 0 | G12: =Teams!Q242 -> Flickers 2
A13: Squadre - Girone 6 | B13: 9…12 | C13: =Teams!A298 -> TFC Mattersburg | D13: =Teams!B298 -> Messina TS | E13: 1 | F13: 2 | G13: =Teams!Q298 -> Fiamme Azzurre
A14: Squadre - Girone 6 | B14: 13…16 | C14: =Teams!A299 -> Stella Artois | D14: =Teams!B299 -> CT Aosta | E14: 4 | F14: 0 | G14: =Teams!Q299 -> Sparta Spreeathen
A15: Squadre - Girone 7 | B15: 17…20 | C15: =Teams!A355 -> Valletta | D15: =Teams!B355 -> Grosseto | E15: 3 | F15: 1 | G15: =Teams!Q355 -> Wiener Neustadt
A16: Squadre - Girone 7 | B16: 21…24 | C16: =Teams!A356 -> Foggia | D16: =Teams!B356 -> Stradivari 2 | E16: 4 | F16: 0 | G16: =Teams!Q356 -> Napoli Fighters
A17: Squadre - Girone 8 | B17: 25…28 | C17: =Teams!A412 -> Bologna Tigers | D17: =Teams!B412 -> Stradivari | E17: 3 | F17: 1 | G17: =Teams!Q412 -> Virtus 4 Strade
A18: Squadre - Girone 8 | B18: 29…32 | C18: =Teams!A413 -> Issy-les-Moulineaux | D18: =Teams!B413 -> Torino 2009 2 | E18: 4 | F18: 0 | G18: =Teams!Q413 -> Master Sanremo 2
A20: TURNI DI GIOCO
A23: Turno 2 - Ore 10,50
A24: Categoria/Category | B24: Campo/Table | C24: Squadra/Team A | D24: Squadra/Team B | E24: Ris./Score | G24: Arbitro/Referee
A25: Squadre - Girone 1 | B25: 1…4 | C25: =Teams!A13 -> F.lli Bari Reggio Emilia | D25: =Teams!B13 -> Leonessa | E25: 3 | F25: 0 | G25: =Teams!Q13 -> Valletta
A26: Squadre - Girone 1 | B26: 5…8 | C26: =Teams!A14 -> Rain 1970 | D26: =Teams!B14 -> Atletico Pisa | E26: 2 | F26: 0 | G26: =Teams!Q14 -> Foggia
A27: Squadre - Girone 2 | B27: 9…12 | C27: =Teams!A70 -> Tiburones FM | D27: =Teams!B70 -> Biella 91 | E27: 1 | F27: 1 | G27: =Teams!Q70 -> Grosseto
A28: Squadre - Girone 2 | B28: 13…16 | C28: =Teams!A71 -> Master Sanremo | D28: =Teams!B71 -> Subbuteisti Carpi | E28: 3 | F28: 1 | G28: =Teams!Q71 -> Stradivari 2
A29: Squadre - Girone 3 | B29: 17…20 | C29: =Teams!A127 -> Fiamme Azzurre | D29: =Teams!B127 -> Warriors | E29: 2 | F29: 2 | G29: =Teams!Q127 -> Bologna Tigers
A30: Squadre - Girone 3 | B30: 21…24 | C30: =Teams!A128 -> Sparta Spreeathen | D30: =Teams!B128 -> Flickers 2 | E30: 2 | F30: 2 | G30: =Teams!Q128 -> Issy-les-Moulineaux
A31: Squadre - Girone 4 | B31: 25…28 | C31: =Teams!A184 -> Wiener Neustadt | D31: =Teams!B184 -> Virtus 4 Strade | E31: 2 | F31: 0 | G31: =Teams!Q184 -> Stradivari
A32: Squadre - Girone 4 | B32: 29…32 | C32: =Teams!A185 -> Napoli Fighters | D32: =Teams!B185 -> Master Sanremo 2 | E32: 4 | F32: 0 | G32: =Teams!Q185 -> Torino 2009 2
A34: TURNI DI GIOCO
A37: Turno 3 - Ore 11,40
A38: Categoria/Category | B38: Campo/Table | C38: Squadra/Team A | D38: Squadra/Team B | E38: Ris./Score | G38: Arbitro/Referee
A39: Squadre - Girone 5 | B39: 1…4 | C39: =Teams!A243 -> Rochefort TS | D39: =Teams!B243 -> Ascoli | E39: 3 | F39: 1 | G39: =Teams!Q243 -> Leonessa
A40: Squadre - Girone 5 | B40: 5…8 | C40: =Teams!A244 -> Flickers | D40: =Teams!B244 -> Torino 2009 | E40: 1 | F40: 3 | G40: =Teams!Q244 -> Atletico Pisa
A41: Squadre - Girone 6 | B41: 9…12 | C41: =Teams!A300 -> TFC Mattersburg | D41: =Teams!B300 -> Stella Artois | E41: 2 | F41: 1 | G41: =Teams!Q300 -> F.lli Bari Reggio Emilia
A42: Squadre - Girone 6 | B42: 13…16 | C42: =Teams!A301 -> Messina TS | D42: =Teams!B301 -> CT Aosta | E42: 4 | F42: 0 | G42: =Teams!Q301 -> Rain 1970
A43: Squadre - Girone 7 | B43: 17…20 | C43: =Teams!A357 -> Valletta | D43: =Teams!B357 -> Foggia | E43: 3 | F43: 1 | G43: =Teams!Q357 -> Tiburones FM
A44: Squadre - Girone 7 | B44: 21…24 | C44: =Teams!A358 -> Grosseto | D44: =Teams!B358 -> Stradivari 2 | E44: 3 | F44: 1 | G44: =Teams!Q358 -> Atletico Pisa
A45: Squadre - Girone 8 | B45: 25…28 | C45: =Teams!A414 -> Bologna Tigers | D45: =Teams!B414 -> Issy-les-Moulineaux | E45: 4 | F45: 0 | G45: =Teams!Q414 -> Biella 91
A46: Squadre - Girone 8 | B46: 29…32 | C46: =Teams!A415 -> Stradivari | D46: =Teams!B415 -> Torino 2009 2 | E46: 4 | F46: 0 | G46: =Teams!Q415 -> Subbuteisti Carpi
A48: TURNI DI GIOCO
A51: Turno 4 - Ore 12,30
A52: Categoria/Category | B52: Campo/Table | C52: Squadra/Team A | D52: Squadra/Team B | E52: Ris./Score | G52: Arbitro/Referee
A53: Squadre - Girone 1 | B53: 1…4 | C53: =Teams!A15 -> F.lli Bari Reggio Emilia | D53: =Teams!B15 -> Rain 1970 | E53: 4 | F53: 0 | G53: =Teams!Q15 -> Rochefort TS
A54: Squadre - Girone 1 | B54: 5…8 | C54: =Teams!A16 -> Leonessa | D54: =Teams!B16 -> Atletico Pisa | E54: 4 | F54: 0 | G54: =Teams!Q16 -> Ascoli
A55: Squadre - Girone 2 | B55: 9…12 | C55: =Teams!A72 -> Tiburones FM | D55: =Teams!B72 -> Master Sanremo | E55: 1 | F55: 1 | G55: =Teams!Q72 -> Flickers
A56: Squadre - Girone 2 | B56: 13…16 | C56: =Teams!A73 -> Biella 91 | D56: =Teams!B73 -> Subbuteisti Carpi | E56: 3 | F56: 0 | G56: =Teams!Q73 -> Torino 2009
A57: Squadre - Girone 3 | B57: 17…20 | C57: =Teams!A129 -> Fiamme Azzurre | D57: =Teams!B129 -> Sparta Spreeathen | E57: 3 | F57: 1 | G57: =Teams!Q129 -> TFC Mattersburg
A58: Squadre - Girone 3 | B58: 21…24 | C58: =Teams!A130 -> Warriors | D58: =Teams!B130 -> Flickers 2 | E58: 3 | F58: 0 | G58: =Teams!Q130 -> Stella Artois
A59: Squadre - Girone 4 | B59: 25…28 | C59: =Teams!A186 -> Wiener Neustadt | D59: =Teams!B186 -> Napoli Fighters | E59: 1 | F59: 2 | G59: =Teams!Q186 -> Messina TS
A60: Squadre - Girone 4 | B60: 29…32 | C60: =Teams!A187 -> Virtus 4 Strade | D60: =Teams!B187 -> Master Sanremo 2 | E60: 2 | F60: 2 | G60: =Teams!Q187 -> CT Aosta
A62: TURNI DI GIOCO
A65: Turno 5 - Ore 13,20
A66: Categoria/Category | B66: Campo/Table | C66: Squadra/Team A | D66: Squadra/Team B | E66: Ris./Score | G66: Arbitro/Referee
A67: Squadre - Girone 5 | B67: 1…4 | C67: =Teams!A245 -> Rochefort TS | D67: =Teams!B245 -> Torino 2009 | E67: 4 | F67: 0 | G67: =Teams!Q245 -> Wiener Neustadt
A68: Squadre - Girone 5 | B68: 5…8 | C68: =Teams!A246 -> Ascoli | D68: =Teams!B246 -> Flickers | E68: 3 | F68: 0 | G68: =Teams!Q246 -> Napoli Fighters
A69: Squadre - Girone 6 | B69: 9…12 | C69: =Teams!A302 -> TFC Mattersburg | D69: =Teams!B302 -> CT Aosta | E69: 4 | F69: 0 | G69: =Teams!Q302 -> Virtus 4 Strade
A70: Squadre - Girone 6 | B70: 13…16 | C70: =Teams!A303 -> Stella Artois | D70: =Teams!B303 -> Messina TS | E70: 3 | F70: 1 | G70: =Teams!Q303 -> Master Sanremo 2
A71: Squadre - Girone 7 | B71: 17…20 | C71: =Teams!A359 -> Valletta | D71: =Teams!B359 -> Stradivari 2 | E71: 3 | F71: 0 | G71: =Teams!Q359 -> Fiamme Azzurre
A72: Squadre - Girone 7 | B72: 21…24 | C72: =Teams!A360 -> Foggia | D72: =Teams!B360 -> Grosseto | E72: 0 | F72: 1 | G72: =Teams!Q360 -> Sparta Spreeathen
A73: Squadre - Girone 8 | B73: 25…28 | C73: =Teams!A416 -> Bologna Tigers | D73: =Teams!B416 -> Torino 2009 2 | E73: 4 | F73: 0 | G73: =Teams!Q416 -> Warriors
A74: Squadre - Girone 8 | B74: 29…32 | C74: =Teams!A417 -> Issy-les-Moulineaux | D74: =Teams!B417 -> Stradivari | E74: 2 | F74: 1 | G74: =Teams!Q417 -> Flickers 2
A76: TURNI DI GIOCO
A79: Turno 6 - Ore 14,10
A80: Categoria/Category | B80: Campo/Table | C80: Squadra/Team A | D80: Squadra/Team B | E80: Ris./Score | G80: Arbitro/Referee
A81: Squadre - Girone 1 | B81: 1…4 | C81: =Teams!A17 -> F.lli Bari Reggio Emilia | D81: =Teams!B17 -> Atletico Pisa | E81: 3 | F81: 0 | G81: =Teams!Q17 -> Bologna Tigers
A82: Squadre - Girone 1 | B82: 5…8 | C82: =Teams!A18 -> Rain 1970 | D82: =Teams!B18 -> Leonessa | E82: 1 | F82: 3 | G82: =Teams!Q18 -> Issy-les-Moulineaux
A83: Squadre - Girone 2 | B83: 9…12 | C83: =Teams!A74 -> Tiburones FM | D83: =Teams!B74 -> Subbuteisti Carpi | E83: 3 | F83: 0 | G83: =Teams!Q74 -> Stradivari
A84: Squadre - Girone 2 | B84: 13…16 | C84: =Teams!A75 -> Master Sanremo | D84: =Teams!B75 -> Biella 91 | E84: 2 | F84: 1 | G84: =Teams!Q75 -> Torino 2009 2
A85: Squadre - Girone 3 | B85: 17…20 | C85: =Teams!A131 -> Fiamme Azzurre | D85: =Teams!B131 -> Flickers 2 | E85: 3 | F85: 1 | G85: =Teams!Q131 -> Valletta
A86: Squadre - Girone 3 | B86: 21…24 | C86: =Teams!A132 -> Sparta Spreeathen | D86: =Teams!B132 -> Warriors | E86: 0 | F86: 4 | G86: =Teams!Q132 -> Foggia
A87: Squadre - Girone 4 | B87: 25…28 | C87: =Teams!A188 -> Wiener Neustadt | D87: =Teams!B188 -> Master Sanremo 2 | E87: 3 | F87: 0 | G87: =Teams!Q188 -> Grosseto
A88: Squadre - Girone 4 | B88: 29…32 | C88: =Teams!A189 -> Napoli Fighters | D88: =Teams!B189 -> Virtus 4 Strade | E88: 3 | F88: 1 | G88: =Teams!Q189 -> Stradivari 2
A90: TURNI DI GIOCO
A93: Turno 7 - Ore 15,00
A94: Categoria/Category | B94: Campo/Table | C94: Squadra/Team A | D94: Squadra/Team B | E94: Ris./Score | G94: Arbitro/Referee
A95: Squadre - 1/8 Cons. | B95: 1…4 | C95: =Teams!A603 -> Rain 1970 | D95: =Teams!B603 -> Stradivari 2 | E95: 1 | F95: 2 | G95: =Teams!Q603 -> Leonessa
A96: Squadre - 1/8 Cons. | B96: 5…8 | C96: =Teams!A604 -> Stradivari | D96: =Teams!B604 -> Subbuteisti Carpi | E96: 2 | F96: 1 | G96: =Teams!Q604 -> F.lli Bari Reggio Emilia
A97: Squadre - 1/8 Cons. | B97: 9…12 | C97: =Teams!A605 -> Torino 2009 | D97: =Teams!B605 -> Sparta Spreeathen | E97: 2 | F97: 1 | G97: =Teams!Q605 -> Tiburones FM
A98: Squadre - 1/8 Cons. | B98: 13…16 | C98: =Teams!A606 -> Virtus 4 Strade | D98: =Teams!B606 -> CT Aosta | E98: 4 | F98: 0 | G98: =Teams!Q606 -> Master Sanremo
A99: Squadre - 1/8 Cons. | B99: 17…20 | C99: =Teams!A607 -> Flickers 2 | D99: =Teams!B607 -> Flickers | E99: 0 | F99: 4 | G99: =Teams!Q607 -> Rochefort TS
A100: Squadre - 1/8 Cons. | B100: 21…24 | C100: =Teams!A608 -> Messina TS | D100: =Teams!B608 -> Master Sanremo 2 | E100: 1 | F100: 3 | G100: =Teams!Q608 -> Ascoli
A101: Squadre - 1/8 Cons. | B101: 25…28 | C101: =Teams!A609 -> Foggia | D101: =Teams!B609 -> Atletico Pisa | E101: 3 | F101: 0 | G101: =Teams!Q609 -> Stella Artois
A102: Squadre - 1/8 Cons. | B102: 29…32 | C102: =Teams!A610 -> Biella 91 | D102: =Teams!B610 -> Torino 2009 2 | E102: 3 | F102: 1 | G102: =Teams!Q610 -> TFC Mattersburg
A104: TURNI DI GIOCO
A107: Turno 8 - Ore 16,00
A108: Categoria/Category | B108: Campo/Table | C108: Squadra/Team A | D108: Squadra/Team B | E108: Ris./Score | G108: Arbitro/Referee
A109: Squadre - Ottavi di Finale | B109: 1…4 | C109: =Teams!A463 -> F.lli Bari Reggio Emilia | D109: =Teams!B463 -> Grosseto | E109: 3 | F109: 1 | G109: =Teams!Q463 -> Atletico Pisa
A110: Squadre - Ottavi di Finale | B110: 5…8 | C110: =Teams!A464 -> Bologna Tigers | D110: =Teams!B464 -> Tiburones FM | E110: 3 | F110: 0 | G110: =Teams!Q465 -> Subbuteisti Carpi
A111: Squadre - Ottavi di Finale | B111: 9…12 | C111: =Teams!A465 -> Rochefort TS | D111: =Teams!B465 -> Fiamme Azzurre | E111: 1 | F111: 3 | G111: =Teams!Q464 -> Rain 1970
A112: Squadre - Ottavi di Finale | B112: 13…16 | C112: =Teams!A466 -> Napoli Fighters | D112: =Teams!B466 -> TFC Mattersburg | E112: 2 | F112: 1 | G112: =Teams!Q466 -> Biella 91
A113: Squadre - Ottavi di Finale | B113: 17…20 | C113: =Teams!A467 -> Warriors | D113: =Teams!B467 -> Ascoli | E113: 1 | F113: 2 | G113: =Teams!Q467 -> Torino 2009
A114: Squadre - Ottavi di Finale | B114: 21…24 | C114: =Teams!A468 -> Stella Artois | D114: =Teams!B468 -> Wiener Neustadt | E114: 1 | F114: 1* | G114: =Teams!Q468 -> Flickers
A115: Squadre - Ottavi di Finale | B115: 25…28 | C115: =Teams!A469 -> Valletta | D115: =Teams!B469 -> Leonessa | E115: 2 | F115: 1 | G115: =Teams!Q469 -> Messina TS
A116: Squadre - Ottavi di Finale | B116: 29…32 | C116: =Teams!A470 -> Master Sanremo | D116: =Teams!B470 -> Issy-les-Moulineaux | E116: 2 | F116: 2* | G116: =Teams!Q470 -> CT Aosta
A118: TURNI DI GIOCO
A121: Turno 9 - Ore 17,00
A122: Categoria/Category | B122: Campo/Table | C122: Squadra/Team A | D122: Squadra/Team B | E122: Ris./Score | G122: Arbitro/Referee
A123: Squadre - Quarti di Finale | B123: 1…4 | C123: =Teams!A531 -> F.lli Bari Reggio Emilia | D123: =Teams!B531 -> Bologna Tigers | E123: 1 | F123: 2 | G123: =Teams!Q531 -> Rochefort TS
A124: Squadre - Quarti di Finale | B124: 5…8 | C124: =Teams!A532 -> Fiamme Azzurre | D124: =Teams!B532 -> Napoli Fighters | E124: 2 | F124: 1 | G124: =Teams!Q533 -> Warriors
A125: Squadre - Quarti di Finale | B125: 9…12 | C125: =Teams!A533 -> Ascoli | D125: =Teams!B533 -> Wiener Neustadt | E125: 2 | F125: 2* | G125: =Teams!Q532 -> TFC Mattersburg
A126: Squadre - Quarti di Finale | B126: 13…16 | C126: =Teams!A534 -> Valletta | D126: =Teams!B534 -> Issy-les-Moulineaux | E126: 3 | F126: 1 | G126: =Teams!Q534 -> Stella Artois
A127: Squadre - 1/4 Cons. | B127: 17…20 | C127: =Teams!A671 -> Stradivari 2 | D127: =Teams!B671 -> Stradivari | E127: 2 | F127: 1 | G127: =Teams!Q671 -> Grosseto
...

Sheet Turnidomenica
B1: F.I.S.C.T. Lombardia
B2: Federazione Italiana Sport Calcio da Tavolo
B3: XXXIX TORNEO DI NATALE
B4: Tornei Individuali - Milano, 11 dicembre 2016
A6: TURNI DI GIOCO
A9: Turno 1 - Ore 9,00
A10: Categoria/Category | B10: Campo/Table | C10: Giocatore/Player A | D10: Giocatore/Player B | E10: Ris./Score | G10: Arbitro/Referee
A11: Open - Girone 10 | B11: 1 | C11: =Open!A139 -> Bjorn Kegenbein | D11: =Open!B139 -> William Dotto | E11: 2 | F11: 5 | G11: =Open!N139 -> Massimiliano Nastasi
A12: Open - Girone 10 | B12: 2 | C12: =Open!A140 -> Gàbor Baross | D12: =Open!B140 -> Francesco Gori | E12: 0 | F12: 0 | G12: =Open!N140 -> Robert Lenz
A13: Open - Girone 11 | B13: 3 | C13: =Open!A153 -> Jean-Marie Amberny | D13: =Open!B153 -> Ismaele Caurla | E13: 5 | F13: 1 | G13: =Open!N153 -> Riccardo Schito
A14: Open - Girone 11 | B14: 4 | C14: =Open!A154 -> Maurizio Jon Scotta | D14: =Open!B154 -> Emanuele Funaro | E14: 3 | F14: 0 | G14: =Open!N154 -> Luca Converti
A15: Open - Girone 12 | B15: 5 | C15: =Open!A167 -> Sergio Ramos | D15: =Open!B167 -> Giancarlo Cavanna Cavanna | E15: 7 | F15: 0 | G15: =Open!N167 -> Wolfgang Leitner
A16: Open - Girone 12 | B16: 6 | C16: =Open!A168 -> Alex Iorio | D16: =Open!B168 -> Gabriele Casati | E16: 6 | F16: 0 | G16: =Open!N168 -> Mauro Salvati
A17: Open - Girone 13 | B17: 7 | C17: =Open!A181 -> Luca Zambello | D17: =Open!B181 -> Maurizio Brillantino | E17: 9 | F17: 1 | G17: =Open!N181 -> Massimo Di Cè
A18: Open - Girone 13 | B18: 8 | C18: =Open!A182 -> Roderick Vassallo | D18: =Open!B182 -> Riccardo Ferri | E18: 5 | F18: 0 | G18: =Open!N182 -> Adrianio Potecchi | H18: tav
A19: Open - Girone 14 | B19: 9 | C19: =Open!A195 -> Axel Donval | D19: =Open!B195 -> Carlo Ciraolo | E19: 1 | F19: 0 | G19: =Open!N195 -> Justin Leroy
A20: Open - Girone 14 | B20: 10 | C20: =Open!A196 -> Cesare Natoli | D20: =Open!B196 -> Mirco Pasquini | E20: 1 | F20: 0 | G20: =Open!N196 -> Luca Ciabattoni
A21: Open - Girone 15 | B21: 11 | C21: =Open!A209 -> Luca Battista | D21: =Open!B209 -> Paolo Zambello | E21: 4 | F21: 1 | G21: =Open!N209 -> Pierpaolo Murabito
A22: Open - Girone 15 | B22: 12 | C22: =Open!A210 -> Raul Benita | D22: =Open!B210 -> Marco Bonciani | E22: 0 | F22: 0 | G22: =Open!N210 -> Simone Bertelli
A23: Open - Girone 16 | B23: 13 | C23: =Open!A223 -> Massimo Cremona | D23: =Open!B223 -> Giovanni Francavilla | E23: 7 | F23: 0 | G23: =Open!N223 -> Alberto Recano
A24: Open - Girone 16 | B24: 14 | C24: =Open!A224 -> Florian Giaux | D24: =Open!B224 -> Daniele Lopresto | E24: 5 | F24: 0 | G24: =Open!N224 -> Paul Naszalyi
A25: Open - Girone 17 | B25: 15 | C25: =Open!A237 -> Edoardo Bellotto | D25: =Open!B237 -> Rosario Ifrigerio | E25: 2 | F25: 1 | G25: =Open!N237 -> Emanuele Licheri
A26: Open - Girone 17 | B26: 16 | C26: =Open!A238 -> Remy Lours | D26: =Open!B238 -> Tiberio Becucci | E26: 1 | F26: 0 | G26: =Open!N238 -> Massimo Santini
A27: Open - Girone 18 | B27: 17 | C27: =Open!A251 -> Matteo Ciccarelli | D27: =Open!B251 -> Marcello Bodin de Chatelard | E27: 2 | F27: 1 | G27: =Open!N251 -> Mongi Rouis
A28: Open - Girone 18 | B28: 18 | C28: =Open!A252 -> Marcus Tilgner | D28: =Open!B252 -> Saverio Ferrante | E28: 1 | F28: 0 | G28: =Open!N252 -> Alessandro Mastropasqua
A29: Open - Girone 19 | B29: 19 | C29: =Open!A265 -> Michael Stolzenberg | D29: =Open!B265 -> Pier Luigi Signoretti | E29: 1 | F29: 2 | G29: =Open!N265 -> Alessio Tacchia
A30: Open - Girone 19 | B30: 20 | C30: =Open!A266 -> Gerardo Patruno | D30: =Open!B266 -> Marco Midoro | E30: 7 | F30: 1 | G30: =Open!N266 -> Enrico Giannarelli
A31: Veterani - Girone 7 | B31: 21 | C31: =Veterani!A97 -> David Busch | D31: =Veterani!B97 -> Joseph Mifsud | E31: 3 | F31: 2 | G31: =Veterani!N97 -> Luis D. Lòpez
A32: Veterani - Girone 7 | B32: 22 | C32: =Veterani!A98 -> Mario Corradi | D32: =Veterani!B98 -> Klaus Fritz | E32: 7 | F32: 0 | G32: =Veterani!N98 -> Gianfranco Savastio
A33: Veterani - Girone 8 | B33: 23 | C33: =Veterani!A111 -> Patrizio Lazzaretti | D33: =Veterani!B111 -> Michele Giudice | E33: 4 | F33: 0 | G33: =Veterani!N111 -> Vicenç Prats
A34: Veterani - Girone 8 | B34: 24 | C34: =Veterani!A112 -> Luis Felipe Mendez | D34: =Veterani!B112 -> Francesco Riccobene | E34: 2 | F34: 0 | G34: =Veterani!N112 -> Eric Naszalyi
A35: Veterani - Girone 9 | B35: 25 | C35: =Veterani!A125 -> Manfred Pawlica | D35: =Veterani!B125 -> Hans Ruf | E35: 4 | F35: 0 | G35: =Veterani!N125 -> Riccardo Marinucci
A36: Veterani - Girone 9 | B36: 26 | C36: =Veterani!A126 -> Massimiliano Croatti | D36: =Veterani!B126 -> Pietro Bonfante | E36: 6 | F36: 1 | G36: =Veterani!N126 -> Filippo Sella
A37: Veterani - Girone 10 | B37: 27 | C37: =Veterani!A139 -> Claudio Dogali | D37: =Veterani!B139 -> Andres Jung Senior | E37: 10 | F37: 0 | G37: =Veterani!N139 -> Jason Pisani
A38: Veterani - Girone 10 | B38: 28 | C38: =Veterani!A140 -> Mario Camilleri | D38: =Veterani!B140 -> Luca Bisio | E38: 1 | F38: 0 | G38: =Veterani!N140 -> Ferran Coll
A39: Veterani - Girone 11 | B39: 29 | C39: =Veterani!A153 -> Lucio Canicchio | D39: =Veterani!B153 -> Giuseppe Battaglia | E39: 0 | F39: 2 | G39: =Veterani!N153 -> Claudio Colpani
A40: Veterani - Girone 11 | B40: 30 | C40: =Veterani!A154 -> Thierry Vivron | D40: =Veterani!B154 -> Nico Lucchesi | E40: 4 | F40: 1 | G40: =Veterani!N154 -> Andrea Morosini
A41: Under 19 - Girone 1 | B41: 31 | C41: =Under19!A14 -> Corentin Wauthy | D41: =Under19!B14 -> Alessandro Natoli | E41: 0 | F41: 5 | G41: =Under19!N14 -> Riccardo Natoli
A42: Under 19 - Girone 1 | B42: 32 | C42: =Under19!A15 -> Leonardo Giudice | D42: =Under19!B15 -> Nico Pretzel | E42: 6 | F42: 0 | G42: =Under19!N15 -> Riccardo Marangoni
A43: Under 19 - Girone 2 | B43: 33 | C43: =Under19!A33 -> Thèo Modeste | D43: =Under19!B33 -> Moritz Jung | E43: 3 | F43: 1 | G43: =Under19!N33 -> Lorenzo Lazzaretti
A44: Under 19 - Girone 2 | B44: 34 | C44: =Under19!A34 -> Jurgen Balzan | D44: =Under19!B34 -> Rocco Morganelli | E44: 1 | F44: 2 | G44: =Under19!N34 -> Gabriele Cavalli
A45: U12 - Girone Unico | B45: 35 | C45: =Under12!A14 -> Francesco Borgo | D45: =Under12!B14 -> Ludovico Barcellona | E45: 3 | F45: 0 | G45: =Under12!N14 -> Paola Forlani
A46: U12 - Girone Unico | B46: 36 | C46: =Under12!A15 -> Francesco Tozzi | D46: =Under12!B15 -> Pietro Gatti | E46: 4 | F46: 1 | G46: =Under12!N15 -> Giulia Brillantino
A48: TURNI DI GIOCO
A51: Turno 2 - Ore 9,50
A52: Categoria/Category | B52: Campo/Table | C52: Giocatore/Player A | D52: Giocatore/Player B | E52: Ris./Score | G52: Arbitro/Referee
A53: Open - Girone 1 | B53: 1 | C53: =Open!A13 -> Juan Noguera | D53: =Open!B13 -> Daniele Di Cè | E53: 7 | F53: 3 | G53: =Open!N13 -> Paolo Zambello
A54: Open - Girone 1 | B54: 2 | C54: =Open!A14 -> Vito De Benedictis | D54: =Open!B14 -> Luca Pessini | E54: 2 | F54: 0 | G54: =Open!N14 -> Marco Bonciani
A55: Open - Girone 2 | B55: 3 | C55: =Open!A27 -> Luca Colangelo | D55: =Open!B27 -> Mauro Petrini | E55: 6 | F55: 0 | G55: =Open!N27 -> Massimo Cremona
A56: Open - Girone 2 | B56: 4 | C56: =Open!A28 -> Raphael Pommier | D56: =Open!B28 -> Paolo Bernardini | E56: 4 | F56: 0 | G56: =Open!N28 -> Florian Giaux
A57: Open - Girone 3 | B57: 5 | C57: =Open!A41 -> Christian Haas | D57: =Open!B41 -> Augusto Vagnoni | E57: 1 | F57: 0 | G57: =Open!N41 -> Giovanni Francavilla
A58: Open - Girone 3 | B58: 6 | C58: =Open!A42 -> Luca Martinelli | D58: =Open!B42 -> Tom Horn | E58: 5 | F58: 0 | G58: =Open!N42 -> Daniele Lopresto
A59: Open - Girone 4 | B59: 7 | C59: =Open!A55 -> Saverio Bari | D59: =Open!B55 -> Fernando Gomez | E59: 6 | F59: 1 | G59: =Open!N55 -> Edoardo Bellotto
A60: Open - Girone 4 | B60: 8 | C60: =Open!A56 -> Filippo Filippella | D60: =Open!B56 -> Alessandro Subazzoli | E60: 1 | F60: 2 | G60: =Open!N56 -> Remy Lours
A61: Open - Girone 5 | B61: 9 | C61: =Open!A69 -> Massimiliano Nastasi | D61: =Open!B69 -> Riccardo Schito | E61: 5 | F61: 1 | G61: =Open!N69 -> Rosario Ifrigerio
A62: Open - Girone 5 | B62: 10 | C62: =Open!A70 -> Robert Lenz | D62: =Open!B70 -> Luca Converti | E62: 5 | F62: 0 | G62: =Open!N70 -> Tiberio Becucci
A63: Open - Girone 6 | B63: 11 | C63: =Open!A83 -> Wolfgang Leitner | D63: =Open!B83 -> Massimo Di Cè | E63: 8 | F63: 1 | G63: =Open!N83 -> Matteo Ciccarelli
A64: Open - Girone 6 | B64: 12 | C64: =Open!A84 -> Mauro Salvati | D64: =Open!B84 -> Alessio Tacchia | E64: 6 | F64: 1 | G64: =Open!N84 -> Marcus Tilgner
A65: Open - Girone 7 | B65: 13 | C65: =Open!A97 -> Justin Leroy | D65: =Open!B97 -> Pierpaolo Murabito | E65: 2 | F65: 0 | G65: =Open!N97 -> Marcello Bodin de Chatelard
A66: Open - Girone 7 | B66: 14 | C66: =Open!A98 -> Luca Ciabattoni | D66: =Open!B98 -> Simone Bertelli | E66: 0 | F66: 2 | G66: =Open!N98 -> Saverio Ferrante
A67: Open - Girone 8 | B67: 15 | C67: =Open!A111 -> Emanuele Licheri | D67: =Open!B111 -> Alberto Recano | E67: 4 | F67: 0 | G67: =Open!N111 -> Michael Stolzenberg
A68: Open - Girone 8 | B68: 16 | C68: =Open!A112 -> Paul Naszalyi | D68: =Open!B112 -> Massimo Santini | E68: 4 | F68: 0 | G68: =Open!N112 -> Gerardo Patruno
A69: Open - Girone 9 | B69: 17 | C69: =Open!A125 -> Mongi Rouis | D69: =Open!B125 -> Enrico Giannarelli | E69: 1 | F69: 2 | G69: =Open!N125 -> Pier Luigi Signoretti
A70: Open - Girone 9 | B70: 18 | C70: =Open!A126 -> Alessandro Mastropasqua | D70: =Open!B126 -> Adrianio Potecchi | E70: 5 | F70: 0 | G70: =Open!N126 -> Marco Midoro
A71: Veterani - Girone 1 | B71: 19 | C71: =Veterani!A13 -> Antonio Montaño | D71: =Veterani!B13 -> Fabio Stellato | E71: 0 | F71: 0 | G71: =Veterani!N13 -> Manfred Pawlica
A72: Veterani - Girone 1 | B72: 20 | C72: =Veterani!A14 -> Karl-Heinz Haider | D72: =Veterani!B14 -> Marco Trevisan | E72: 2 | F72: 1 | G72: =Veterani!N14 -> Massimiliano Croatti
A73: Veterani - Girone 2 | B73: 21 | C73: =Veterani!A27 -> Gianfranco Calonico | D73: =Veterani!B27 -> Massimiliano Schiavone | E73: 4 | F73: 0 | G73: =Veterani!N27 -> Hans Ruf
A74: Veterani - Girone 2 | B74: 22 | C74: =Veterani!A28 -> Titi Giaux | D74: =Veterani!B28 -> Giorgio Manfioletti | E74: 2 | F74: 1 | G74: =Veterani!N28 -> Pietro Bonfante
A75: Veterani - Girone 3 | B75: 23 | C75: =Veterani!A41 -> Daniel Scheen | D75: =Veterani!B41 -> Thomas Vulpes | E75: 8 | F75: 1 | G75: =Veterani!N41 -> Claudio Dogali
A76: Veterani - Girone 3 | B76: 24 | C76: =Veterani!A42 -> Gianfranco Mastrantuono | D76: =Veterani!B42 -> Massimo Conti | E76: 2 | F76: 0 | G76: =Veterani!N42 -> Mario Camilleri
A77: Veterani - Girone 4 | B77: 25 | C77: =Veterani!A55 -> Gunther Bamberzky | D77: =Veterani!B55 -> Luis D. Lòpez | E77: 3 | F77: 2 | G77: =Veterani!N55 -> Andres Jung Senior
A78: Veterani - Girone 4 | B78: 26 | C78: =Veterani!A56 -> Carlo Alessi | D78: =Veterani!B56 -> Gianfranco Savastio | E78: 5 | F78: 1 | G78: =Veterani!N56 -> Luca Bisio
A79: Veterani - Girone 5 | B79: 27 | C79: =Veterani!A69 -> Vicenç Prats | D79: =Veterani!B69 -> Riccardo Marinucci | E79: 6 | F79: 0 | G79: =Veterani!N69 -> Lucio Canicchio
A80: Veterani - Girone 5 | B80: 28 | C80: =Veterani!A70 -> Eric Naszalyi | D80: =Veterani!B70 -> Filippo Sella | E80: 3 | F80: 3 | G80: =Veterani!N70 -> Thierry Vivron
A81: Veterani - Girone 6 | B81: 29 | C81: =Veterani!A83 -> Jason Pisani | D81: =Veterani!B83 -> Claudio Colpani | E81: 2 | F81: 1 | G81: =Veterani!N83 -> Giuseppe Battaglia
A82: Veterani - Girone 6 | B82: 30 | C82: =Veterani!A84 -> Ferran Coll | D82: =Veterani!B84 -> Andrea Morosini | E82: 7 | F82: 1 | G82: =Veterani!N84 -> Nico Lucchesi
A83: Under 19 - Girone 1 | B83: 31 | C83: =Under19!A16 -> Corentin Wauthy | D83: =Under19!B16 -> Filippo Cubeta | E83: 4 | F83: 7 | G83: =Under19!N16 -> Moritz Jung
A84: Under 19 - Girone 1 | B84: 32 | C84: =Under19!A17 -> Leonardo Giudice | D84: =Under19!B17 -> Alessandro Natoli | E84: 4 | F84: 2 | G84: =Under19!N17 -> Rocco Morganelli
A85: U15 - Girone Unico | B85: 33 | C85: =Under15!A13 -> Riccardo Natoli | D85: =Under15!B13 -> Lorenzo Lazzaretti | E85: 3 | F85: 1 | G85: =Under15!N13 -> Bettina Lenz-Exler
A86: U15 - Girone Unico | B86: 34 | C86: =Under15!A14 -> Riccardo Marangoni | D86: =Under15!B14 -> Gabriele Cavalli | E86: 2 | F86: 0 | G86: =Under15!N14 -> Alessandro Amatelli
A87: Ladies - Gir. Unico | B87: 35 | C87: =Ladies!A14 -> Paola Forlani | D87: =Ladies!B14 -> Daria Prazynski | E87: 3 | F87: 0 | G87: =Ladies!N14 -> Thèo Modeste
A88: Ladies - Gir. Unico | B88: 36 | C88: =Ladies!A15 -> Giulia Brillantino | D88: =Ladies!B15 -> Stefka Radkova | E88: 4 | F88: 0 | G88: =Ladies!N15 -> Jurgen Balzan
A90: TURNI DI GIOCO
A93: Turno 3 - Ore 10,40
A94: Categoria/Category | B94: Campo/Table | C94: Giocatore/Player A | D94: Giocatore/Player B | E94: Ris./Score | G94: Arbitro/Referee
A95: Open - Girone 10 | B95: 1 | C95: =Open!A141 -> Bjorn Kegenbein | D95: =Open!B141 -> Gàbor Baross | E95: 10 | F95: 0 | G95: =Open!N141 -> Juan Noguera
A96: Open - Girone 10 | B96: 2 | C96: =Open!A142 -> William Dotto | D96: =Open!B142 -> Francesco Gori | E96: 5 | F96: 0 | G96: =Open!N142 -> Vito De Benedictis
A97: Open - Girone 11 | B97: 3 | C97: =Open!A155 -> Jean-Marie Amberny | D97: =Open!B155 -> Maurizio Jon Scotta | E97: 1 | F97: 0 | G97: =Open!N155 -> Daniele Di Cè
A98: Open - Girone 11 | B98: 4 | C98: =Open!A156 -> Ismaele Caurla | D98: =Open!B156 -> Emanuele Funaro | E98: 1 | F98: 1 | G98: =Open!N156 -> Luca Pessini
A99: Open - Girone 12 | B99: 5 | C99: =Open!A169 -> Sergio Ramos | D99: =Open!B169 -> Alex Iorio | E99: 3 | F99: 6 | G99: =Open!N169 -> Luca Colangelo
A100: Open - Girone 12 | B100: 6 | C100: =Open!A170 -> Giancarlo Cavanna Cavanna | D100: =Open!B170 -> Gabriele Casati | E100: 1 | F100: 2 | G100: =Open!N170 -> Raphael Pommier
A101: Open - Girone 13 | B101: 7 | C101: =Open!A183 -> Luca Zambello | D101: =Open!B183 -> Roderick Vassallo | E101: 9 | F101: 2 | G101: =Open!N183 -> Mauro Petrini
A102: Open - Girone 13 | B102: 8 | C102: =Open!A184 -> Maurizio Brillantino | D102: =Open!B184 -> Riccardo Ferri | E102: 5 | F102: 0 | G102: =Open!N184 -> Paolo Bernardini
A103: Open - Girone 14 | B103: 9 | C103: =Open!A197 -> Axel Donval | D103: =Open!B197 -> Cesare Natoli | E103: 3 | F103: 1 | G103: =Open!N197 -> Christian Haas
A104: Open - Girone 14 | B104: 10 | C104: =Open!A198 -> Carlo Ciraolo | D104: =Open!B198 -> Mirco Pasquini | E104: 1 | F104: 0 | G104: =Open!N198 -> Luca Martinelli
A105: Open - Girone 15 | B105: 11 | C105: =Open!A211 -> Luca Battista | D105: =Open!B211 -> Raul Benita | E105: 3 | F105: 1 | G105: =Open!N211 -> Augusto Vagnoni
A106: Open - Girone 15 | B106: 12 | C106: =Open!A212 -> Paolo Zambello | D106: =Open!B212 -> Marco Bonciani | E106: 1 | F106: 2 | G106: =Open!N212 -> Tom Horn
A107: Open - Girone 16 | B107: 13 | C107: =Open!A225 -> Massimo Cremona | D107: =Open!B225 -> Florian Giaux | E107: 3 | F107: 2 | G107: =Open!N225 -> Fernando Gomez
A108: Open - Girone 16 | B108: 14 | C108: =Open!A226 -> Giovanni Francavilla | D108: =Open!B226 -> Daniele Lopresto | E108: 1 | F108: 0 | G108: =Open!N226 -> Filippo Filippella
A109: Open - Girone 17 | B109: 15 | C109: =Open!A239 -> Edoardo Bellotto | D109: =Open!B239 -> Remy Lours | E109: 2 | F109: 2 | G109: =Open!N239 -> Alessandro Subazzoli
...

Sheet Referti Squadre
E3: XXXIX TORNEO DI NATALE | Q3: XXXIX TORNEO DI NATALE | AC3: XXXIX TORNEO DI NATALE | AO3: XXXIX TORNEO DI NATALE | BA3: XXXIX TORNEO DI NATALE | BM3: XXXIX TORNEO DI NATALE | BY3: XXXIX TORNEO DI NATALE | CK3: XXXIX TORNEO DI NATALE | CW3: XXXIX TORNEO DI NATALE | DI3: XXXIX TORNEO DI NATALE | DU3: XXXIX TORNEO DI NATALE
E4: Team Competition - Milan, 10th december 2016 | Q4: Team Competition - Milan, 10th december 2016 | AC4: Team Competition - Milan, 10th december 2016 | AO4: Team Competition - Milan, 10th december 2016 | BA4: Team Competition - Milan, 10th december 2016 | BM4: Team Competition - Milan, 10th december 2016 | BY4: Team Competition - Milan, 10th december 2016 | CK4: Team Competition - Milan, 10th december 2016 | CW4: Team Competition - Milan, 10th december 2016 | DI4: Team Competition - Milan, 10th december 2016 | DU4: Team Competition - Milan, 10th december 2016
B7: 1 | C7: ° ROUND | E7: TEAM A | F7: TEAM B | G7: REFEREE | H7: 1° HALF SCORE | J7: FINAL SCORE | N7: 2 | O7: ° ROUND | Q7: TEAM A | R7: TEAM B | S7: REFEREE | T7: 1° HALF SCORE | V7: FINAL SCORE | Z7: 3 | AA7: ° ROUND | AC7: TEAM A | AD7: TEAM B | AE7: REFEREE | AF7: 1° HALF SCORE | AH7: FINAL SCORE | AL7: 4 | AM7: ° ROUND | AO7: TEAM A | AP7: TEAM B | AQ7: REFEREE | AR7: 1° HALF SCORE | AT7: FINAL SCORE | AX7: 5 | AY7: ° ROUND | BA7: TEAM A | BB7: TEAM B | BC7: REFEREE | BD7: 1° HALF SCORE | BF7: FINAL SCORE | BJ7: 6 | BK7: ° ROUND | BM7: TEAM A | BN7: TEAM B | BO7: REFEREE | BP7: 1° HALF SCORE | BR7: FINAL SCORE | BV7: 7 | BW7: ° ROUND | BY7: TEAM A | BZ7: TEAM B | CA7: REFEREE | CB7: 1° HALF SCORE | CD7: FINAL SCORE | CH7: 8 | CI7: ° ROUND | CK7: TEAM A | CL7: TEAM B | CM7: REFEREE | CN7: 1° HALF SCORE | CP7: FINAL SCORE | CT7: 9 | CU7: ° ROUND | CW7: TEAM A | CX7: TEAM B | CY7: REFEREE | CZ7: 1° HALF SCORE | DB7: FINAL SCORE | DF7: 10 | DG7: ° ROUND | DI7: TEAM A | DJ7: TEAM B | DK7: REFEREE | DL7: 1° HALF SCORE | DN7: FINAL SCORE | DR7: 11 | DS7: ° ROUND | DU7: TEAM A | DV7: TEAM B | DW7: REFEREE | DX7: 1° HALF SCORE | DZ7: FINAL SCORE
B8: schedule | D8: 0.41666667 | N8: schedule | P8: 0.45138889 | Z8: schedule | AB8: 0.48611111 | AL8: schedule | AN8: 0.52083333 | AX8: schedule | AZ8: 0.55555556 | BJ8: schedule | BL8: 0.59027778 | BV8: schedule | BX8: 0.625 | CH8: schedule | CJ8: 0.66666667 | CT8: schedule | CV8: 0.70833333 | DF8: schedule | DH8: 0.75 | DR8: schedule | DT8: 0.79166667
B9: TABLE | D9: 1-4 | E9: =Turnisabato!C11 -> Rochefort TS | F9: =Turnisabato!D11 -> Flickers | G9: =Turnisabato!G11 -> Warriors | N9: TABLE | P9: 1-4 | Q9: =Turnisabato!C25 -> F.lli Bari Reggio Emilia | R9: =Turnisabato!D25 -> Leonessa | S9: =Turnisabato!G25 -> Valletta | Z9: TABLE | AB9: 1-4 | AC9: =Turnisabato!C39 -> Rochefort TS | AD9: =Turnisabato!D39 -> Ascoli | AE9: =Turnisabato!G39 -> Leonessa | AL9: TABLE | AN9: 1-4 | AO9: =Turnisabato!C53 -> F.lli Bari Reggio Emilia | AP9: =Turnisabato!D53 -> Rain 1970 | AQ9: =Turnisabato!G53 -> Rochefort TS | AX9: TABLE | AZ9: 1-4 | BA9: =Turnisabato!C67 -> Rochefort TS | BB9: =Turnisabato!D67 -> Torino 2009 | BC9: =Turnisabato!G67 -> Wiener Neustadt | BJ9: TABLE | BL9: 1-4 | BM9: =Turnisabato!C81 -> F.lli Bari Reggio Emilia | BN9: =Turnisabato!D81 -> Atletico Pisa | BO9: =Turnisabato!G81 -> Bologna Tigers | BV9: TABLE | BX9: 1-4 | BY9: =Turnisabato!C95 -> Rain 1970 | BZ9: =Turnisabato!D95 -> Stradivari 2 | CA9: =Turnisabato!G95 -> Leonessa | CH9: TABLE | CJ9: 1-4 | CK9: =Turnisabato!C109 -> F.lli Bari Reggio Emilia | CL9: =Turnisabato!D109 -> Grosseto | CM9: =Turnisabato!G109 -> Atletico Pisa | CT9: TABLE | CV9: 1-4 | CW9: =Turnisabato!C123 -> F.lli Bari Reggio Emilia | CX9: =Turnisabato!D123 -> Bologna Tigers | CY9: =Turnisabato!G123 -> Rochefort TS | DF9: TABLE | DH9: 1-4 | DI9: =Turnisabato!C137 -> Bologna Tigers | DJ9: =Turnisabato!D137 -> Fiamme Azzurre | DK9: =Turnisabato!G137 -> Napoli Fighters | DR9: TABLE | DT9: 1-4 | DU9: =Turnisabato!C147 -> Bologna Tigers | DV9: =Turnisabato!D147 -> Wiener Neustadt | DW9: =Turnisabato!G147 -> Valletta
B11: Player 1 | N11: Player 1 | Z11: Player 1 | AL11: Player 1 | AX11: Player 1 | BJ11: Player 1 | BV11: Player 1 | CH11: Player 1 | CT11: Player 1 | DF11: Player 1 | DR11: Player 1
B12: Player 2 | N12: Player 2 | Z12: Player 2 | AL12: Player 2 | AX12: Player 2 | BJ12: Player 2 | BV12: Player 2 | CH12: Player 2 | CT12: Player 2 | DF12: Player 2 | DR12: Player 2
B13: Player 3 | N13: Player 3 | Z13: Player 3 | AL13: Player 3 | AX13: Player 3 | BJ13: Player 3 | BV13: Player 3 | CH13: Player 3 | CT13: Player 3 | DF13: Player 3 | DR13: Player 3
B14: Player 4 | N14: Player 4 | Z14: Player 4 | AL14: Player 4 | AX14: Player 4 | BJ14: Player 4 | BV14: Player 4 | CH14: Player 4 | CT14: Player 4 | DF14: Player 4 | DR14: Player 4
B16: Substitute 1 | N16: Substitute 1 | Z16: Substitute 1 | AL16: Substitute 1 | AX16: Substitute 1 | BJ16: Substitute 1 | BV16: Substitute 1 | CH16: Substitute 1 | CT16: Substitute 1 | DF16: Substitute 1 | DR16: Substitute 1
B17: Substitute 2 | N17: Substitute 2 | Z17: Substitute 2 | AL17: Substitute 2 | AX17: Substitute 2 | BJ17: Substitute 2 | BV17: Substitute 2 | CH17: Substitute 2 | CT17: Substitute 2 | DF17: Substitute 2 | DR17: Substitute 2
B19: NOTES: | N19: NOTES: | Z19: NOTES: | AL19: NOTES: | AX19: NOTES: | BJ19: NOTES: | BV19: NOTES: | CH19: NOTES: | CT19: NOTES: | DF19: NOTES: | DR19: NOTES:
E24: TEAM A Signature | Q24: TEAM A Signature | AC24: TEAM A Signature | AO24: TEAM A Signature | BA24: TEAM A Signature | BM24: TEAM A Signature | BY24: TEAM A Signature | CK24: TEAM A Signature | CW24: TEAM A Signature | DI24: TEAM A Signature | DU24: TEAM A Signature
E25: TEAM B Signature | Q25: TEAM B Signature | AC25: TEAM B Signature | AO25: TEAM B Signature | BA25: TEAM B Signature | BM25: TEAM B Signature | BY25: TEAM B Signature | CK25: TEAM B Signature | CW25: TEAM B Signature | DI25: TEAM B Signature | DU25: TEAM B Signature
E26: REFEREE Signature | Q26: REFEREE Signature | AC26: REFEREE Signature | AO26: REFEREE Signature | BA26: REFEREE Signature | BM26: REFEREE Signature | BY26: REFEREE Signature | CK26: REFEREE Signature | CW26: REFEREE Signature | DI26: REFEREE Signature | DU26: REFEREE Signature
E30: XXXIX TORNEO DI NATALE | Q30: XXXIX TORNEO DI NATALE | AC30: XXXIX TORNEO DI NATALE | AO30: XXXIX TORNEO DI NATALE | BA30: XXXIX TORNEO DI NATALE | BM30: XXXIX TORNEO DI NATALE | BY30: XXXIX TORNEO DI NATALE | CK30: XXXIX TORNEO DI NATALE | CW30: XXXIX TORNEO DI NATALE | DI30: XXXIX TORNEO DI NATALE | DU30: XXXIX TORNEO DI NATALE
E31: Team Competition - Milan, 10th december 2016 | Q31: Team Competition - Milan, 10th december 2016 | AC31: Team Competition - Milan, 10th december 2016 | AO31: Team Competition - Milan, 10th december 2016 | BA31: Team Competition - Milan, 10th december 2016 | BM31: Team Competition - Milan, 10th december 2016 | BY31: Team Competition - Milan, 10th december 2016 | CK31: Team Competition - Milan, 10th december 2016 | CW31: Team Competition - Milan, 10th december 2016 | DI31: Team Competition - Milan, 10th december 2016 | DU31: Team Competition - Milan, 10th december 2016
B34: 1 | C34: ° ROUND | E34: TEAM A | F34: TEAM B | G34: REFEREE | H34: 1° HALF SCORE | J34: FINAL SCORE | N34: 2 | O34: ° ROUND | Q34: TEAM A | R34: TEAM B | S34: REFEREE | T34: 1° HALF SCORE | V34: FINAL SCORE | Z34: 3 | AA34: ° ROUND | AC34: TEAM A | AD34: TEAM B | AE34: REFEREE | AF34: 1° HALF SCORE | AH34: FINAL SCORE | AL34: 4 | AM34: ° ROUND | AO34: TEAM A | AP34: TEAM B | AQ34: REFEREE | AR34: 1° HALF SCORE | AT34: FINAL SCORE | AX34: 5 | AY34: ° ROUND | BA34: TEAM A | BB34: TEAM B | BC34: REFEREE | BD34: 1° HALF SCORE | BF34: FINAL SCORE | BJ34: 6 | BK34: ° ROUND | BM34: TEAM A | BN34: TEAM B | BO34: REFEREE | BP34: 1° HALF SCORE | BR34: FINAL SCORE | BV34: 7 | BW34: ° ROUND | BY34: TEAM A | BZ34: TEAM B | CA34: REFEREE | CB34: 1° HALF SCORE | CD34: FINAL SCORE | CH34: 8 | CI34: ° ROUND | CK34: TEAM A | CL34: TEAM B | CM34: REFEREE | CN34: 1° HALF SCORE | CP34: FINAL SCORE | CT34: 9 | CU34: ° ROUND | CW34: TEAM A | CX34: TEAM B | CY34: REFEREE | CZ34: 1° HALF SCORE | DB34: FINAL SCORE | DF34: 10 | DG34: ° ROUND | DI34: TEAM A | DJ34: TEAM B | DK34: REFEREE | DL34: 1° HALF SCORE | DN34: FINAL SCORE | DR34: 11 | DS34: ° ROUND | DU34: TEAM A | DV34: TEAM B | DW34: REFEREE | DX34: 1° HALF SCORE | DZ34: FINAL SCORE
B35: schedule | D35: 0.41666667 | N35: schedule | P35: 0.45138889 | Z35: schedule | AB35: 0.48611111 | AL35: schedule | AN35: 0.52083333 | AX35: schedule | AZ35: 0.55555556 | BJ35: schedule | BL35: 0.59027778 | BV35: schedule | BX35: 0.625 | CH35: schedule | CJ35: 0.66666667 | CT35: schedule | CV35: 0.70833333 | DF35: schedule | DH35: 0.75 | DR35: schedule | DT35: 0.79166667
B36: TABLE | D36: 5-8 | E36: =Turnisabato!C12 -> Ascoli | F36: =Turnisabato!D12 -> Torino 2009 | G36: =Turnisabato!G12 -> Flickers 2 | N36: TABLE | P36: 5-8 | Q36: =Turnisabato!C26 -> Rain 1970 | R36: =Turnisabato!D26 -> Atletico Pisa | S36: =Turnisabato!G26 -> Foggia | Z36: TABLE | AB36: 5-8 | AC36: =Turnisabato!C40 -> Flickers | AD36: =Turnisabato!D40 -> Torino 2009 | AE36: =Turnisabato!G40 -> Atletico Pisa | AL36: TABLE | AN36: 5-8 | AO36: =Turnisabato!C54 -> Leonessa | AP36: =Turnisabato!D54 -> Atletico Pisa | AQ36: =Turnisabato!G54 -> Ascoli | AX36: TABLE | AZ36: 5-8 | BA36: =Turnisabato!C68 -> Ascoli | BB36: =Turnisabato!D68 -> Flickers | BC36: =Turnisabato!G68 -> Napoli Fighters | BJ36: TABLE | BL36: 5-8 | BM36: =Turnisabato!C82 -> Rain 1970 | BN36: =Turnisabato!D82 -> Leonessa | BO36: =Turnisabato!G82 -> Issy-les-Moulineaux | BV36: TABLE | BX36: 5-8 | BY36: =Turnisabato!C96 -> Stradivari | BZ36: =Turnisabato!D96 -> Subbuteisti Carpi | CA36: =Turnisabato!G96 -> F.lli Bari Reggio Emilia | CH36: TABLE | CJ36: 5-8 | CK36: =Turnisabato!C110 -> Bologna Tigers | CL36: =Turnisabato!D110 -> Tiburones FM | CM36: =Turnisabato!G110 -> Subbuteisti Carpi | CT36: TABLE | CV36: 5-8 | CW36: =Turnisabato!C124 -> Fiamme Azzurre | CX36: =Turnisabato!D124 -> Napoli Fighters | CY36: =Turnisabato!G124 -> Warriors | DF36: TABLE | DH36: 5-8 | DI36: =Turnisabato!C138 -> Wiener Neustadt | DJ36: =Turnisabato!D138 -> Valletta | DK36: =Turnisabato!G138 -> F.lli Bari Reggio Emilia | DR36: TABLE | DT36: 5-8 | DU36: =Turnisabato!C148 -> Torino 2009 | DV36: =Turnisabato!D148 -> Master Sanremo 2 | DW36: =Turnisabato!G148 -> Foggia
B38: Player 1 | N38: Player 1 | Z38: Player 1 | AL38: Player 1 | AX38: Player 1 | BJ38: Player 1 | BV38: Player 1 | CH38: Player 1 | CT38: Player 1 | DF38: Player 1 | DR38: Player 1
B39: Player 2 | N39: Player 2 | Z39: Player 2 | AL39: Player 2 | AX39: Player 2 | BJ39: Player 2 | BV39: Player 2 | CH39: Player 2 | CT39: Player 2 | DF39: Player 2 | DR39: Player 2
B40: Player 3 | N40: Player 3 | Z40: Player 3 | AL40: Player 3 | AX40: Player 3 | BJ40: Player 3 | BV40: Player 3 | CH40: Player 3 | CT40: Player 3 | DF40: Player 3 | DR40: Player 3
B41: Player 4 | N41: Player 4 | Z41: Player 4 | AL41: Player 4 | AX41: Player 4 | BJ41: Player 4 | BV41: Player 4 | CH41: Player 4 | CT41: Player 4 | DF41: Player 4 | DR41: Player 4
B43: Substitute 1 | N43: Substitute 1 | Z43: Substitute 1 | AL43: Substitute 1 | AX43: Substitute 1 | BJ43: Substitute 1 | BV43: Substitute 1 | CH43: Substitute 1 | CT43: Substitute 1 | DF43: Substitute 1 | DR43: Substitute 1
B44: Substitute 2 | N44: Substitute 2 | Z44: Substitute 2 | AL44: Substitute 2 | AX44: Substitute 2 | BJ44: Substitute 2 | BV44: Substitute 2 | CH44: Substitute 2 | CT44: Substitute 2 | DF44: Substitute 2 | DR44: Substitute 2
B46: NOTES: | N46: NOTES: | Z46: NOTES: | AL46: NOTES: | AX46: NOTES: | BJ46: NOTES: | BV46: NOTES: | CH46: NOTES: | CT46: NOTES: | DF46: NOTES: | DR46: NOTES:
E51: TEAM A Signature | Q51: TEAM A Signature | AC51: TEAM A Signature | AO51: TEAM A Signature | BA51: TEAM A Signature | BM51: TEAM A Signature | BY51: TEAM A Signature | CK51: TEAM A Signature | CW51: TEAM A Signature | DI51: TEAM A Signature | DU51: TEAM A Signature
E52: TEAM B Signature | Q52: TEAM B Signature | AC52: TEAM B Signature | AO52: TEAM B Signature | BA52: TEAM B Signature | BM52: TEAM B Signature | BY52: TEAM B Signature | CK52: TEAM B Signature | CW52: TEAM B Signature | DI52: TEAM B Signature | DU52: TEAM B Signature
E53: REFEREE Signature | Q53: REFEREE Signature | AC53: REFEREE Signature | AO53: REFEREE Signature | BA53: REFEREE Signature | BM53: REFEREE Signature | BY53: REFEREE Signature | CK53: REFEREE Signature | CW53: REFEREE Signature | DI53: REFEREE Signature | DU53: REFEREE Signature
E57: XXXIX TORNEO DI NATALE | Q57: XXXIX TORNEO DI NATALE | AC57: XXXIX TORNEO DI NATALE | AO57: XXXIX TORNEO DI NATALE | BA57: XXXIX TORNEO DI NATALE | BM57: XXXIX TORNEO DI NATALE | BY57: XXXIX TORNEO DI NATALE | CK57: XXXIX TORNEO DI NATALE | CW57: XXXIX TORNEO DI NATALE | DI57: XXXIX TORNEO DI NATALE
E58: Team Competition - Milan, 10th december 2016 | Q58: Team Competition - Milan, 10th december 2016 | AC58: Team Competition - Milan, 10th december 2016 | AO58: Team Competition - Milan, 10th december 2016 | BA58: Team Competition - Milan, 10th december 2016 | BM58: Team Competition - Milan, 10th december 2016 | BY58: Team Competition - Milan, 10th december 2016 | CK58: Team Competition - Milan, 10th december 2016 | CW58: Team Competition - Milan, 10th december 2016 | DI58: Team Competition - Milan, 10th december 2016
B61: 1 | C61: ° ROUND | E61: TEAM A | F61: TEAM B | G61: REFEREE | H61: 1° HALF SCORE | J61: FINAL SCORE | N61: 2 | O61: ° ROUND | Q61: TEAM A | R61: TEAM B | S61: REFEREE | T61: 1° HALF SCORE | V61: FINAL SCORE | Z61: 3 | AA61: ° ROUND | AC61: TEAM A | AD61: TEAM B | AE61: REFEREE | AF61: 1° HALF SCORE | AH61: FINAL SCORE | AL61: 4 | AM61: ° ROUND | AO61: TEAM A | AP61: TEAM B | AQ61: REFEREE | AR61: 1° HALF SCORE | AT61: FINAL SCORE | AX61: 5 | AY61: ° ROUND | BA61: TEAM A | BB61: TEAM B | BC61: REFEREE | BD61: 1° HALF SCORE | BF61: FINAL SCORE | BJ61: 6 | BK61: ° ROUND | BM61: TEAM A | BN61: TEAM B | BO61: REFEREE | BP61: 1° HALF SCORE | BR61: FINAL SCORE | BV61: 7 | BW61: ° ROUND | BY61: TEAM A | BZ61: TEAM B | CA61: REFEREE | CB61: 1° HALF SCORE | CD61: FINAL SCORE | CH61: 8 | CI61: ° ROUND | CK61: TEAM A | CL61: TEAM B | CM61: REFEREE | CN61: 1° HALF SCORE | CP61: FINAL SCORE | CT61: 9 | CU61: ° ROUND | CW61: TEAM A | CX61: TEAM B | CY61: REFEREE | CZ61: 1° HALF SCORE | DB61: FINAL SCORE | DF61: 10 | DG61: ° ROUND | DI61: TEAM A | DJ61: TEAM B | DK61: REFEREE | DL61: 1° HALF SCORE | DN61: FINAL SCORE
B62: schedule | D62: 0.41666667 | N62: schedule | P62: 0.45138889 | Z62: schedule | AB62: 0.48611111 | AL62: schedule | AN62: 0.52083333 | AX62: schedule | AZ62: 0.55555556 | BJ62: schedule | BL62: 0.59027778 | BV62: schedule | BX62: 0.625 | CH62: schedule | CJ62: 0.66666667 | CT62: schedule | CV62: 0.70833333 | DF62: schedule | DH62: 0.75
B63: TABLE | D63: 9-12 | E63: =Turnisabato!C13 -> TFC Mattersburg | F63: =Turnisabato!D13 -> Messina TS | G63: =Turnisabato!G13 -> Fiamme Azzurre | N63: TABLE | P63: 9-12 | Q63: =Turnisabato!C27 -> Tiburones FM | R63: =Turnisabato!D27 -> Biella 91 | S63: =Turnisabato!G27 -> Grosseto | Z63: TABLE | AB63: 9-12 | AC63: =Turnisabato!C41 -> TFC Mattersburg | AD63: =Turnisabato!D41 -> Stella Artois | AE63: =Turnisabato!G41 -> F.lli Bari Reggio Emilia | AL63: TABLE | AN63: 9-12 | AO63: =Turnisabato!C55 -> Tiburones FM | AP63: =Turnisabato!D55 -> Master Sanremo | AQ63: =Turnisabato!G55 -> Flickers | AX63: TABLE | AZ63: 9-12 | BA63: =Turnisabato!C69 -> TFC Mattersburg | BB63: =Turnisabato!D69 -> CT Aosta | BC63: =Turnisabato!G69 -> Virtus 4 Strade | BJ63: TABLE | BL63: 9-12 | BM63: =Turnisabato!C83 -> Tiburones FM | BN63: =Turnisabato!D83 -> Subbuteisti Carpi | BO63: =Turnisabato!G83 -> Stradivari | BV63: TABLE | BX63: 9-12 | BY63: =Turnisabato!C97 -> Torino 2009 | BZ63: =Turnisabato!D97 -> Sparta Spreeathen | CA63: =Turnisabato!G97 -> Tiburones FM | CH63: TABLE | CJ63: 9-12 | CK63: =Turnisabato!C111 -> Rochefort TS | CL63: =Turnisabato!D111 -> Fiamme Azzurre | CM63: =Turnisabato!G111 -> Rain 1970 | CT63: TABLE | CV63: 9-12 | CW63: =Turnisabato!C125 -> Ascoli | CX63: =Turnisabato!D125 -> Wiener Neustadt | CY63: =Turnisabato!G125 -> TFC Mattersburg | DF63: TABLE | DH63: 9-12 | DI63: =Turnisabato!C139 -> Stradivari 2 | DJ63: =Turnisabato!D139 -> Torino 2009 | DK63: =Turnisabato!G139 -> Ascoli
B65: Player 1 | N65: Player 1 | Z65: Player 1 | AL65: Player 1 | AX65: Player 1 | BJ65: Player 1 | BV65: Player 1 | CH65: Player 1 | CT65: Player 1 | DF65: Player 1
B66: Player 2 | N66: Player 2 | Z66: Player 2 | AL66: Player 2 | AX66: Player 2 | BJ66: Player 2 | BV66: Player 2 | CH66: Player 2 | CT66: Player 2 | DF66: Player 2
B67: Player 3 | N67: Player 3 | Z67: Player 3 | AL67: Player 3 | AX67: Player 3 | BJ67: Player 3 | BV67: Player 3 | CH67: Player 3 | CT67: Player 3 | DF67: Player 3
B68: Player 4 | N68: Player 4 | Z68: Player 4 | AL68: Player 4 | AX68: Player 4 | BJ68: Player 4 | BV68: Player 4 | CH68: Player 4 | CT68: Player 4 | DF68: Player 4
B70: Substitute 1 | N70: Substitute 1 | Z70: Substitute 1 | AL70: Substitute 1 | AX70: Substitute 1 | BJ70: Substitute 1 | BV70: Substitute 1 | CH70: Substitute 1 | CT70: Substitute 1 | DF70: Substitute 1
B71: Substitute 2 | N71: Substitute 2 | Z71: Substitute 2 | AL71: Substitute 2 | AX71: Substitute 2 | BJ71: Substitute 2 | BV71: Substitute 2 | CH71: Substitute 2 | CT71: Substitute 2 | DF71: Substitute 2
B73: NOTES: | N73: NOTES: | Z73: NOTES: | AL73: NOTES: | AX73: NOTES: | BJ73: NOTES: | BV73: NOTES: | CH73: NOTES: | CT73: NOTES: | DF73: NOTES:
E78: TEAM A Signature | Q78: TEAM A Signature | AC78: TEAM A Signature | AO78: TEAM A Signature | BA78: TEAM A Signature | BM78: TEAM A Signature | BY78: TEAM A Signature | CK78: TEAM A Signature | CW78: TEAM A Signature | DI78: TEAM A Signature
E79: TEAM B Signature | Q79: TEAM B Signature | AC79: TEAM B Signature | AO79: TEAM B Signature | BA79: TEAM B Signature | BM79: TEAM B Signature | BY79: TEAM B Signature | CK79: TEAM B Signature | CW79: TEAM B Signature | DI79: TEAM B Signature
E80: REFEREE Signature | Q80: REFEREE Signature | AC80: REFEREE Signature | AO80: REFEREE Signature | BA80: REFEREE Signature | BM80: REFEREE Signature | BY80: REFEREE Signature | CK80: REFEREE Signature | CW80: REFEREE Signature | DI80: REFEREE Signature
E84: XXXIX TORNEO DI NATALE | Q84: XXXIX TORNEO DI NATALE | AC84: XXXIX TORNEO DI NATALE | AO84: XXXIX TORNEO DI NATALE | BA84: XXXIX TORNEO DI NATALE | BM84: XXXIX TORNEO DI NATALE | BY84: XXXIX TORNEO DI NATALE | CK84: XXXIX TORNEO DI NATALE | CW84: XXXIX TORNEO DI NATALE | DI84: XXXIX TORNEO DI NATALE
E85: Team Competition - Milan, 10th december 2016 | Q85: Team Competition - Milan, 10th december 2016 | AC85: Team Competition - Milan, 10th december 2016 | AO85: Team Competition - Milan, 10th december 2016 | BA85: Team Competition - Milan, 10th december 2016 | BM85: Team Competition - Milan, 10th december 2016 | BY85: Team Competition - Milan, 10th december 2016 | CK85: Team Competition - Milan, 10th december 2016 | CW85: Team Competition - Milan, 10th december 2016 | DI85: Team Competition - Milan, 10th december 2016
B88: 1 | C88: ° ROUND | E88: TEAM A | F88: TEAM B | G88: REFEREE | H88: 1° HALF SCORE | J88: FINAL SCORE | N88: 2 | O88: ° ROUND | Q88: TEAM A | R88: TEAM B | S88: REFEREE | T88: 1° HALF SCORE | V88: FINAL SCORE | Z88: 3 | AA88: ° ROUND | AC88: TEAM A | AD88: TEAM B | AE88: REFEREE | AF88: 1° HALF SCORE | AH88: FINAL SCORE | AL88: 4 | AM88: ° ROUND | AO88: TEAM A | AP88: TEAM B | AQ88: REFEREE | AR88: 1° HALF SCORE | AT88: FINAL SCORE | AX88: 5 | AY88: ° ROUND | BA88: TEAM A | BB88: TEAM B | BC88: REFEREE | BD88: 1° HALF SCORE | BF88: FINAL SCORE | BJ88: 6 | BK88: ° ROUND | BM88: TEAM A | BN88: TEAM B | BO88: REFEREE | BP88: 1° HALF SCORE | BR88: FINAL SCORE | BV88: 7 | BW88: ° ROUND | BY88: TEAM A | BZ88: TEAM B | CA88: REFEREE | CB88: 1° HALF SCORE | CD88: FINAL SCORE | CH88: 8 | CI88: ° ROUND | CK88: TEAM A | CL88: TEAM B | CM88: REFEREE | CN88: 1° HALF SCORE | CP88: FINAL SCORE | CT88: 9 | CU88: ° ROUND | CW88: TEAM A | CX88: TEAM B | CY88: REFEREE | CZ88: 1° HALF SCORE | DB88: FINAL SCORE | DF88: 10 | DG88: ° ROUND | DI88: TEAM A | DJ88: TEAM B | DK88: REFEREE | DL88: 1° HALF SCORE | DN88: FINAL SCORE
B89: schedule | D89: 0.41666667 | N89: schedule | P89: 0.45138889 | Z89: schedule | AB89: 0.48611111 | AL89: schedule | AN89: 0.52083333 | AX89: schedule | AZ89: 0.55555556 | BJ89: schedule | BL89: 0.59027778 | BV89: schedule | BX89: 0.625 | CH89: schedule | CJ89: 0.66666667 | CT89: schedule | CV89: 0.70833333 | DF89: schedule | DH89: 0.75
B90: TABLE | D90: 13-16 | E90: =Turnisabato!C14 -> Stella Artois | F90: =Turnisabato!D14 -> CT Aosta | G90: =Turnisabato!G14 -> Sparta Spreeathen | N90: TABLE | P90: 13-16 | Q90: =Turnisabato!C28 -> Master Sanremo | R90: =Turnisabato!D28 -> Subbuteisti Carpi | S90: =Turnisabato!G28 -> Stradivari 2 | Z90: TABLE | AB90: 13-16 | AC90: =Turnisabato!C42 -> Messina TS | AD90: =Turnisabato!D42 -> CT Aosta | AE90: =Turnisabato!G42 -> Rain 1970 | AL90: TABLE | AN90: 13-16 | AO90: =Turnisabato!C56 -> Biella 91 | AP90: =Turnisabato!D56 -> Subbuteisti Carpi | AQ90: =Turnisabato!G56 -> Torino 2009 | AX90: TABLE | AZ90: 13-16 | BA90: =Turnisabato!C70 -> Stella Artois | BB90: =Turnisabato!D70 -> Messina TS | BC90: =Turnisabato!G70 -> Master Sanremo 2 | BJ90: TABLE | BL90: 13-16 | BM90: =Turnisabato!C84 -> Master Sanremo | BN90: =Turnisabato!D84 -> Biella 91 | BO90: =Turnisabato!G84 -> Torino 2009 2 | BV90: TABLE | BX90: 13-16 | BY90: =Turnisabato!C98 -> Virtus 4 Strade | BZ90: =Turnisabato!D98 -> CT Aosta | CA90: =Turnisabato!G98 -> Master Sanremo | CH90: TABLE | CJ90: 13-16 | CK90: =Turnisabato!C112 -> Napoli Fighters | CL90: =Turnisabato!D112 -> TFC Mattersburg | CM90: =Turnisabato!G112 -> Biella 91 | CT90: TABLE | CV90: 13-16 | CW90: =Turnisabato!C126 -> Valletta | CX90: =Turnisabato!D126 -> Issy-les-Moulineaux | CY90: =Turnisabato!G126 -> Stella Artois | DF90: TABLE | DH90: 13-16 | DI90: =Turnisabato!C140 -> Master Sanremo 2 | DJ90: =Turnisabato!D140 -> Foggia | DK90: =Turnisabato!G140 -> Flickers
B92: Player 1 | N92: Player 1 | Z92: Player 1 | AL92: Player 1 | AX92: Player 1 | BJ92: Player 1 | BV92: Player 1 | CH92: Player 1 | CT92: Player 1 | DF92: Player 1
B93: Player 2 | N93: Player 2 | Z93: Player 2 | AL93: Player 2 | AX93: Player 2 | BJ93: Player 2 | BV93: Player 2 | CH93: Player 2 | CT93: Player 2 | DF93: Player 2
B94: Player 3 | N94: Player 3 | Z94: Player 3 | AL94: Player 3 | AX94: Player 3 | BJ94: Player 3 | BV94: Player 3 | CH94: Player 3 | CT94: Player 3 | DF94: Player 3
B95: Player 4 | N95: Player 4 | Z95: Player 4 | AL95: Player 4 | AX95: Player 4 | BJ95: Player 4 | BV95: Player 4 | CH95: Player 4 | CT95: Player 4 | DF95: Player 4
B97: Substitute 1 | N97: Substitute 1 | Z97: Substitute 1 | AL97: Substitute 1 | AX97: Substitute 1 | BJ97: Substitute 1 | BV97: Substitute 1 | CH97: Substitute 1 | CT97: Substitute 1 | DF97: Substitute 1
B98: Substitute 2 | N98: Substitute 2 | Z98: Substitute 2 | AL98: Substitute 2 | AX98: Substitute 2 | BJ98: Substitute 2 | BV98: Substitute 2 | CH98: Substitute 2 | CT98: Substitute 2 | DF98: Substitute 2
B100: NOTES: | N100: NOTES: | Z100: NOTES: | AL100: NOTES: | AX100: NOTES: | BJ100: NOTES: | BV100: NOTES: | CH100: NOTES: | CT100: NOTES: | DF100: NOTES:
E105: TEAM A Signature | Q105: TEAM A Signature | AC105: TEAM A Signature | AO105: TEAM A Signature | BA105: TEAM A Signature | BM105: TEAM A Signature | BY105: TEAM A Signature | CK105: TEAM A Signature | CW105: TEAM A Signature | DI105: TEAM A Signature
E106: TEAM B Signature | Q106: TEAM B Signature | AC106: TEAM B Signature | AO106: TEAM B Signature | BA106: TEAM B Signature | BM106: TEAM B Signature | BY106: TEAM B Signature | CK106: TEAM B Signature | CW106: TEAM B Signature | DI106: TEAM B Signature
E107: REFEREE Signature | Q107: REFEREE Signature | AC107: REFEREE Signature | AO107: REFEREE Signature | BA107: REFEREE Signature | BM107: REFEREE Signature | BY107: REFEREE Signature | CK107: REFEREE Signature | CW107: REFEREE Signature | DI107: REFEREE Signature
E111: XXXIX TORNEO DI NATALE | Q111: XXXIX TORNEO DI NATALE | AC111: XXXIX TORNEO DI NATALE | AO111: XXXIX TORNEO DI NATALE | BA111: XXXIX TORNEO DI NATALE | BM111: XXXIX TORNEO DI NATALE | BY111: XXXIX TORNEO DI NATALE | CK111: XXXIX TORNEO DI NATALE | CW111: XXXIX TORNEO DI NATALE
E112: Team Competition - Milan, 10th december 2016 | Q112: Team Competition - Milan, 10th december 2016 | AC112: Team Competition - Milan, 10th december 2016 | AO112: Team Competition - Milan, 10th december 2016 | BA112: Team Competition - Milan, 10th december 2016 | BM112: Team Competition - Milan, 10th december 2016 | BY112: Team Competition - Milan, 10th december 2016 | CK112: Team Competition - Milan, 10th december 2016 | CW112: Team Competition - Milan, 10th december 2016
B115: 1 | C115: ° ROUND | E115: TEAM A | F115: TEAM B | G115: REFEREE | H115: 1° HALF SCORE | J115: FINAL SCORE | N115: 2 | O115: ° ROUND | Q115: TEAM A | R115: TEAM B | S115: REFEREE | T115: 1° HALF SCORE | V115: FINAL SCORE | Z115: 3 | AA115: ° ROUND | AC115: TEAM A | AD115: TEAM B | AE115: REFEREE | AF115: 1° HALF SCORE | AH115: FINAL SCORE | AL115: 4 | AM115: ° ROUND | AO115: TEAM A | AP115: TEAM B | AQ115: REFEREE | AR115: 1° HALF SCORE | AT115: FINAL SCORE | AX115: 5 | AY115: ° ROUND | BA115: TEAM A | BB115: TEAM B | BC115: REFEREE | BD115: 1° HALF SCORE | BF115: FINAL SCORE | BJ115: 6 | BK115: ° ROUND | BM115: TEAM A | BN115: TEAM B | BO115: REFEREE | BP115: 1° HALF SCORE | BR115: FINAL SCORE | BV115: 7 | BW115: ° ROUND | BY115: TEAM A | BZ115: TEAM B | CA115: REFEREE | CB115: 1° HALF SCORE | CD115: FINAL SCORE | CH115: 8 | CI115: ° ROUND | CK115: TEAM A | CL115: TEAM B | CM115: REFEREE | CN115: 1° HALF SCORE | CP115: FINAL SCORE | CT115: 9 | CU115: ° ROUND | CW115: TEAM A | CX115: TEAM B | CY115: REFEREE | CZ115: 1° HALF SCORE | DB115: FINAL SCORE
B116: schedule | D116: 0.41666667 | N116: schedule | P116: 0.45138889 | Z116: schedule | AB116: 0.48611111 | AL116: schedule | AN116: 0.52083333 | AX116: schedule | AZ116: 0.55555556 | BJ116: schedule | BL116: 0.59027778 | BV116: schedule | BX116: 0.625 | CH116: schedule | CJ116: 0.66666667 | CT116: schedule | CV116: 0.70833333
B117: TABLE | D117: 17-20 | E117: =Turnisabato!C15 -> Valletta | F117: =Turnisabato!D15 -> Grosseto | G117: =Turnisabato!G15 -> Wiener Neustadt | N117: TABLE | P117: 17-20 | Q117: =Turnisabato!C29 -> Fiamme Azzurre | R117: =Turnisabato!D29 -> Warriors | S117: =Turnisabato!G29 -> Bologna Tigers | Z117: TABLE | AB117: 17-20 | AC117: =Turnisabato!C43 -> Valletta | AD117: =Turnisabato!D43 -> Foggia | AE117: =Turnisabato!G43 -> Tiburones FM | AL117: TABLE | AN117: 17-20 | AO117: =Turnisabato!C57 -> Fiamme Azzurre | AP117: =Turnisabato!D57 -> Sparta Spreeathen | AQ117: =Turnisabato!G57 -> TFC Mattersburg | AX117: TABLE | AZ117: 17-20 | BA117: =Turnisabato!C71 -> Valletta | BB117: =Turnisabato!D71 -> Stradivari 2 | BC117: =Turnisabato!G71 -> Fiamme Azzurre | BJ117: TABLE | BL117: 17-20 | BM117: =Turnisabato!C85 -> Fiamme Azzurre | BN117: =Turnisabato!D85 -> Flickers 2 | BO117: =Turnisabato!G85 -> Valletta | BV117: TABLE | BX117: 17-20 | BY117: =Turnisabato!C99 -> Flickers 2 | BZ117: =Turnisabato!D99 -> Flickers | CA117: =Turnisabato!G99 -> Rochefort TS | CH117: TABLE | CJ117: 17-20 | CK117: =Turnisabato!C113 -> Warriors | CL117: =Turnisabato!D113 -> Ascoli | CM117: =Turnisabato!G113 -> Torino 2009 | CT117: TABLE | CV117: 17-20 | CW117: =Turnisabato!C127 -> Stradivari 2 | CX117: =Turnisabato!D127 -> Stradivari | CY117: =Turnisabato!G127 -> Grosseto
B119: Player 1 | N119: Player 1 | Z119: Player 1 | AL119: Player 1 | AX119: Player 1 | BJ119: Player 1 | BV119: Player 1 | CH119: Player 1 | CT119: Player 1
B120: Player 2 | N120: Player 2 | Z120: Player 2 | AL120: Player 2 | AX120: Player 2 | BJ120: Player 2 | BV120: Player 2 | CH120: Player 2 | CT120: Player 2
B121: Player 3 | N121: Player 3 | Z121: Player 3 | AL121: Player 3 | AX121: Player 3 | BJ121: Player 3 | BV121: Player 3 | CH121: Player 3 | CT121: Player 3
B122: Player 4 | N122: Player 4 | Z122: Player 4 | AL122: Player 4 | AX122: Player 4 | BJ122: Player 4 | BV122: Player 4 | CH122: Player 4 | CT122: Player 4
B124: Substitute 1 | N124: Substitute 1 | Z124: Substitute 1 | AL124: Substitute 1 | AX124: Substitute 1 | BJ124: Substitute 1 | BV124: Substitute 1 | CH124: Substitute 1 | CT124: Substitute 1
B125: Substitute 2 | N125: Substitute 2 | Z125: Substitute 2 | AL125: Substitute 2 | AX125: Substitute 2 | BJ125: Substitute 2 | BV125: Substitute 2 | CH125: Substitute 2 | CT125: Substitute 2
B127: NOTES: | N127: NOTES: | Z127: NOTES: | AL127: NOTES: | AX127: NOTES: | BJ127: NOTES: | BV127: NOTES: | CH127: NOTES: | CT127: NOTES:
E132: TEAM A Signature | Q132: TEAM A Signature | AC132: TEAM A Signature | AO132: TEAM A Signature | BA132: TEAM A Signature | BM132: TEAM A Signature | BY132: TEAM A Signature | CK132: TEAM A Signature | CW132: TEAM A Signature
E133: TEAM B Signature | Q133: TEAM B Signature | AC133: TEAM B Signature | AO133: TEAM B Signature | BA133: TEAM B Signature | BM133: TEAM B Signature | BY133: TEAM B Signature | CK133: TEAM B Signature | CW133: TEAM B Signature
E134: REFEREE Signature | Q134: REFEREE Signature | AC134: REFEREE Signature | AO134: REFEREE Signature | BA134: REFEREE Signature | BM134: REFEREE Signature | BY134: REFEREE Signature | CK134: REFEREE Signature | CW134: REFEREE Signature
E138: XXXIX TORNEO DI NATALE | Q138: XXXIX TORNEO DI NATALE | AC138: XXXIX TORNEO DI NATALE | AO138: XXXIX TORNEO DI NATALE | BA138: XXXIX TORNEO DI NATALE | BM138: XXXIX TORNEO DI NATALE | BY138: XXXIX TORNEO DI NATALE | CK138: XXXIX TORNEO DI NATALE | CW138: XXXIX TORNEO DI NATALE
E139: Team Competition - Milan, 10th december 2016 | Q139: Team Competition - Milan, 10th december 2016 | AC139: Team Competition - Milan, 10th december 2016 | AO139: Team Competition - Milan, 10th december 2016 | BA139: Team Competition - Milan, 10th december 2016 | BM139: Team Competition - Milan, 10th december 2016 | BY139: Team Competition - Milan, 10th december 2016 | CK139: Team Competition - Milan, 10th december 2016 | CW139: Team Competition - Milan, 10th december 2016
B142: 1 | C142: ° ROUND | E142: TEAM A | F142: TEAM B | G142: REFEREE | H142: 1° HALF SCORE | J142: FINAL SCORE | N142: 2 | O142: ° ROUND | Q142: TEAM A | R142: TEAM B | S142: REFEREE | T142: 1° HALF SCORE | V142: FINAL SCORE | Z142: 3 | AA142: ° ROUND | AC142: TEAM A | AD142: TEAM B | AE142: REFEREE | AF142: 1° HALF SCORE | AH142: FINAL SCORE | AL142: 4 | AM142: ° ROUND | AO142: TEAM A | AP142: TEAM B | AQ142: REFEREE | AR142: 1° HALF SCORE | AT142: FINAL SCORE | AX142: 5 | AY142: ° ROUND | BA142: TEAM A | BB142: TEAM B | BC142: REFEREE | BD142: 1° HALF SCORE | BF142: FINAL SCORE | BJ142: 6 | BK142: ° ROUND | BM142: TEAM A | BN142: TEAM B | BO142: REFEREE | BP142: 1° HALF SCORE | BR142: FINAL SCORE | BV142: 7 | BW142: ° ROUND | BY142: TEAM A | BZ142: TEAM B | CA142: REFEREE | CB142: 1° HALF SCORE | CD142: FINAL SCORE | CH142: 8 | CI142: ° ROUND | CK142: TEAM A | CL142: TEAM B | CM142: REFEREE | CN142: 1° HALF SCORE | CP142: FINAL SCORE | CT142: 9 | CU142: ° ROUND | CW142: TEAM A | CX142: TEAM B | CY142: REFEREE | CZ142: 1° HALF SCORE | DB142: FINAL SCORE
B143: schedule | D143: 0.41666667 | N143: schedule | P143: 0.45138889 | Z143: schedule | AB143: 0.48611111 | AL143: schedule | AN143: 0.52083333 | AX143: schedule | AZ143: 0.55555556 | BJ143: schedule | BL143: 0.59027778 | BV143: schedule | BX143: 0.625 | CH143: schedule | CJ143: 0.66666667 | CT143: schedule | CV143: 0.70833333
B144: TABLE | D144: 21-24 | E144: =Turnisabato!C16 -> Foggia | F144: =Turnisabato!D16 -> Stradivari 2 | G144: =Turnisabato!G16 -> Napoli Fighters | N144: TABLE | P144: 21-24 | Q144: =Turnisabato!C30 -> Sparta Spreeathen | R144: =Turnisabato!D30 -> Flickers 2 | S144: =Turnisabato!G30 -> Issy-les-Moulineaux | Z144: TABLE | AB144: 21-24 | AC144: =Turnisabato!C44 -> Grosseto | AD144: =Turnisabato!D44 -> Stradivari 2 | AE144: =Turnisabato!G44 -> Atletico Pisa | AL144: TABLE | AN144: 21-24 | AO144: =Turnisabato!C58 -> Warriors | AP144: =Turnisabato!D58 -> Flickers 2 | AQ144: =Turnisabato!G58 -> Stella Artois | AX144: TABLE | AZ144: 21-24 | BA144: =Turnisabato!C72 -> Foggia | BB144: =Turnisabato!D72 -> Grosseto | BC144: =Turnisabato!G72 -> Sparta Spreeathen | BJ144: TABLE | BL144: 21-24 | BM144: =Turnisabato!C86 -> Sparta Spreeathen | BN144: =Turnisabato!D86 -> Warriors | BO144: =Turnisabato!G86 -> Foggia | BV144: TABLE | BX144: 21-24 | BY144: =Turnisabato!C100 -> Messina TS | BZ144: =Turnisabato!D100 -> Master Sanremo 2 | CA144: =Turnisabato!G100 -> Ascoli | CH144: TABLE | CJ144: 21-24 | CK144: =Turnisabato!C114 -> Stella Artois | CL144: =Turnisabato!D114 -> Wiener Neustadt | CM144: =Turnisabato!G114 -> Flickers | CT144: TABLE | CV144: 21-24 | CW144: =Turnisabato!C128 -> Torino 2009 | CX144: =Turnisabato!D128 -> Virtus 4 Strade | CY144: =Turnisabato!G128 -> Tiburones FM
B146: Player 1 | N146: Player 1 | Z146: Player 1 | AL146: Player 1 | AX146: Player 1 | BJ146: Player 1 | BV146: Player 1 | CH146: Player 1 | CT146: Player 1
B147: Player 2 | N147: Player 2 | Z147: Player 2 | AL147: Player 2 | AX147: Player 2 | BJ147: Player 2 | BV147: Player 2 | CH147: Player 2 | CT147: Player 2
B148: Player 3 | N148: Player 3 | Z148: Player 3 | AL148: Player 3 | AX148: Player 3 | BJ148: Player 3 | BV148: Player 3 | CH148: Player 3 | CT148: Player 3
B149: Player 4 | N149: Player 4 | Z149: Player 4 | AL149: Player 4 | AX149: Player 4 | BJ149: Player 4 | BV149: Player 4 | CH149: Player 4 | CT149: Player 4
B151: Substitute 1 | N151: Substitute 1 | Z151: Substitute 1 | AL151: Substitute 1 | AX151: Substitute 1 | BJ151: Substitute 1 | BV151: Substitute 1 | CH151: Substitute 1 | CT151: Substitute 1
B152: Substitute 2 | N152: Substitute 2 | Z152: Substitute 2 | AL152: Substitute 2 | AX152: Substitute 2 | BJ152: Substitute 2 | BV152: Substitute 2 | CH152: Substitute 2 | CT152: Substitute 2
B154: NOTES: | N154: NOTES: | Z154: NOTES: | AL154: NOTES: | AX154: NOTES: | BJ154: NOTES: | BV154: NOTES: | CH154: NOTES: | CT154: NOTES:
E159: TEAM A Signature | Q159: TEAM A Signature | AC159: TEAM A Signature | AO159: TEAM A Signature | BA159: TEAM A Signature | BM159: TEAM A Signature | BY159: TEAM A Signature | CK159: TEAM A Signature | CW159: TEAM A Signature
E160: TEAM B Signature | Q160: TEAM B Signature | AC160: TEAM B Signature | AO160: TEAM B Signature | BA160: TEAM B Signature | BM160: TEAM B Signature | BY160: TEAM B Signature | CK160: TEAM B Signature | CW160: TEAM B Signature
E161: REFEREE Signature | Q161: REFEREE Signature | AC161: REFEREE Signature | AO161: REFEREE Signature | BA161: REFEREE Signature | BM161: REFEREE Signature | BY161: REFEREE Signature | CK161: REFEREE Signature | CW161: REFEREE Signature
E165: XXXIX TORNEO DI NATALE | Q165: XXXIX TORNEO DI NATALE | AC165: XXXIX TORNEO DI NATALE | AO165: XXXIX TORNEO DI NATALE | BA165: XXXIX TORNEO DI NATALE | BM165: XXXIX TORNEO DI NATALE | BY165: XXXIX TORNEO DI NATALE | CK165: XXXIX TORNEO DI NATALE | CW165: XXXIX TORNEO DI NATALE
E166: Team Competition - Milan, 10th december 2016 | Q166: Team Competition - Milan, 10th december 2016 | AC166: Team Competition - Milan, 10th december 2016 | AO166: Team Competition - Milan, 10th december 2016 | BA166: Team Competition - Milan, 10th december 2016 | BM166: Team Competition - Milan, 10th december 2016 | BY166: Team Competition - Milan, 10th december 2016 | CK166: Team Competition - Milan, 10th december 2016 | CW166: Team Competition - Milan, 10th december 2016
B169: 1 | C169: ° ROUND | E169: TEAM A | F169: TEAM B | G169: REFEREE | H169: 1° HALF SCORE | J169: FINAL SCORE | N169: 2 | O169: ° ROUND | Q169: TEAM A | R169: TEAM B | S169: REFEREE | T169: 1° HALF SCORE | V169: FINAL SCORE | Z169: 3 | AA169: ° ROUND | AC169: TEAM A | AD169: TEAM B | AE169: REFEREE | AF169: 1° HALF SCORE | AH169: FINAL SCORE | AL169: 4 | AM169: ° ROUND | AO169: TEAM A | AP169: TEAM B | AQ169: REFEREE | AR169: 1° HALF SCORE | AT169: FINAL SCORE | AX169: 5 | AY169: ° ROUND | BA169: TEAM A | BB169: TEAM B | BC169: REFEREE | BD169: 1° HALF SCORE | BF169: FINAL SCORE | BJ169: 6 | BK169: ° ROUND | BM169: TEAM A | BN169: TEAM B | BO169: REFEREE | BP169: 1° HALF SCORE | BR169: FINAL SCORE | BV169: 7 | BW169: ° ROUND | BY169: TEAM A | BZ169: TEAM B | CA169: REFEREE | CB169: 1° HALF SCORE | CD169: FINAL SCORE | CH169: 8 | CI169: ° ROUND | CK169: TEAM A | CL169: TEAM B | CM169: REFEREE | CN169: 1° HALF SCORE | CP169: FINAL SCORE | CT169: 9 | CU169: ° ROUND | CW169: TEAM A | CX169: TEAM B | CY169: REFEREE | CZ169: 1° HALF SCORE | DB169: FINAL SCORE
B170: schedule | D170: 0.41666667 | N170: schedule | P170: 0.45138889 | Z170: schedule | AB170: 0.48611111 | AL170: schedule | AN170: 0.52083333 | AX170: schedule | AZ170: 0.55555556 | BJ170: schedule | BL170: 0.59027778 | BV170: schedule | BX170: 0.625 | CH170: schedule | CJ170: 0.66666667 | CT170: schedule | CV170: 0.70833333
B171: TABLE | D171: 25-28 | E171: =Turnisabato!C17 -> Bologna Tigers | F171: =Turnisabato!D17 -> Stradivari | G171: =Turnisabato!G17 -> Virtus 4 Strade | N171: TABLE | P171: 25-28 | Q171: =Turnisabato!C31 -> Wiener Neustadt | R171: =Turnisabato!D31 -> Virtus 4 Strade | S171: =Turnisabato!G31 -> Stradivari | Z171: TABLE | AB171: 25-28 | AC171: =Turnisabato!C45 -> Bologna Tigers | AD171: =Turnisabato!D45 -> Issy-les-Moulineaux | AE171: =Turnisabato!G45 -> Biella 91 | AL171: TABLE | AN171: 25-28 | AO171: =Turnisabato!C59 -> Wiener Neustadt | AP171: =Turnisabato!D59 -> Napoli Fighters | AQ171: =Turnisabato!G59 -> Messina TS | AX171: TABLE | AZ171: 25-28 | BA171: =Turnisabato!C73 -> Bologna Tigers | BB171: =Turnisabato!D73 -> Torino 2009 2 | BC171: =Turnisabato!G73 -> Warriors | BJ171: TABLE | BL171: 25-28 | BM171: =Turnisabato!C87 -> Wiener Neustadt | BN171: =Turnisabato!D87 -> Master Sanremo 2 | BO171: =Turnisabato!G87 -> Grosseto | BV171: TABLE | BX171: 25-28 | BY171: =Turnisabato!C101 -> Foggia | BZ171: =Turnisabato!D101 -> Atletico Pisa | CA171: =Turnisabato!G101 -> Stella Artois | CH171: TABLE | CJ171: 25-28 | CK171: =Turnisabato!C115 -> Valletta | CL171: =Turnisabato!D115 -> Leonessa | CM171: =Turnisabato!G115 -> Messina TS | CT171: TABLE | CV171: 25-28 | CW171: =Turnisabato!C129 -> Flickers | CX171: =Turnisabato!D129 -> Master Sanremo 2 | CY171: =Turnisabato!G129 -> Leonessa
B173: Player 1 | N173: Player 1 | Z173: Player 1 | AL173: Player 1 | AX173: Player 1 | BJ173: Player 1 | BV173: Player 1 | CH173: Player 1 | CT173: Player 1
B174: Player 2 | N174: Player 2 | Z174: Player 2 | AL174: Player 2 | AX174: Player 2 | BJ174: Player 2 | BV174: Player 2 | CH174: Player 2 | CT174: Player 2
B175: Player 3 | N175: Player 3 | Z175: Player 3 | AL175: Player 3 | AX175: Player 3 | BJ175: Player 3 | BV175: Player 3 | CH175: Player 3 | CT175: Player 3
B176: Player 4 | N176: Player 4 | Z176: Player 4 | AL176: Player 4 | AX176: Player 4 | BJ176: Player 4 | BV176: Player 4 | CH176: Player 4 | CT176: Player 4
B178: Substitute 1 | N178: Substitute 1 | Z178: Substitute 1 | AL178: Substitute 1 | AX178: Substitute 1 | BJ178: Substitute 1 | BV178: Substitute 1 | CH178: Substitute 1 | CT178: Substitute 1
...

Sheet Referti Individuali
A1: XXXIX Torneo di Natale - Milan, 11th December 2016 | H1: XXXIX Torneo di Natale - Milan, 11th December 2016 | O1: XXXIX Torneo di Natale - Milan, 11th December 2016 | V1: XXXIX Torneo di Natale - Milan, 11th December 2016 | AC1: XXXIX Torneo di Natale - Milan, 11th December 2016 | AJ1: XXXIX Torneo di Natale - Milan, 11th December 2016 | AQ1: XXXIX Torneo di Natale - Milan, 11th December 2016 | AX1: XXXIX Torneo di Natale - Milan, 11th December 2016 | BE1: XXXIX Torneo di Natale - Milan, 11th December 2016 | BL1: XXXIX Torneo di Natale - Milan, 11th December 2016 | BS1: XXXIX Torneo di Natale - Milan, 11th December 2016 | BZ1: XXXIX Torneo di Natale - Milan, 11th December 2016
A2: Round 2 - Ore 9,50 | H2: Round 1 - Ore 9,00 | O2: Round 4 - Ore 11,30 | V2: Round 3 - Ore 10,40 | AC2: Round 6 - Ore 13,10 | AJ2: Round 5 - Ore 12,20 | AQ2: Round 7 - Ore 14,00 | AX2: Round 8 - Ore 15,00 | BE2: Round 9 - Ore 16,00 | BL2: Round 10 - Ore 17,00 | BS2: Round 11 - Ore 18,00 | BZ2: Round 12 - Ore 19,00
A3: Categoria/Category | B3: Campo/Table | C3: Giocatore/Player A | D3: Giocatore/Player B | E3: Ris./Score | G3: Arbitro/Referee | H3: Categoria/Category | I3: Campo/Table | J3: Giocatore/Player A | K3: Giocatore/Player B | L3: Ris./Score | N3: Arbitro/Referee | O3: Categoria/Category | P3: Campo/Table | Q3: Giocatore/Player A | R3: Giocatore/Player B | S3: Ris./Score | U3: Arbitro/Referee | V3: Categoria/Category | W3: Campo/Table | X3: Giocatore/Player A | Y3: Giocatore/Player B | Z3: Ris./Score | AB3: Arbitro/Referee | AC3: Categoria/Category | AD3: Campo/Table | AE3: Giocatore/Player A | AF3: Giocatore/Player B | AG3: Ris./Score | AI3: Arbitro/Referee | AJ3: Categoria/Category | AK3: Campo/Table | AL3: Giocatore/Player A | AM3: Giocatore/Player B | AN3: Ris./Score | AP3: Arbitro/Referee | AQ3: Categoria/Category | AR3: Campo/Table | AS3: Giocatore/Player A | AT3: Giocatore/Player B | AU3: Ris./Score | AW3: Arbitro/Referee | AX3: Categoria/Category | AY3: Campo/Table | AZ3: Giocatore/Player A | BA3: Giocatore/Player B | BB3: Ris./Score | BD3: Arbitro/Referee | BE3: Categoria/Category | BF3: Campo/Table | BG3: Giocatore/Player A | BH3: Giocatore/Player B | BI3: Ris./Score | BK3: Arbitro/Referee | BL3: Categoria/Category | BM3: Campo/Table | BN3: Giocatore/Player A | BO3: Giocatore/Player B | BP3: Ris./Score | BR3: Arbitro/Referee | BS3: Categoria/Category | BT3: Campo/Table | BU3: Giocatore/Player A | BV3: Giocatore/Player B | BW3: Ris./Score | BY3: Arbitro/Referee | BZ3: Categoria/Category | CA3: Campo/Table | CB3: Giocatore/Player A | CC3: Giocatore/Player B | CD3: Ris./Score | CF3: Arbitro/Referee
A4: =Turnidomenica!A53 -> Open - Girone 1 | B4: =Turnidomenica!B53 -> 1 | C4: =Turnidomenica!C53 -> Juan Noguera | D4: =Turnidomenica!D53 -> Daniele Di Cè | G4: =Turnidomenica!G53 -> Paolo Zambello | H4: =Turnidomenica!A11 -> Open - Girone 10 | I4: =Turnidomenica!B11 -> 1 | J4: =Turnidomenica!C11 -> Bjorn Kegenbein | K4: =Turnidomenica!D11 -> William Dotto | N4: =Turnidomenica!G11 -> Massimiliano Nastasi | O4: =Turnidomenica!A137 -> Open - Girone 1 | P4: =Turnidomenica!B137 -> 1 | Q4: =Turnidomenica!C137 -> Juan Noguera | R4: =Turnidomenica!D137 -> Vito De Benedictis | U4: =Turnidomenica!G137 -> Bjorn Kegenbein | V4: =Turnidomenica!A95 -> Open - Girone 10 | W4: =Turnidomenica!B95 -> 1 | X4: =Turnidomenica!C95 -> Bjorn Kegenbein | Y4: =Turnidomenica!D95 -> Gàbor Baross | AB4: =Turnidomenica!G95 -> Juan Noguera | AC4: =Turnidomenica!A221 -> Open - Girone 1 | AD4: =Turnidomenica!B221 -> 1 | AE4: =Turnidomenica!C221 -> Juan Noguera | AF4: =Turnidomenica!D221 -> Luca Pessini | AI4: =Turnidomenica!G221 -> Michael Stolzenberg | AJ4: =Turnidomenica!A179 -> Open - Girone 10 | AK4: =Turnidomenica!B179 -> 1 | AL4: =Turnidomenica!C179 -> Bjorn Kegenbein | AM4: =Turnidomenica!D179 -> Francesco Gori | AP4: =Turnidomenica!G179 -> Massimo Di Cè | AQ4: =Turnidomenica!A263 -> Open - Barrages | AR4: =Turnidomenica!B263 -> 1 | AS4: =Turnidomenica!C263 -> Sergio Ramos | AT4: =Turnidomenica!D263 -> Marcello Bodin de Chatelard | AW4: =Turnidomenica!G263 -> Alex Iorio | AX4: =Turnidomenica!A303 -> Open - 1/16 di finale | AY4: =Turnidomenica!B303 -> 1 | AZ4: =Turnidomenica!C303 -> Juan Noguera | BA4: =Turnidomenica!D303 -> Sergio Ramos | BD4: =Turnidomenica!G303 -> Giovanni Francavilla | BE4: =Turnidomenica!A345 -> Open - 1/8 di finale | BF4: =Turnidomenica!B345 -> 1 | BG4: =Turnidomenica!C345 -> Juan Noguera | BH4: =Turnidomenica!D345 -> Massimo Cremona | BK4: =Turnidomenica!G345 -> Alessandro Mastropasqua | BL4: =Turnidomenica!A387 -> Open - Quarti di Finale | BM4: =Turnidomenica!B387 -> 1 | BN4: =Turnidomenica!C387 -> Massimo Cremona | BO4: =Turnidomenica!D387 -> Mauro Salvati | BR4: =Turnidomenica!G387 -> Luca Zambello | BS4: =Turnidomenica!A414 -> Open - Semifinali | BT4: =Turnidomenica!B414 -> 1 | BU4: =Turnidomenica!C414 -> Mauro Salvati | BV4: =Turnidomenica!D414 -> Massimiliano Nastasi | BY4: =Turnidomenica!G414 -> Simone Bertelli | BZ4: =Turnidomenica!#REF! -> #REF! | CA4: =Turnidomenica!#REF! -> #REF! | CB4: =Turnidomenica!#REF! -> #REF! | CC4: =Turnidomenica!#REF! -> #REF! | CF4: =Turnidomenica!#REF! -> #REF!
D5: sudden death | G5: shoot out | K5: sudden death | N5: shoot out | R5: sudden death | U5: shoot out | Y5: sudden death | AB5: shoot out | AF5: sudden death | AI5: shoot out | AM5: sudden death | AP5: shoot out | AT5: sudden death | AW5: shoot out | BA5: sudden death | BD5: shoot out | BH5: sudden death | BK5: shoot out | BO5: sudden death | BR5: shoot out | BV5: sudden death | BY5: shoot out | CC5: sudden death | CF5: shoot out
A7: XXXIX Torneo di Natale - Milan, 11th December 2016 | H7: XXXIX Torneo di Natale - Milan, 11th December 2016 | O7: XXXIX Torneo di Natale - Milan, 11th December 2016 | V7: XXXIX Torneo di Natale - Milan, 11th December 2016 | AC7: XXXIX Torneo di Natale - Milan, 11th December 2016 | AJ7: XXXIX Torneo di Natale - Milan, 11th December 2016 | AQ7: XXXIX Torneo di Natale - Milan, 11th December 2016 | AX7: XXXIX Torneo di Natale - Milan, 11th December 2016 | BE7: XXXIX Torneo di Natale - Milan, 11th December 2016 | BL7: XXXIX Torneo di Natale - Milan, 11th December 2016 | BS7: XXXIX Torneo di Natale - Milan, 11th December 2016 | BZ7: XXXIX Torneo di Natale - Milan, 11th December 2016
A8: Round 2 - Ore 9,50 | H8: Round 1 - Ore 9,00 | O8: Round 4 - Ore 11,30 | V8: Round 3 - Ore 10,40 | AC8: Round 6 - Ore 13,10 | AJ8: Round 5 - Ore 12,20 | AQ8: Round 7 - Ore 14,00 | AX8: Round 8 - Ore 15,00 | BE8: Round 9 - Ore 16,00 | BL8: Round 10 - Ore 17,00 | BS8: Round 11 - Ore 18,00 | BZ8: Round 12 - Ore 19,00
A9: Categoria/Category | B9: Campo/Table | C9: Giocatore/Player A | D9: Giocatore/Player B | E9: Ris./Score | G9: Arbitro/Referee | H9: Categoria/Category | I9: Campo/Table | J9: Giocatore/Player A | K9: Giocatore/Player B | L9: Ris./Score | N9: Arbitro/Referee | O9: Categoria/Category | P9: Campo/Table | Q9: Giocatore/Player A | R9: Giocatore/Player B | S9: Ris./Score | U9: Arbitro/Referee | V9: Categoria/Category | W9: Campo/Table | X9: Giocatore/Player A | Y9: Giocatore/Player B | Z9: Ris./Score | AB9: Arbitro/Referee | AC9: Categoria/Category | AD9: Campo/Table | AE9: Giocatore/Player A | AF9: Giocatore/Player B | AG9: Ris./Score | AI9: Arbitro/Referee | AJ9: Categoria/Category | AK9: Campo/Table | AL9: Giocatore/Player A | AM9: Giocatore/Player B | AN9: Ris./Score | AP9: Arbitro/Referee | AQ9: Categoria/Category | AR9: Campo/Table | AS9: Giocatore/Player A | AT9: Giocatore/Player B | AU9: Ris./Score | AW9: Arbitro/Referee | AX9: Categoria/Category | AY9: Campo/Table | AZ9: Giocatore/Player A | BA9: Giocatore/Player B | BB9: Ris./Score | BD9: Arbitro/Referee | BE9: Categoria/Category | BF9: Campo/Table | BG9: Giocatore/Player A | BH9: Giocatore/Player B | BI9: Ris./Score | BK9: Arbitro/Referee | BL9: Categoria/Category | BM9: Campo/Table | BN9: Giocatore/Player A | BO9: Giocatore/Player B | BP9: Ris./Score | BR9: Arbitro/Referee | BS9: Categoria/Category | BT9: Campo/Table | BU9: Giocatore/Player A | BV9: Giocatore/Player B | BW9: Ris./Score | BY9: Arbitro/Referee | BZ9: Categoria/Category | CA9: Campo/Table | CB9: Giocatore/Player A | CC9: Giocatore/Player B | CD9: Ris./Score | CF9: Arbitro/Referee
A10: =Turnidomenica!A54 -> Open - Girone 1 | B10: =Turnidomenica!B54 -> 2 | C10: =Turnidomenica!C54 -> Vito De Benedictis | D10: =Turnidomenica!D54 -> Luca Pessini | G10: =Turnidomenica!G54 -> Marco Bonciani | H10: =Turnidomenica!A12 -> Open - Girone 10 | I10: =Turnidomenica!B12 -> 2 | J10: =Turnidomenica!C12 -> Gàbor Baross | K10: =Turnidomenica!D12 -> Francesco Gori | N10: =Turnidomenica!G12 -> Robert Lenz | O10: =Turnidomenica!A138 -> Open - Girone 1 | P10: =Turnidomenica!B138 -> 2 | Q10: =Turnidomenica!C138 -> Daniele Di Cè | R10: =Turnidomenica!D138 -> Luca Pessini | U10: =Turnidomenica!G138 -> Gàbor Baross | V10: =Turnidomenica!A96 -> Open - Girone 10 | W10: =Turnidomenica!B96 -> 2 | X10: =Turnidomenica!C96 -> William Dotto | Y10: =Turnidomenica!D96 -> Francesco Gori | AB10: =Turnidomenica!G96 -> Vito De Benedictis | AC10: =Turnidomenica!A222 -> Open - Girone 1 | AD10: =Turnidomenica!B222 -> 2 | AE10: =Turnidomenica!C222 -> Vito De Benedictis | AF10: =Turnidomenica!D222 -> Daniele Di Cè | AI10: =Turnidomenica!G222 -> Gerardo Patruno | AJ10: =Turnidomenica!A180 -> Open - Girone 10 | AK10: =Turnidomenica!B180 -> 2 | AL10: =Turnidomenica!C180 -> Gàbor Baross | AM10: =Turnidomenica!D180 -> William Dotto | AP10: =Turnidomenica!G180 -> Mauro Salvati | AQ10: =Turnidomenica!A264 -> Open - Barrages | AR10: =Turnidomenica!B264 -> 2 | AS10: =Turnidomenica!C264 -> Alessandro Mastropasqua | AT10: =Turnidomenica!D264 -> Marco Bonciani | AW10: =Turnidomenica!G264 -> Luca Zambello | AX10: =Turnidomenica!A304 -> Open - 1/16 di finale | AY10: =Turnidomenica!B304 -> 2 | AZ10: =Turnidomenica!C304 -> Massimo Cremona | BA10: =Turnidomenica!D304 -> Edoardo Bellotto | BD10: =Turnidomenica!G304 -> Marcello Bodin de Chatelard | BE10: =Turnidomenica!A346 -> Open - 1/8 di finale | BF10: =Turnidomenica!B346 -> 2 | BG10: =Turnidomenica!C346 -> Mauro Salvati | BH10: =Turnidomenica!D346 -> Emanuele Licheri | BK10: =Turnidomenica!G346 -> Augusto Vagnoni | BL10: =Turnidomenica!A388 -> Open - Quarti di Finale | BM10: =Turnidomenica!B388 -> 2 | BN10: =Turnidomenica!C388 -> Massimiliano Nastasi | BO10: =Turnidomenica!D388 -> Saverio Bari | BR10: =Turnidomenica!G388 -> Marco Midoro | BS10: =Turnidomenica!A415 -> Open - Semifinali | BT10: =Turnidomenica!B415 -> 2 | BU10: =Turnidomenica!C415 -> Jean-Marie Amberny | BV10: =Turnidomenica!D415 -> Luca Battista | BY10: =Turnidomenica!G415 -> Massimo Cremona | BZ10: =Turnidomenica!#REF! -> #REF! | CA10: =Turnidomenica!#REF! -> #REF! | CB10: =Turnidomenica!#REF! -> #REF! | CC10: =Turnidomenica!#REF! -> #REF! | CF10: =Turnidomenica!#REF! -> #REF!
D11: sudden death | G11: shoot out | K11: sudden death | N11: shoot out | R11: sudden death | U11: shoot out | Y11: sudden death | AB11: shoot out | AF11: sudden death | AI11: shoot out | AM11: sudden death | AP11: shoot out | AT11: sudden death | AW11: shoot out | BA11: sudden death | BD11: shoot out | BH11: sudden death | BK11: shoot out | BO11: sudden death | BR11: shoot out | BV11: sudden death | BY11: shoot out | CC11: sudden death | CF11: shoot out
A13: XXXIX Torneo di Natale - Milan, 11th December 2016 | H13: XXXIX Torneo di Natale - Milan, 11th December 2016 | O13: XXXIX Torneo di Natale - Milan, 11th December 2016 | V13: XXXIX Torneo di Natale - Milan, 11th December 2016 | AC13: XXXIX Torneo di Natale - Milan, 11th December 2016 | AJ13: XXXIX Torneo di Natale - Milan, 11th December 2016 | AQ13: XXXIX Torneo di Natale - Milan, 11th December 2016 | AX13: XXXIX Torneo di Natale - Milan, 11th December 2016 | BE13: XXXIX Torneo di Natale - Milan, 11th December 2016 | BL13: XXXIX Torneo di Natale - Milan, 11th December 2016 | BS13: XXXIX Torneo di Natale - Milan, 11th December 2016 | BZ13: XXXIX Torneo di Natale - Milan, 11th December 2016
A14: Round 2 - Ore 9,50 | H14: Round 1 - Ore 9,00 | O14: Round 4 - Ore 11,30 | V14: Round 3 - Ore 10,40 | AC14: Round 6 - Ore 13,10 | AJ14: Round 5 - Ore 12,20 | AQ14: Round 7 - Ore 14,00 | AX14: Round 8 - Ore 15,00 | BE14: Round 9 - Ore 16,00 | BL14: Round 10 - Ore 17,00 | BS14: Round 11 - Ore 18,00 | BZ14: Round 12 - Ore 19,00
